
BEGIN:VCALENDAR
VERSION:2.0
PRODID:-//Family Life Radio - ECPv6.15.20//NONSGML v1.0//EN
CALSCALE:GREGORIAN
METHOD:PUBLISH
X-ORIGINAL-URL:https://myflr.org
X-WR-CALDESC:Events for Family Life Radio
REFRESH-INTERVAL;VALUE=DURATION:PT1H
X-Robots-Tag:noindex
X-PUBLISHED-TTL:PT1H
BEGIN:VTIMEZONE
TZID:America/Phoenix
BEGIN:STANDARD
TZOFFSETFROM:-0700
TZOFFSETTO:-0700
TZNAME:MST
DTSTART:20250101T000000
END:STANDARD
END:VTIMEZONE
BEGIN:VTIMEZONE
TZID:America/Detroit
BEGIN:DAYLIGHT
TZOFFSETFROM:-0500
TZOFFSETTO:-0400
TZNAME:EDT
DTSTART:20250309T070000
END:DAYLIGHT
BEGIN:STANDARD
TZOFFSETFROM:-0400
TZOFFSETTO:-0500
TZNAME:EST
DTSTART:20251102T060000
END:STANDARD
BEGIN:DAYLIGHT
TZOFFSETFROM:-0500
TZOFFSETTO:-0400
TZNAME:EDT
DTSTART:20260308T070000
END:DAYLIGHT
BEGIN:STANDARD
TZOFFSETFROM:-0400
TZOFFSETTO:-0500
TZNAME:EST
DTSTART:20261101T060000
END:STANDARD
BEGIN:DAYLIGHT
TZOFFSETFROM:-0500
TZOFFSETTO:-0400
TZNAME:EDT
DTSTART:20270314T070000
END:DAYLIGHT
BEGIN:STANDARD
TZOFFSETFROM:-0400
TZOFFSETTO:-0500
TZNAME:EST
DTSTART:20271107T060000
END:STANDARD
END:VTIMEZONE
BEGIN:VEVENT
DTSTART;TZID=America/Phoenix:20260314T160000
DTEND;TZID=America/Phoenix:20260314T183000
DTSTAMP:20260421T105042
CREATED:20260225T232710Z
LAST-MODIFIED:20260225T232710Z
UID:10059101-1773504000-1773513000@myflr.org
SUMMARY:PRINCE of EGYPT musical (Tri-State Area)
DESCRIPTION:Christian High School students from the Tri-State area have come together to put on “The Prince of Egypt” at Platteville City Hall. Director Cameo Cartwright and 50 students have been working since January. This is the Dreamworks version\, so it has taken many artistic liberties. Still\, we pray that God will use it to get people into the Word and read the real story. Our programs will also give some Biblical context. Please pray for our students and for our six audiences. Thank you\, and God bless! \nSpecial thanks to the Ringling Theater for donating many props and set pieces. \nMarch 5 at 7pm\nMarch 6 at 7pm\nMarch 7 at 4pm \nMarch 12 at 7pm\nMarch 13 at 7pm\nMarch 14 at 4pm \nhttps://www.ticketsource.com/tri-state-homeschool-performing-arts/the-prince-of-egypt-the-musical/e-dlpqae\nClick the link above to reserve your seats! \nTickets are also available at the door (with no processing fee). $13 for adults\, $7 for students\, and free for lap-child age 3 and under. \nCheck out the “Tri-State Homeschool Network Performing Arts” facebook page!\nhttps://www.facebook.com/TriStateHomeschoolPerformingArts
URL:https://myflr.org/event/prince-of-egypt-musical-tri-state-area/2026-03-14/
LOCATION:Platteville City Hall Auditorium\, 75 N Bonson St\, Platteville\, WI\, 53818\, United States
CATEGORIES:Iowa,Wisconsin
ATTACH;FMTTYPE=image/png:https://eadn-wc05-15902914.nxedge.io/wp-content/uploads/2026/02/PrinceEgypt.highsat-scaled.png
ORGANIZER;CN="Tri-State Homeschool Network Performing Arts":MAILTO:trentandtara@gmail.com
END:VEVENT
BEGIN:VEVENT
DTSTART;TZID=America/Detroit:20260314T160000
DTEND;TZID=America/Detroit:20260314T180000
DTSTAMP:20260421T105042
CREATED:20260120T000615Z
LAST-MODIFIED:20260224T160149Z
UID:10059084-1773504000-1773511200@myflr.org
SUMMARY:PRINCE of EGYPT musical  (Tri-States)
DESCRIPTION:The Tri-State Homeschool Performing Arts present… The Prince of Egypt! \nYou’re invited to come experience the story of Moses through 50 high school students from the Tri-States.\nSing along to “Deliver Us!” and “Through Heaven’s Eyes.” This beautiful collaboration was put together by director Cameo Cartwright and many volunteers. Special thanks to the Ringling Theater in Baraboo for letting us use their set pieces! \nPlease pray that these 6 performances will bless the community. We trust the Holy Spirit to be working on hearts in the audience as they watch Moses and Ramses wrestle with God. Our script is copyrighted by Dreamworks Studio\, so it’s not an exact Biblical account\, but the essence of God’s story is there. Thanks for your prayers and support! \nlocation: Platteville City Hall Auditorium\ntickets available at the door or on ticketsource.com in mid-February\nPerformances are March 5\, 6\, 7\, 12\, 13\, 14
URL:https://myflr.org/event/prince-of-egypt-musical-tri-states/2026-03-14/
LOCATION:Platteville City Hall Auditorium\, 75 N Bonson St\, Platteville\, WI\, 53818\, United States
CATEGORIES:Iowa,Wisconsin
ATTACH;FMTTYPE=image/jpeg:https://eadn-wc05-15902914.nxedge.io/wp-content/uploads/2026/01/PrinceEgyptbanner.jpg
ORGANIZER;CN="TriState Homeschool Performing Arts":MAILTO:trentandtara@gmail.com
END:VEVENT
END:VCALENDAR