
BEGIN:VCALENDAR
VERSION:2.0
PRODID:-//Family Life Radio - ECPv6.15.20//NONSGML v1.0//EN
CALSCALE:GREGORIAN
METHOD:PUBLISH
X-WR-CALNAME:Family Life Radio
X-ORIGINAL-URL:https://myflr.org
X-WR-CALDESC:Events for Family Life Radio
REFRESH-INTERVAL;VALUE=DURATION:PT1H
X-Robots-Tag:noindex
X-PUBLISHED-TTL:PT1H
BEGIN:VTIMEZONE
TZID:America/Phoenix
BEGIN:STANDARD
TZOFFSETFROM:-0700
TZOFFSETTO:-0700
TZNAME:MST
DTSTART:20250101T000000
END:STANDARD
END:VTIMEZONE
BEGIN:VEVENT
DTSTART;TZID=America/Phoenix:20260509T190000
DTEND;TZID=America/Phoenix:20260509T220000
DTSTAMP:20260421T201314
CREATED:20260421T230223Z
LAST-MODIFIED:20260421T230223Z
UID:10060359-1778353200-1778364000@myflr.org
SUMMARY:Tim Hawkins LIVE in Concert
DESCRIPTION:Don’t miss Tim Hawkins live for an evening full of laughter! Known for hysterical songs like “Yoga Pants” and “A Homeschool Family\,” Tim’s humor captures the quirks of family life\, marriage\, and more. Load up the car with friends\, family\, or your small group\, and get ready for a night of fun. Limited VIP tickets are available\, featuring Early Entry\, plus a Meet & Greet and photo with Tim. Don’t miss the chance to experience this event!
URL:https://myflr.org/event/tim-hawkins-live-in-concert-2/
LOCATION:Preforming Arts Center San Luis Obispo\, 1 Grand Ave\, San Luis Obispo\, CA\, 93407\, United States
CATEGORIES:California,Featured
ATTACH;FMTTYPE=image/jpeg:https://eadn-wc05-15902914.nxedge.io/wp-content/uploads/2026/04/TimHawkins_SP26_1080x1080_050926_generic.jpg
END:VEVENT
END:VCALENDAR