
BEGIN:VCALENDAR
VERSION:2.0
PRODID:-//Family Life Radio - ECPv6.15.20//NONSGML v1.0//EN
CALSCALE:GREGORIAN
METHOD:PUBLISH
X-ORIGINAL-URL:https://myflr.org
X-WR-CALDESC:Events for Family Life Radio
REFRESH-INTERVAL;VALUE=DURATION:PT1H
X-Robots-Tag:noindex
X-PUBLISHED-TTL:PT1H
BEGIN:VTIMEZONE
TZID:America/Phoenix
BEGIN:STANDARD
TZOFFSETFROM:-0700
TZOFFSETTO:-0700
TZNAME:MST
DTSTART:20230101T000000
END:STANDARD
END:VTIMEZONE
BEGIN:VEVENT
DTSTART;TZID=America/Phoenix:20240420T100000
DTEND;TZID=America/Phoenix:20240420T150000
DTSTAMP:20260421T193328
CREATED:20240326T195207Z
LAST-MODIFIED:20240326T195207Z
UID:10022909-1713607200-1713625200@myflr.org
SUMMARY:Queens Parish Craft & Vendor Event
DESCRIPTION:Queen of the Miraculous Medal Parish in Jackson\, will host it’s 2nd Annual Craft & Vendor Event on Saturday\, April 20\, from 10:00 am til 3:00 pm. The event will take place in the parish social center located at 811 S. Wisner St. in Jackson. Over 30 vendors\, food\, live music and raffles will entertain you throughout the day! Stop by for unique gifts just in time for Mother’s Day\, Graduations\, First Communion and Anniversaries!
URL:https://myflr.org/event/queens-parish-craft-vendor-event/
LOCATION:Queen of the Miraculous Medal Parish (Jackson\, MI)\, 811 S. Wisner St.\, Jackson\, MI\, 49203\, United States
CATEGORIES:Michigan
ATTACH;FMTTYPE=image/jpeg:https://eadn-wc05-15902914.nxedge.io/wp-content/uploads/2024/03/Queens-Parish-Vendor-Event-04-20-24E.jpg
ORGANIZER;CN="St. Catherine of Siena Circle":MAILTO:blefere@sbcglobal.net
END:VEVENT
END:VCALENDAR