
BEGIN:VCALENDAR
VERSION:2.0
PRODID:-//Family Life Radio - ECPv6.15.20//NONSGML v1.0//EN
CALSCALE:GREGORIAN
METHOD:PUBLISH
X-WR-CALNAME:Family Life Radio
X-ORIGINAL-URL:https://myflr.org
X-WR-CALDESC:Events for Family Life Radio
REFRESH-INTERVAL;VALUE=DURATION:PT1H
X-Robots-Tag:noindex
X-PUBLISHED-TTL:PT1H
BEGIN:VTIMEZONE
TZID:America/Phoenix
BEGIN:STANDARD
TZOFFSETFROM:-0700
TZOFFSETTO:-0700
TZNAME:MST
DTSTART:20230101T000000
END:STANDARD
END:VTIMEZONE
BEGIN:VEVENT
DTSTART;TZID=America/Phoenix:20240819T180000
DTEND;TZID=America/Phoenix:20240823T114500
DTSTAMP:20260421T141825
CREATED:20240627T185516Z
LAST-MODIFIED:20240826T130751Z
UID:10030259-1724090400-1724413500@myflr.org
SUMMARY:Breaker Rock Vacation Bible School – Southgate
DESCRIPTION:Join us at Breaker Rock Beach® where every day is an adventure\, from the morning waves crashing against the shore to evenings filled with bonfires and s’mores! Catch a glimpse of an orca leaping through the surf or watch happy sea lions playing among the rocks beneath magnificent pines. Race along the sand with your brightly colored kite\, join friends to make the most amazing sandcastle\, or gaze in wonder at the mysteries found in a glimmering tide pool. As the crowds come and go and the tides ebb and flow\, Breaker Rock rises majestically as a symbol of strength\, standing firm against the force of wind and waves. We can stand strong\, too\, when we stand on God’s rock-solid truth.\nFree Event\nGrades 1-6\nRegister Online\nhttps://redeeminggracesouthgate.churchcenter.com/…/2336891
URL:https://myflr.org/event/breaker-rock-vacation-bible-school-southgate/
LOCATION:Redeeming Grace Of Southgate\, 15700 Leroy St\, Southgate\, MI\, 48195\, United States
ATTACH;FMTTYPE=image/png:https://eadn-wc05-15902914.nxedge.io/wp-content/uploads/2024/06/Vbs-Flyer.png
END:VEVENT
END:VCALENDAR