
BEGIN:VCALENDAR
VERSION:2.0
PRODID:-//Family Life Radio - ECPv6.15.20//NONSGML v1.0//EN
CALSCALE:GREGORIAN
METHOD:PUBLISH
X-WR-CALNAME:Family Life Radio
X-ORIGINAL-URL:https://myflr.org
X-WR-CALDESC:Events for Family Life Radio
REFRESH-INTERVAL;VALUE=DURATION:PT1H
X-Robots-Tag:noindex
X-PUBLISHED-TTL:PT1H
BEGIN:VTIMEZONE
TZID:America/Phoenix
BEGIN:STANDARD
TZOFFSETFROM:-0700
TZOFFSETTO:-0700
TZNAME:MST
DTSTART:20230101T000000
END:STANDARD
END:VTIMEZONE
BEGIN:VEVENT
DTSTART;TZID=America/Phoenix:20240621T180000
DTEND;TZID=America/Phoenix:20240621T213000
DTSTAMP:20260421T100639
CREATED:20240521T203924Z
LAST-MODIFIED:20240521T203924Z
UID:10026502-1718992800-1719005400@myflr.org
SUMMARY:Cox Movies in the Park
DESCRIPTION:This weekend: Cox Movies in the Park! Your favorite summer cinema series continues. \nCox Communications announces the return of ‘Movies in the Park’\, now hosted in three Southern Arizona cities from May 10 – June 29. Open to all\, enjoy a movie in Tucson\, Benson\, or Sierra Vista under the stars free of charge. Pre-screening activities and entertainment will begin at 6 p.m. for attendees to enjoy before the movie starts at 7:45 p.m. (dusk). \nTucson Schedule: \n· Migration – Friday\, May 24 \n· Wish – Friday\, June 7 \n· Trolls Band Together – Friday\, June 21 \nWhere: Reid Park\, George DeMeester Outdoor Performance Theater \n900 S. Randolph Way\, Tucson\, AZ 85719. \nEnter the park off South Country Club Road. \nBenson Schedule: \n· Lilo and Stitch – Saturday\, June 1 \n· Wish – Saturday\, June 29 \nWhere: Lions Park Softball Fields \n200-298 W. Pearl St\, Benson\, AZ 85602. \nSierra Vista Schedule: \n· The Marvels – Saturday\, June 8 \n· Aquaman and the Lost Kingdom – Saturday\, June 15 \n· The Little Mermaid (2023) – Saturday\, June 22 \nWhere: Veterans Memorial Park \n3105 E Fry Blvd Sierra Vista\, Arizona 85635 \nWhy it matters: “At our core\, Cox is an entertainment company with a long history of connecting our Southern Arizona communities\,” said Lisa Lovallo\, Southern Arizona Market Vice President\, Cox Communications. “We are thrilled to expand Movies in the Park this summer beyond Tucson to include the communities of Sierra Vista and Benson. We invite area residents to join us for evenings of free outdoor cinema\, laughter\, and togetherness\,” she added. \nDiving Deeper: When the sun goes down\, the 40-foot-tall screen goes up. Get pumped for food trucks\, live demonstrations\, free giveaways\, and other engaging activities that add to the festive atmosphere. From heartwarming dramas to thrilling adventures\, there will be something for everyone to enjoy. Folks are encouraged to make themselves comfortable by bringing blankets\, lawn chairs and picnic baskets – just no fires or grilling! \nCox Movies in the Park has greatly evolved from projecting films on an improvised bed sheet screen in 2003 to becoming an integral part of Southern Arizona’s summer fun. For more information visit www.coxmoviesinthepark.com. \nAbout Cox Communications \nCox Communications is committed to creating meaningful moments of human connection through technology. As the largest private broadband company in America\, we operate fiber-powered networks in more than 30 states\, providing connections and advanced managed IT and cloud services for nearly seven million homes and businesses nationwide.  In Arizona\, Cox generates nearly $5.5 billion in total economic impact annually and the 3\,100 Arizona employees of Cox are proud to have volunteered more than 51\,000 hours each year in the communities where we live and work. We’re dedicated to empowering others to build a better future and celebrate diverse products\, people\, suppliers\, communities and the characteristics that make each one unique. Cox Communications is the largest division of Cox Enterprises\, a family-owned business founded in 1898 by Governor James M. Cox. \nThe commercial division of Cox Communications\, Cox Business\, provides a broad commercial solutions portfolio\, including advanced managed IT\, cloud and fiber-based network solutions that support connected environments\, unique hospitality experiences and diverse applications for nearly 370\,000 businesses nationwide. For more information\, please visit www.coxbusiness.com.
URL:https://myflr.org/event/cox-movies-in-the-park/2024-06-21/
LOCATION:Reid Park\, George DeMeester Outdoor Performance Theater\, 900 S. Randolph Way\, Tucson\, AZ\, 85719\, United States
CATEGORIES:Arizona
ATTACH;FMTTYPE=image/jpeg:https://eadn-wc05-15902914.nxedge.io/wp-content/uploads/2024/05/Migration-poster.jpg
END:VEVENT
BEGIN:VEVENT
DTSTART;VALUE=DATE:20240511
DTEND;VALUE=DATE:20240701
DTSTAMP:20260421T100639
CREATED:20240426T171845Z
LAST-MODIFIED:20240506T161353Z
UID:10024734-1715385600-1719791999@myflr.org
SUMMARY:Cox Communications ‘Movies in the Park’
DESCRIPTION:Guess What’s Back and Getting Bigger than ever?!?!?!  Cox Movies in the Park!\nYour favorite summer cinema series begins Friday\, May 10 \nNow hosted in three Southern Arizona cities from May 10 – June 29. Open to all\, enjoy a movie in Tucson\, Benson\, or Sierra Vista under the stars free of charge. Pre-screening activities and entertainment will begin at 6 p.m. for attendees to enjoy before the movie starts at 7:45 p.m. (dusk). \nTucson Schedule: \n· Wonka – Friday\, May 10 \n· Migration – Friday\, May 24 \n· Wish – Friday\, June 7 \n· Trolls Band Together – Friday\, June 21 \nWhere: Reid Park\, George DeMeester Outdoor Performance Theater\n900 S. Randolph Way\, Tucson\, AZ 85719.\nEnter the park off South Country Club Road. \n  \nBenson Schedule: \n· Lilo and Stitch – Saturday\, June 1 \n· Wish – Saturday\, June 29 \nWhere: Lions Park Softball Fields\n200-298 W. Pearl St\, Benson\, AZ 85602. \n  \nSierra Vista Schedule: \n· Guardians of the Galaxy Vol. 3 – Saturday\, May 18 \n· The Marvels – Saturday\, June 8\n· Aquaman and the Lost Kingdom – Saturday\, June 15\n· The Little Mermaid (2023) – Saturday\, June 22\nWhere: Veterans Memorial Park\n3105 E Fry Blvd Sierra Vista\, Arizona 85635 \n  \nWhy it matters: “At our core\, Cox is an entertainment company with a long history of connecting our Southern Arizona communities\,” said Lisa Lovallo\, Southern Arizona Market Vice President\, Cox Communications. “We are thrilled to expand Movies in the Park this summer beyond Tucson to include the communities of Sierra Vista and Benson. We invite area residents to join us for evenings of free outdoor cinema\, laughter\, and togetherness\,” she added. \nDiving Deeper: When the sun goes down\, the 40-foot-tall screen goes up. Get pumped for food trucks\, live demonstrations\, free giveaways\, and other engaging activities that add to the festive atmosphere. From heartwarming dramas to thrilling adventures\, there will be something for everyone to enjoy. Folks are encouraged to make themselves comfortable by bringing blankets\, lawn chairs and picnic baskets – just no fires or grilling! Cox Movies in the Park has greatly evolved from projecting films on an improvised bed sheet screen in 2003 to becoming an integral part of Southern Arizona’s summer fun. For more information visit www.coxmoviesinthepark.com. \nFor more information\, please visit www.coxbusiness.com.  
URL:https://myflr.org/event/cox-communications-movies-in-the-park/
LOCATION:Reid Park\, George DeMeester Outdoor Performance Theater\, 900 S. Randolph Way\, Tucson\, AZ\, 85719\, United States
CATEGORIES:Arizona
ATTACH;FMTTYPE=image/jpeg:https://eadn-wc05-15902914.nxedge.io/wp-content/uploads/2024/04/Wonka_final.jpg
END:VEVENT
END:VCALENDAR