
BEGIN:VCALENDAR
VERSION:2.0
PRODID:-//Family Life Radio - ECPv6.15.20//NONSGML v1.0//EN
CALSCALE:GREGORIAN
METHOD:PUBLISH
X-WR-CALNAME:Family Life Radio
X-ORIGINAL-URL:https://myflr.org
X-WR-CALDESC:Events for Family Life Radio
REFRESH-INTERVAL;VALUE=DURATION:PT1H
X-Robots-Tag:noindex
X-PUBLISHED-TTL:PT1H
BEGIN:VTIMEZONE
TZID:America/Phoenix
BEGIN:STANDARD
TZOFFSETFROM:-0700
TZOFFSETTO:-0700
TZNAME:MST
DTSTART:20220101T000000
END:STANDARD
END:VTIMEZONE
BEGIN:VEVENT
DTSTART;TZID=America/Phoenix:20231007T150000
DTEND;TZID=America/Phoenix:20231007T190000
DTSTAMP:20260419T221719
CREATED:20230918T234132Z
LAST-MODIFIED:20230918T234132Z
UID:10015316-1696690800-1696705200@myflr.org
SUMMARY:Tables and Testimonies
DESCRIPTION:Join Teen Challenge for this free community event!\nWe will have many resources tables set up\, live worship\, testimonies and prayer.\nFree food!\nFree Clothing\nFree hygiene items\nAnd so much fun for the whole family!
URL:https://myflr.org/event/tables-and-testimonies/
LOCATION:Reid Park Ramada 20 + 22 (Tucson\, AZ)\, 900 S. Randolph Way\, Tucson\, AZ\, 85716\, United States
CATEGORIES:Arizona
ATTACH;FMTTYPE=image/png:https://eadn-wc05-15902914.nxedge.io/wp-content/uploads/2023/09/Matthew-2819-2.png
END:VEVENT
BEGIN:VEVENT
DTSTART;TZID=America/Phoenix:20230513T060000
DTEND;TZID=America/Phoenix:20230513T110000
DTSTAMP:20260419T221719
CREATED:20230303T142943Z
LAST-MODIFIED:20230303T194238Z
UID:10007744-1683957600-1683975600@myflr.org
SUMMARY:Annual Fallen Officer Memorial – Official 5k + Touch-A-Truck Event
DESCRIPTION:The Erik Hite Foundation is excited to bring back our annual 5K and Touch the Truck Event in person this year! Join us and run or walk for those who have served\, are serving now and those who have given their lives to preserve our freedoms. Our event will be fun for all ages with an official 5K for those that are competitive. We will have vendors\, kids crafts\, face painting\, jumping castles and vehicles from various law enforcement departments and local businesses. All of the funds raised with this event will benefit the childcare center expansion capital campaign. \nRegister today: https://secure.qgiv.com/event/ehf5k2milewalktouchatruck/register/form/registration
URL:https://myflr.org/event/annual-fallen-officer-memorial-official-5k-touch-a-truck-event/
LOCATION:Reid Park Ramada 20 + 22 (Tucson\, AZ)\, 900 S. Randolph Way\, Tucson\, AZ\, 85716\, United States
CATEGORIES:Arizona
ATTACH;FMTTYPE=image/jpeg:https://eadn-wc05-15902914.nxedge.io/wp-content/uploads/2023/02/UPDATED-FLYER-1-scaled.jpg
END:VEVENT
END:VCALENDAR