
BEGIN:VCALENDAR
VERSION:2.0
PRODID:-//Family Life Radio - ECPv6.15.20//NONSGML v1.0//EN
CALSCALE:GREGORIAN
METHOD:PUBLISH
X-WR-CALNAME:Family Life Radio
X-ORIGINAL-URL:https://myflr.org
X-WR-CALDESC:Events for Family Life Radio
REFRESH-INTERVAL;VALUE=DURATION:PT1H
X-Robots-Tag:noindex
X-PUBLISHED-TTL:PT1H
BEGIN:VTIMEZONE
TZID:America/Phoenix
BEGIN:STANDARD
TZOFFSETFROM:-0700
TZOFFSETTO:-0700
TZNAME:MST
DTSTART:20250101T000000
END:STANDARD
END:VTIMEZONE
BEGIN:VEVENT
DTSTART;TZID=America/Phoenix:20260322T180000
DTEND;TZID=America/Phoenix:20260322T193000
DTSTAMP:20260421T104507
CREATED:20260324T230852Z
LAST-MODIFIED:20260324T230852Z
UID:10059965-1774202400-1774207800@myflr.org
SUMMARY:East Valley Chorale Concert
DESCRIPTION:Enjoy sacred music sung by the 75 member East Valley Chorale who have been entertaining audiences and praising the Lord for over 20 years! The concert is free and no tickets required; free will offering taken. Join us and sing along!
URL:https://myflr.org/event/east-valley-chorale-concert/
LOCATION:Reserve at Lost Dutchman\, 400 N Plaza Dr\, Apache Junction\, 85120\, United States
CATEGORIES:Arizona
ATTACH;FMTTYPE=image/png:https://eadn-wc05-15902914.nxedge.io/wp-content/uploads/2026/03/IMG_6346.png
ORGANIZER;CN="East Valley Chorale":MAILTO:eastvalleychorale@cox.net
END:VEVENT
END:VCALENDAR