
BEGIN:VCALENDAR
VERSION:2.0
PRODID:-//Family Life Radio - ECPv6.15.20//NONSGML v1.0//EN
CALSCALE:GREGORIAN
METHOD:PUBLISH
X-WR-CALNAME:Family Life Radio
X-ORIGINAL-URL:https://myflr.org
X-WR-CALDESC:Events for Family Life Radio
REFRESH-INTERVAL;VALUE=DURATION:PT1H
X-Robots-Tag:noindex
X-PUBLISHED-TTL:PT1H
BEGIN:VTIMEZONE
TZID:America/Phoenix
BEGIN:STANDARD
TZOFFSETFROM:-0700
TZOFFSETTO:-0700
TZNAME:MST
DTSTART:20230101T000000
END:STANDARD
END:VTIMEZONE
BEGIN:VEVENT
DTSTART;TZID=America/Phoenix:20240821T100000
DTEND;TZID=America/Phoenix:20240821T150000
DTSTAMP:20260421T153943
CREATED:20240719T234954Z
LAST-MODIFIED:20240719T234954Z
UID:10031185-1724234400-1724252400@myflr.org
SUMMARY:PLANT Connect – Community Swim Party
DESCRIPTION:Home Educating Swim Party \nHome Educators from all all over the metro area are invited to join us for fun and fellowship. \nBring your lunch\, towel\, sunscreen and toys and plan to spend the day lounging by the pool\, swimming\, playing volleyball or throwing the football. \nThis is a private event. Pre-registration is required. We would like everyone to be able to come\, but the facilities have asked us not to collect at the door so please register! \n$10/person or $25/immediate family \nWe are offering a deep discount for families but please do not abuse it. You may bring home educated kids that are not your own (i.e. live in a separate household) but they must register under their own family name.
URL:https://myflr.org/event/plant-connect-community-swim-party/
LOCATION:Riverpoint Sports and Wellness\, 9190 Coors Blvd NW\, Albuquerque\, NM\, 87120\, United States
CATEGORIES:New Mexico
ATTACH;FMTTYPE=image/jpeg:https://eadn-wc05-15902914.nxedge.io/wp-content/uploads/2024/07/PLANT-Connect-ABQ-Metro-2024.2-3.jpg
ORGANIZER;CN="Parent Led Academic Network Team%2C Inc.":MAILTO:parentlednetwork@centurylink.net
END:VEVENT
END:VCALENDAR