
BEGIN:VCALENDAR
VERSION:2.0
PRODID:-//Family Life Radio - ECPv6.15.20//NONSGML v1.0//EN
CALSCALE:GREGORIAN
METHOD:PUBLISH
X-WR-CALNAME:Family Life Radio
X-ORIGINAL-URL:https://myflr.org
X-WR-CALDESC:Events for Family Life Radio
REFRESH-INTERVAL;VALUE=DURATION:PT1H
X-Robots-Tag:noindex
X-PUBLISHED-TTL:PT1H
BEGIN:VTIMEZONE
TZID:America/Phoenix
BEGIN:STANDARD
TZOFFSETFROM:-0700
TZOFFSETTO:-0700
TZNAME:MST
DTSTART:20220101T000000
END:STANDARD
END:VTIMEZONE
BEGIN:VEVENT
DTSTART;TZID=America/Phoenix:20231224T110000
DTEND;TZID=America/Phoenix:20231224T123000
DTSTAMP:20260419T223835
CREATED:20231127T203644Z
LAST-MODIFIED:20231127T203644Z
UID:10018614-1703415600-1703421000@myflr.org
SUMMARY:Rock Church – Christmas Eve Service (Fair Haven)
DESCRIPTION:We would like to invite you to “Circle Back to Christmas”! Join us as we explore what Christmas in the past\, present\, and future! \nWe have three identical service times for you to choose from!\nSaturday\, December 23rd at 3:00 PM\nSunday\, December 24th at 9:00 AM or 11:00 AM
URL:https://myflr.org/event/rock-church-christmas-eve-service-fair-haven/2023-12-24/2/
LOCATION:Rock Church\, 6135 County Line Rd.\, Fair Haven\, MI\, 48023\, United States
CATEGORIES:Michigan
ATTACH;FMTTYPE=image/jpeg:https://eadn-wc05-15902914.nxedge.io/wp-content/uploads/2023/11/medium_image-1700063280562.jpg
END:VEVENT
END:VCALENDAR