
BEGIN:VCALENDAR
VERSION:2.0
PRODID:-//Family Life Radio - ECPv6.15.20//NONSGML v1.0//EN
CALSCALE:GREGORIAN
METHOD:PUBLISH
X-ORIGINAL-URL:https://myflr.org
X-WR-CALDESC:Events for Family Life Radio
REFRESH-INTERVAL;VALUE=DURATION:PT1H
X-Robots-Tag:noindex
X-PUBLISHED-TTL:PT1H
BEGIN:VTIMEZONE
TZID:America/Phoenix
BEGIN:STANDARD
TZOFFSETFROM:-0700
TZOFFSETTO:-0700
TZNAME:MST
DTSTART:20230101T000000
END:STANDARD
END:VTIMEZONE
BEGIN:VEVENT
DTSTART;TZID=America/Phoenix:20251206T100000
DTEND;TZID=America/Phoenix:20251206T120000
DTSTAMP:20260421T135134
CREATED:20251113T214813Z
LAST-MODIFIED:20251113T214813Z
UID:10057309-1765015200-1765022400@myflr.org
SUMMARY:Cookies and Cocoa with Santa-Toy Drop-Off Event (Midland)
DESCRIPTION:🎅 Cookies & Cocoa with Santa – Toy Drop-Off Community Event \nSaturday\, December 6th10 AM – 12 PM📍 RockHound Stadium-5514 Champions\nDr \nJoin us for a joyful morning of cookies\, cocoa\, Christmas music\, and photos with Santa — all while blessing local at-risk youth (ages 4–18) through Mission Agape! \n🧸 Bring a New Toy or GiftYour donation will help kids and families experience the love of Jesus this Christmas. \n✨ Event Highlights:• Free Santa photos courtesy of 88.1 FM Family Life Radio• Christmas music & fun giveaways• Family reindeer games• Warm cocoa\, cookies & community joy \n💻 Amazon Wish List: https://bit.ly/4p1cAhm \nCan’t make the Toy Drop off Event? \n📍 Toy Drop-Off Location (NEW Mission Agape Headquarters!)4415 Thomason DrMidland\, TX 79703 \nLearn more: https://www.missionagapewtx.org/christmasblessing/
URL:https://myflr.org/event/cookies-and-cocoa-with-santa-toy-drop-off-event-midland/
LOCATION:Rockhounds Stadium\, 5514 Champions Dr\, Midland\, TX\, 79706\, United States
CATEGORIES:Featured,Texas
ATTACH;FMTTYPE=image/jpeg:https://eadn-wc05-15902914.nxedge.io/wp-content/uploads/2025/11/Cookies-Cocoa-with-FLR-Rockhounds-2025-002-scaled.jpg
ORGANIZER;CN="Mission Agape":MAILTO:sbaccus@missionagapewtx.org
END:VEVENT
BEGIN:VEVENT
DTSTART;TZID=America/Phoenix:20241116T100000
DTEND;TZID=America/Phoenix:20241116T120000
DTSTAMP:20260421T135134
CREATED:20241025T184954Z
LAST-MODIFIED:20241025T184954Z
UID:10037360-1731751200-1731758400@myflr.org
SUMMARY:Cookies & Cocoa with Santa Free Event-(Midland)
DESCRIPTION:Family Life Radio 88.1 FM and Mission Agape present\, \nCookies & Cocoa with Santa!\nSaturday\, November 16\, 2024 \n10:00am-12:00pm \nRockhounds Stadium \n5514 Champions Dr \nMidland\, TX  79706 \n432-599-9123 \nThe event is free and open to the public\, but we’re asking for a toy donation for a boy or girl\, ages 4-18 to benefit Mission Agape Christmas’ event for Midland children this year! \nThere will be games on the field\, refreshments\, and of course\, Santa! \nToys can be dropped off at the Rockhounds on November 16th from 10 AM to noon.                                                  If someone can’t make it that day\, you can still donate by dropping the toy off at the Golf Course Road Church of Christ office\, at 3500 W. Golf Course Road Midland\, TX  79703  (432)-694-8836 \nThank you for making an impact for Jesus in these Kids lives at Christmas!
URL:https://myflr.org/event/cookies-cocoa-with-santa-free-event-midland/
LOCATION:Rockhounds Stadium\, 5514 Champions Dr\, Midland\, TX\, 79706\, United States
CATEGORIES:Featured,Texas
ATTACH;FMTTYPE=application/pdf:https://eadn-wc05-15902914.nxedge.io/wp-content/uploads/2024/10/Red-and-Green-Santa-Claus-Meet-and-Greet-Christmas-Event-Poster-MIDLAND.TX-2024.pdf
ORGANIZER;CN="Mission Agape":MAILTO:sbaccus@missionagapewtx.org
END:VEVENT
END:VCALENDAR