
BEGIN:VCALENDAR
VERSION:2.0
PRODID:-//Family Life Radio - ECPv6.15.20//NONSGML v1.0//EN
CALSCALE:GREGORIAN
METHOD:PUBLISH
X-ORIGINAL-URL:https://myflr.org
X-WR-CALDESC:Events for Family Life Radio
REFRESH-INTERVAL;VALUE=DURATION:PT1H
X-Robots-Tag:noindex
X-PUBLISHED-TTL:PT1H
BEGIN:VTIMEZONE
TZID:America/Detroit
BEGIN:DAYLIGHT
TZOFFSETFROM:-0500
TZOFFSETTO:-0400
TZNAME:EDT
DTSTART:20240310T070000
END:DAYLIGHT
BEGIN:STANDARD
TZOFFSETFROM:-0400
TZOFFSETTO:-0500
TZNAME:EST
DTSTART:20241103T060000
END:STANDARD
BEGIN:DAYLIGHT
TZOFFSETFROM:-0500
TZOFFSETTO:-0400
TZNAME:EDT
DTSTART:20250309T070000
END:DAYLIGHT
BEGIN:STANDARD
TZOFFSETFROM:-0400
TZOFFSETTO:-0500
TZNAME:EST
DTSTART:20251102T060000
END:STANDARD
BEGIN:DAYLIGHT
TZOFFSETFROM:-0500
TZOFFSETTO:-0400
TZNAME:EDT
DTSTART:20260308T070000
END:DAYLIGHT
BEGIN:STANDARD
TZOFFSETFROM:-0400
TZOFFSETTO:-0500
TZNAME:EST
DTSTART:20261101T060000
END:STANDARD
END:VTIMEZONE
BEGIN:VEVENT
DTSTART;TZID=America/Detroit:20250913T193000
DTEND;TZID=America/Detroit:20250913T223000
DTSTAMP:20260421T110452
CREATED:20250717T193105Z
LAST-MODIFIED:20250723T123638Z
UID:10049207-1757791800-1757802600@myflr.org
SUMMARY:Elevation Rhythm The Goodbye Yesterday Tour with Bodie - Royal Oak
DESCRIPTION:This fall\, ELEVATION RHYTHM hits the road for their first-ever headlining run—The Goodbye Yesterday Tour—inspired by their brand-new album\, Victory Lap.\nFresh off a sold-out tour with Forrest Frank (215K+ in attendance) and a performance at the K-LOVE Fan Awards\, RHYTHM is stepping into a new season with music that’s full of hope. Victory Lap features songs like “Goodbye Yesterday” and “At the Altar” and paints a picture of what it means to run with Jesus—through questions\, breakthroughs\, and the quiet in between. Most of the album was recorded live in one take\, and now that same energy is coming to the stage. \nThis won’t feel like a typical concert. It’s a night to sing loud\, dance freely\, and worship the One who gave us the victory. With RHYTHM’s genre-bending sound and straight-up passion\, this isn’t just another tour—it’s a chance to let go of what’s behind and step into what’s next. \nLet go of what was. Embrace what’s ahead. Say goodbye to yesterday. \n\nDeluxe\n\nIncludes Early Entry and pre-show Q&A experience. Deluxe doors open at 5:15pm\, event begins at 7:30pm.\n\n\n\nEarly Entry\n\nSeating is general admission – first come\, first served with early entry at 6:10pm. Regular doors open at 6:30pm\, event begins at 7:30pm. You must arrive by 6:10pm to have guaranteed early entrance.\n\n\n\nGeneral Admission\n\nSeating is general admission – first come\, first served. Doors open at 6:30pm\, event begins at 7:30pm.\n\n  \nSCHEDULE (subject to change):\n5:15PM – Deluxe doors open\n6:10PM – Early Entry doors open\n6:30PM – General Admission doors open\n7:30PM – Event begins
URL:https://myflr.org/event/elevation-rhythm-the-goodbye-yesterday-tour-with-bodie-royal-oak/
LOCATION:Royal Oak Music Theatre (Royal Oak\, MI)\, 318 W 4th St\, Royal Oak\, MI\, 48067\, United States
CATEGORIES:Featured,Michigan
ATTACH;FMTTYPE=image/jpeg:https://eadn-wc05-15902914.nxedge.io/wp-content/uploads/2025/07/Royal-Oak-MI-GBY_1080x1080.jpg
ORGANIZER;CN="TPR Live":MAILTO:info@tprlive.co
END:VEVENT
BEGIN:VEVENT
DTSTART;TZID=America/Detroit:20250403T180000
DTEND;TZID=America/Detroit:20250403T210000
DTSTAMP:20260421T110452
CREATED:20250117T152404Z
LAST-MODIFIED:20250117T152404Z
UID:10038809-1743703200-1743714000@myflr.org
SUMMARY:JEREMY CAMP – THESE DAYS TOUR – ROYAL OAK
DESCRIPTION:Tickets and info @ https://www.axs.com/events/790123/jeremy-camp-tickets \nBetween 2002 and 2024\, Jeremy has released twelve albums\, five of them RIAA- certified as Gold. He has sold over 6 million albums with 43 #1 singles across all formats. His music has earned him numerous awards and nominations across the Christian and secular music industries\, including five GMA Dove Awards\, Grammy nomination\, three American Music Award nominations\, and four ASCAP Songwriter of the Year Awards. Camp was named Billboard’s #2 Christian artist of the decade as well. Outside of music\, in 2020 Jeremy had an international theatrical movie release called “I Still Believe” which hit #1 in the box office opening weekend. The film depicted his life story of love and loss of his first wife after a battle with cancer. Camp has always written songs about his experiences and continues to write from the deep places of his heart.
URL:https://myflr.org/event/jeremy-camp-these-days-tour-royal-oak/
LOCATION:Royal Oak Music Theatre (Royal Oak\, MI)\, 318 W 4th St\, Royal Oak\, MI\, 48067\, United States
CATEGORIES:Featured,Michigan
ATTACH;FMTTYPE=image/jpeg:https://eadn-wc05-15902914.nxedge.io/wp-content/uploads/2025/01/Jeremy-Camp-1x1-1.jpg
END:VEVENT
END:VCALENDAR