
BEGIN:VCALENDAR
VERSION:2.0
PRODID:-//Family Life Radio - ECPv6.15.20//NONSGML v1.0//EN
CALSCALE:GREGORIAN
METHOD:PUBLISH
X-WR-CALNAME:Family Life Radio
X-ORIGINAL-URL:https://myflr.org
X-WR-CALDESC:Events for Family Life Radio
REFRESH-INTERVAL;VALUE=DURATION:PT1H
X-Robots-Tag:noindex
X-PUBLISHED-TTL:PT1H
BEGIN:VTIMEZONE
TZID:America/Detroit
BEGIN:DAYLIGHT
TZOFFSETFROM:-0500
TZOFFSETTO:-0400
TZNAME:EDT
DTSTART:20240310T070000
END:DAYLIGHT
BEGIN:STANDARD
TZOFFSETFROM:-0400
TZOFFSETTO:-0500
TZNAME:EST
DTSTART:20241103T060000
END:STANDARD
BEGIN:DAYLIGHT
TZOFFSETFROM:-0500
TZOFFSETTO:-0400
TZNAME:EDT
DTSTART:20250309T070000
END:DAYLIGHT
BEGIN:STANDARD
TZOFFSETFROM:-0400
TZOFFSETTO:-0500
TZNAME:EST
DTSTART:20251102T060000
END:STANDARD
BEGIN:DAYLIGHT
TZOFFSETFROM:-0500
TZOFFSETTO:-0400
TZNAME:EDT
DTSTART:20260308T070000
END:DAYLIGHT
BEGIN:STANDARD
TZOFFSETFROM:-0400
TZOFFSETTO:-0500
TZNAME:EST
DTSTART:20261101T060000
END:STANDARD
END:VTIMEZONE
BEGIN:VEVENT
DTSTART;TZID=America/Detroit:20251101T171500
DTEND;TZID=America/Detroit:20251101T210000
DTSTAMP:20260421T132623
CREATED:20250602T133924Z
LAST-MODIFIED:20250602T133924Z
UID:10045767-1762017300-1762030800@myflr.org
SUMMARY:The Peaceful Poetic Place music & poetry series - Royal Oak
DESCRIPTION:VOCALISTS + FEATURED ARTISTS + VENDORS & MORE \nhost: Natasha Beautiful Thought\, award-winning host & spoken word artist\nco-host: Adonis Jamison\, founder & lead mime – God’s Work Through Mime \nLIVE BAND:\nGene Alexander – grand piano\, Nkosi Mason – guitar & sax\, Tommie Walker – keys\nJorell McNair – percussion & djembe\, William Callimese – bass guitar \nDo not miss A MONTH!\nTELL Someone about The Peaceful Poetic Place\, bring them with you.
URL:https://myflr.org/event/the-peaceful-poetic-place-music-poetry-series-royal-oak/2025-11-01/
LOCATION:Royal Oak Woman’s Club\, 404 S. Pleasant St\, Royal Oak\, MI\, United States
CATEGORIES:Michigan
ATTACH;FMTTYPE=image/jpeg:https://eadn-wc05-15902914.nxedge.io/wp-content/uploads/2025/05/THEP3-2025-SAVE-DATE.jpg
ORGANIZER;CN="CONSULTING BY ANEE":MAILTO:peacefulpoeticplace@gmail.com
END:VEVENT
END:VCALENDAR