
BEGIN:VCALENDAR
VERSION:2.0
PRODID:-//Family Life Radio - ECPv6.15.20//NONSGML v1.0//EN
CALSCALE:GREGORIAN
METHOD:PUBLISH
X-WR-CALNAME:Family Life Radio
X-ORIGINAL-URL:https://myflr.org
X-WR-CALDESC:Events for Family Life Radio
REFRESH-INTERVAL;VALUE=DURATION:PT1H
X-Robots-Tag:noindex
X-PUBLISHED-TTL:PT1H
BEGIN:VTIMEZONE
TZID:America/Phoenix
BEGIN:STANDARD
TZOFFSETFROM:-0700
TZOFFSETTO:-0700
TZNAME:MST
DTSTART:20230101T000000
END:STANDARD
END:VTIMEZONE
BEGIN:VEVENT
DTSTART;TZID=America/Phoenix:20240405T063000
DTEND;TZID=America/Phoenix:20240405T203000
DTSTAMP:20260421T201224
CREATED:20240405T183917Z
LAST-MODIFIED:20240405T183917Z
UID:10022915-1712298600-1712349000@myflr.org
SUMMARY:Luke5Adventures Tucson Awareness Evening & Documentary Film Premiere
DESCRIPTION:Free Event! Luke5Adventures Tucson Awareness Evening and Film Premiere of The Grand Canyon Hike of a Lifetime Documentary “To the Bottom & Back”.\nCome early\, grab a hot dog and some popcorn\, and get a good seat to learn about our amazing organization and then watch the 16-minute documentary!\nThere will be a Q&A session after with some of the L5A Tucson Sherpas (volunteers) who were a part of Brian’s amazing Grand Canyon Hike of a Lifetime Team!
URL:https://myflr.org/event/luke5adventures-tucson-awareness-evening-documentary-film-premiere/
LOCATION:Saguaro Canyon Church\, 10111 E Old Spanish Trail\, Tucson\, AZ\, 85748\, United States
CATEGORIES:Arizona
ATTACH;FMTTYPE=image/png:https://eadn-wc05-15902914.nxedge.io/wp-content/uploads/2024/03/L5AT-Documentary-Film-Awareness-Flyer.png
ORGANIZER;CN="Luke5Adventures Tucson":MAILTO:fran.emmerling@luke5adventures.org
END:VEVENT
END:VCALENDAR