
BEGIN:VCALENDAR
VERSION:2.0
PRODID:-//Family Life Radio - ECPv6.15.20//NONSGML v1.0//EN
CALSCALE:GREGORIAN
METHOD:PUBLISH
X-ORIGINAL-URL:https://myflr.org
X-WR-CALDESC:Events for Family Life Radio
REFRESH-INTERVAL;VALUE=DURATION:PT1H
X-Robots-Tag:noindex
X-PUBLISHED-TTL:PT1H
BEGIN:VTIMEZONE
TZID:America/Detroit
BEGIN:DAYLIGHT
TZOFFSETFROM:-0500
TZOFFSETTO:-0400
TZNAME:EDT
DTSTART:20240310T070000
END:DAYLIGHT
BEGIN:STANDARD
TZOFFSETFROM:-0400
TZOFFSETTO:-0500
TZNAME:EST
DTSTART:20241103T060000
END:STANDARD
BEGIN:DAYLIGHT
TZOFFSETFROM:-0500
TZOFFSETTO:-0400
TZNAME:EDT
DTSTART:20250309T070000
END:DAYLIGHT
BEGIN:STANDARD
TZOFFSETFROM:-0400
TZOFFSETTO:-0500
TZNAME:EST
DTSTART:20251102T060000
END:STANDARD
BEGIN:DAYLIGHT
TZOFFSETFROM:-0500
TZOFFSETTO:-0400
TZNAME:EDT
DTSTART:20260308T070000
END:DAYLIGHT
BEGIN:STANDARD
TZOFFSETFROM:-0400
TZOFFSETTO:-0500
TZNAME:EST
DTSTART:20261101T060000
END:STANDARD
END:VTIMEZONE
BEGIN:VEVENT
DTSTART;TZID=America/Detroit:20250823T090000
DTEND;TZID=America/Detroit:20250823T150000
DTSTAMP:20260421T172846
CREATED:20250811T163425Z
LAST-MODIFIED:20250811T163425Z
UID:10049249-1755939600-1755961200@myflr.org
SUMMARY:Bay City MI Craft Fair / Fundraiser
DESCRIPTION:I am Major Rick Ray of The Salvation Army in Bay City MI.\nWe will be hosting a craft fair fundraiser on Saturday August 23rd 9:00AM to 3:00PM. Venders rent a space to cell their crafts.\nThe space rental will be used to purchase gifts for teens this Christmas.\nThere will also be a silent auction\, money from auction will be used to purchase gifts also.\nThis is a fundraiser used to purchase gifts for teenagers that are often overlooked.\nThe goal is to raise $3\,000 dollars. We are also looking for public figures to sit in the dunk tank.\nI would like to see if a radio personnel would be willing to attend and sit in our dunk tank to take a splash to help raise funds.\nDunk tank fees: $1.00 a throw or 4 tries for $3.00. \nEvent: Craft Fair / Fundraiser for Christmas gifts for teens\nDate: August 23rd 9:00AM to 3:00PM\nPlace: The Salvation Army 401 10th St. Bay City MI. (parking Lot)\nContact: Andrea Gephart / Deon Wickman 989-893-3041 Ext: 305 or 306\nEmail:\nRkick.Ray@usc.salvationarmy.org\nDeon.wickman@usc.salvationarmy.org\nAndrea.Geghart@usc.salvationarmy.org \nThank you for considering this event.
URL:https://myflr.org/event/bay-city-mi-craft-fair-fundraiser/
LOCATION:Salvation Army (Bay City\, MI)\, 401 10th St.\, Bay City\, MI\, 48708\, United States
CATEGORIES:Michigan
ORGANIZER;CN="The Salvation Army Bay City MI":MAILTO:Rick.Ray@usc.salvationarmy.org
END:VEVENT
END:VCALENDAR