
BEGIN:VCALENDAR
VERSION:2.0
PRODID:-//Family Life Radio - ECPv6.15.20//NONSGML v1.0//EN
CALSCALE:GREGORIAN
METHOD:PUBLISH
X-WR-CALNAME:Family Life Radio
X-ORIGINAL-URL:https://myflr.org
X-WR-CALDESC:Events for Family Life Radio
REFRESH-INTERVAL;VALUE=DURATION:PT1H
X-Robots-Tag:noindex
X-PUBLISHED-TTL:PT1H
BEGIN:VTIMEZONE
TZID:America/Phoenix
BEGIN:STANDARD
TZOFFSETFROM:-0700
TZOFFSETTO:-0700
TZNAME:MST
DTSTART:20240101T000000
END:STANDARD
END:VTIMEZONE
BEGIN:VEVENT
DTSTART;TZID=America/Phoenix:20251017T180000
DTEND;TZID=America/Phoenix:20251017T210000
DTSTAMP:20260421T195628
CREATED:20250915T195521Z
LAST-MODIFIED:20250915T195521Z
UID:10054063-1760724000-1760734800@myflr.org
SUMMARY:Fall for Life - Desert Rose Women's Resource Center Annual Banquet
DESCRIPTION:Rooted Together in Love!\nFor the past 15 years\, Desert Rose Women’s Resource Center has established roots in the Santa Fe and Rio Arriba Counties by providing our\nservices free of charge to those seeking help at a time of decision in their lives. We cannot provide services free of charge without supporters like\nyou! It is due to community generosity providing financial support\, that our roots are established and we can cover our patients with the care they\nneed.
URL:https://myflr.org/event/fall-for-life-desert-rose-womens-resource-center-annual-banquet/
LOCATION:Santa Fe Convention Center\, 201 W Marcy St\, Santa Fe\, NM\, 87501\, United States
CATEGORIES:New Mexico
ATTACH;FMTTYPE=image/jpeg:https://eadn-wc05-15902914.nxedge.io/wp-content/uploads/2025/09/banner-01.jpg
ORGANIZER;CN="Desert Rose Women's Resource Center":MAILTO:support@desertrosewrc.com
END:VEVENT
END:VCALENDAR