
BEGIN:VCALENDAR
VERSION:2.0
PRODID:-//Family Life Radio - ECPv6.15.20//NONSGML v1.0//EN
CALSCALE:GREGORIAN
METHOD:PUBLISH
X-ORIGINAL-URL:https://myflr.org
X-WR-CALDESC:Events for Family Life Radio
REFRESH-INTERVAL;VALUE=DURATION:PT1H
X-Robots-Tag:noindex
X-PUBLISHED-TTL:PT1H
BEGIN:VTIMEZONE
TZID:America/Phoenix
BEGIN:STANDARD
TZOFFSETFROM:-0700
TZOFFSETTO:-0700
TZNAME:MST
DTSTART:20220101T000000
END:STANDARD
END:VTIMEZONE
BEGIN:VEVENT
DTSTART;TZID=America/Phoenix:20250914T140000
DTEND;TZID=America/Phoenix:20250914T170000
DTSTAMP:20260421T202502
CREATED:20250903T135054Z
LAST-MODIFIED:20250903T135054Z
UID:10051530-1757858400-1757869200@myflr.org
SUMMARY:Free Arts for Abused Children of Arizona and Dance Theater West Present Storybook Ballet 2025: Peter Pan
DESCRIPTION:Free Arts for Abused Children of Arizona (Free Arts) and Dance Theatre West are partnering to bring Storybook Ballet 2025: Peter Pan to the community on Sunday\, September 14 from 2:00 to 5:00 p.m. Foster care children and teens\, ages 8 – 18 years old\, will be performing with Dance Theatre West.  This free dance performance is lighthearted\, fun and perfect for the entire family. \n“Each year\, our collaboration with Dance Theatre West becomes more impactful\,” said Matt Sandoval\, Executive Director of Free Arts. “This year’s performance is a powerful reminder of what’s possible when young people are given the chance to express themselves. The courage and creativity our participants showed on stage is a direct reflection of the care\, guidance\, and inspiration they receive from our longtime partners at Dance Theatre West.” \nThe event will be held on September 14 at Scottsdale Center for the Performing Arts\, located at 7380 East 2nd Street\, Scottsdale\, AZ.  The exhibit gallery will open at 2:00 p.m.\, the dance performance at 3 p.m. and a community art activity will take place at 4 p.m.  This program is possible through generous support from Scottsdale Center for the Performing Arts\, The Bob & Renee Parsons Foundation\, Valley of the Sun United Way\, Suzie Silverman\, and Dance Theater West. \nIn addition to the performance\, professional teaching artistsFrancisco Garcia (visual arts)\, DJ Dimension (music)\, Steve Price (spoken word)\, Shelly Love (photography) and Denise Garcia (visual arts) spent several weeks with the other children from our partner agencies to explore Peter Pan themes through visual arts workshops in Free Arts Professional Artist Series Program.  Before and after the performance\, their final exhibits will be on display in the lobby. \nThe performance is free to attend to RSVP visit: https://freeartsaz.org/storybook-ballet-2025/ \nAbout Free Arts for Abused Children of Arizona \nFounded in 1993\, Free Arts for Abused Children of Arizona is a non-profit organization that transforms children’s trauma to resilience through the arts. Free Arts programs include creative elements that promote safety\, self-expression\, and a sense of belonging. Free Arts programs are delivered by 900 volunteer mentors and artists who serve more than 7\,000 children annually through partnerships with 43 social service child welfare agencies at 120+ sites across Maricopa County. For more information on Free Arts for Abused Children of Arizona and its programs\, please visit www.freeartsaz.org.
URL:https://myflr.org/event/free-arts-for-abused-children-of-arizona-and-dance-theater-west-present-storybook-ballet-2025-peter-pan/
LOCATION:Scottsdale Center for the Performing Arts\, 7380 E. 2nd St.\, Scottsdale\, AZ\, 85251\, United States
CATEGORIES:Arizona
ATTACH;FMTTYPE=image/jpeg:https://eadn-wc05-15902914.nxedge.io/wp-content/uploads/2025/09/SBB-9.15-7.jpeg
END:VEVENT
BEGIN:VEVENT
DTSTART;VALUE=DATE:20231202
DTEND;VALUE=DATE:20231203
DTSTAMP:20260421T202502
CREATED:20230630T004721Z
LAST-MODIFIED:20230630T004721Z
UID:10011318-1701475200-1701561599@myflr.org
SUMMARY:Full Circle: The Be Kind People Project’s Annual Gala
DESCRIPTION:Full Circle\, The Be Kind People Project’s Annual Gala\, raises money for the Be Kind People Project to deliver character education to help children thrive emotionally and academically and to help them build respectful and responsible interpersonal relationships and social skills. FULL CIRCLE will be held at Scottsdale Performing arts Center this year which will include hors devours\, beverages\, and a dynamic onstage production by THE BE KIND CREW®. Find out more at https://thebekindpeopleproject.org/full-circle/
URL:https://myflr.org/event/full-circle-the-be-kind-people-projects-annual-gala-2/
LOCATION:Scottsdale Center for the Performing Arts\, 7380 E. 2nd St.\, Scottsdale\, AZ\, 85251\, United States
CATEGORIES:Arizona
ATTACH;FMTTYPE=image/png:https://eadn-wc05-15902914.nxedge.io/wp-content/uploads/2023/06/Screenshot-2023-06-07-at-9.51.23-AM.png
ORGANIZER;CN="Be Kind":MAILTO:alexis.huerter@gmail.com
END:VEVENT
BEGIN:VEVENT
DTSTART;TZID=America/Phoenix:20231202T000000
DTEND;TZID=America/Phoenix:20231202T000000
DTSTAMP:20260421T202502
CREATED:20230613T193047Z
LAST-MODIFIED:20230613T193047Z
UID:10010607-1701475200-1701475200@myflr.org
SUMMARY:Full Circle: The Be Kind People Project’s Annual Gala
DESCRIPTION:The Be Kind People Project’s annual gala will take place on Saturday\, December 2\, 2023. FULL CIRCLE includes a dynamic onstage production by THE BE KIND CREW. The event raises money to deliver character education to help children thrive emotionally and academically and to help them build respectful and responsible interpersonal relationships and social skills.
URL:https://myflr.org/event/full-circle-the-be-kind-people-projects-annual-gala/
LOCATION:Scottsdale Center for the Performing Arts\, 7380 E. 2nd St.\, Scottsdale\, AZ\, 85251\, United States
ATTACH;FMTTYPE=image/png:https://eadn-wc05-15902914.nxedge.io/wp-content/uploads/2023/06/Screenshot-2023-06-07-at-11.29.35-AM.png
END:VEVENT
END:VCALENDAR