
BEGIN:VCALENDAR
VERSION:2.0
PRODID:-//Family Life Radio - ECPv6.15.20//NONSGML v1.0//EN
CALSCALE:GREGORIAN
METHOD:PUBLISH
X-ORIGINAL-URL:https://myflr.org
X-WR-CALDESC:Events for Family Life Radio
REFRESH-INTERVAL;VALUE=DURATION:PT1H
X-Robots-Tag:noindex
X-PUBLISHED-TTL:PT1H
BEGIN:VTIMEZONE
TZID:America/Phoenix
BEGIN:STANDARD
TZOFFSETFROM:-0700
TZOFFSETTO:-0700
TZNAME:MST
DTSTART:20220101T000000
END:STANDARD
END:VTIMEZONE
BEGIN:VEVENT
DTSTART;TZID=America/Phoenix:20231021T110000
DTEND;TZID=America/Phoenix:20231021T160000
DTSTAMP:20260421T150619
CREATED:20230913T181533Z
LAST-MODIFIED:20230913T181533Z
UID:10015321-1697886000-1697904000@myflr.org
SUMMARY:Fall Festival feat. Jonny Diaz & Worship EXPLOSION! w/thurane
DESCRIPTION:Missions & ministry info \nRSVP Now – Reserved Seating only for the inside event portion of the Festival\n…and inside the Fellowship Hall:Doors Open @ 11amWorship EXPLOSION! w/thurane 11:30am – 12:30pmJonny Diaz (Breathe\, More Beautiful You) concert 12:30 – 1:30pm____________________________________________Community Baptism (in the Foyer) from 12 – 1:30pm…a great time for the whole family!* a freewill Offering will be included with the Concert indoors
URL:https://myflr.org/event/fall-festival-feat-jonny-diaz-worship-explosion-w-thurane/
LOCATION:SCW CHRISTIAN CHURCH\, 20803 N 151st Ave\, Sun City West\, AZ\, 85375\, United States
CATEGORIES:Arizona
END:VEVENT
END:VCALENDAR