
BEGIN:VCALENDAR
VERSION:2.0
PRODID:-//Family Life Radio - ECPv6.15.20//NONSGML v1.0//EN
CALSCALE:GREGORIAN
METHOD:PUBLISH
X-WR-CALNAME:Family Life Radio
X-ORIGINAL-URL:https://myflr.org
X-WR-CALDESC:Events for Family Life Radio
REFRESH-INTERVAL;VALUE=DURATION:PT1H
X-Robots-Tag:noindex
X-PUBLISHED-TTL:PT1H
BEGIN:VTIMEZONE
TZID:America/Detroit
BEGIN:DAYLIGHT
TZOFFSETFROM:-0500
TZOFFSETTO:-0400
TZNAME:EDT
DTSTART:20240310T070000
END:DAYLIGHT
BEGIN:STANDARD
TZOFFSETFROM:-0400
TZOFFSETTO:-0500
TZNAME:EST
DTSTART:20241103T060000
END:STANDARD
BEGIN:DAYLIGHT
TZOFFSETFROM:-0500
TZOFFSETTO:-0400
TZNAME:EDT
DTSTART:20250309T070000
END:DAYLIGHT
BEGIN:STANDARD
TZOFFSETFROM:-0400
TZOFFSETTO:-0500
TZNAME:EST
DTSTART:20251102T060000
END:STANDARD
BEGIN:DAYLIGHT
TZOFFSETFROM:-0500
TZOFFSETTO:-0400
TZNAME:EDT
DTSTART:20260308T070000
END:DAYLIGHT
BEGIN:STANDARD
TZOFFSETFROM:-0400
TZOFFSETTO:-0500
TZNAME:EST
DTSTART:20261101T060000
END:STANDARD
END:VTIMEZONE
BEGIN:VEVENT
DTSTART;TZID=America/Detroit:20250727T160000
DTEND;TZID=America/Detroit:20250727T190000
DTSTAMP:20260421T132604
CREATED:20250512T163353Z
LAST-MODIFIED:20250610T135107Z
UID:10041099-1753632000-1753642800@myflr.org
SUMMARY:Praise In the Park with Brandon Heath - Farmington
DESCRIPTION:Another Way Pregnancy Center (AWPC) is hosting a FREE worship concert with Brandon Heath! Spend the afternoon praising God with our amazing SE Michigan community. Bring your lawn chairs or picnic blankets to claim your spot for an amazing musical experience\, enjoy free family-friendly activities\, visit the tables hosted by local businesses and organizations\, and purchase some dinner from the many food vendors at the park. \nPlease consider donating a baby item as your admission to the event. These items will become part of AWPC’s baby boutique and go to the wonderful families participating in our support programs. You can see a list of current needs at https://awpcfriends.org/donate-items.
URL:https://myflr.org/event/praise-in-the-park-farmington/
LOCATION:Shiawassee Park\, Shiawassee St\, Farmington\, MI\, 48336\, United States
CATEGORIES:Featured,Michigan
ATTACH;FMTTYPE=image/jpeg:https://eadn-wc05-15902914.nxedge.io/wp-content/uploads/2025/05/PraiseInThePark.jpg
ORGANIZER;CN="Another Way Pregnancy Center":MAILTO:asstdirector@awpc4life.com
END:VEVENT
END:VCALENDAR