
BEGIN:VCALENDAR
VERSION:2.0
PRODID:-//Family Life Radio - ECPv6.15.20//NONSGML v1.0//EN
CALSCALE:GREGORIAN
METHOD:PUBLISH
X-ORIGINAL-URL:https://myflr.org
X-WR-CALDESC:Events for Family Life Radio
REFRESH-INTERVAL;VALUE=DURATION:PT1H
X-Robots-Tag:noindex
X-PUBLISHED-TTL:PT1H
BEGIN:VTIMEZONE
TZID:America/Detroit
BEGIN:DAYLIGHT
TZOFFSETFROM:-0500
TZOFFSETTO:-0400
TZNAME:EDT
DTSTART:20240310T070000
END:DAYLIGHT
BEGIN:STANDARD
TZOFFSETFROM:-0400
TZOFFSETTO:-0500
TZNAME:EST
DTSTART:20241103T060000
END:STANDARD
BEGIN:DAYLIGHT
TZOFFSETFROM:-0500
TZOFFSETTO:-0400
TZNAME:EDT
DTSTART:20250309T070000
END:DAYLIGHT
BEGIN:STANDARD
TZOFFSETFROM:-0400
TZOFFSETTO:-0500
TZNAME:EST
DTSTART:20251102T060000
END:STANDARD
BEGIN:DAYLIGHT
TZOFFSETFROM:-0500
TZOFFSETTO:-0400
TZNAME:EDT
DTSTART:20260308T070000
END:DAYLIGHT
BEGIN:STANDARD
TZOFFSETFROM:-0400
TZOFFSETTO:-0500
TZNAME:EST
DTSTART:20261101T060000
END:STANDARD
END:VTIMEZONE
BEGIN:VTIMEZONE
TZID:America/Phoenix
BEGIN:STANDARD
TZOFFSETFROM:-0700
TZOFFSETTO:-0700
TZNAME:MST
DTSTART:20220101T000000
END:STANDARD
END:VTIMEZONE
BEGIN:VEVENT
DTSTART;TZID=America/Detroit:20251214T190000
DTEND;TZID=America/Detroit:20251214T200000
DTSTAMP:20260421T141837
CREATED:20251203T213119Z
LAST-MODIFIED:20251203T213119Z
UID:10057799-1765738800-1765742400@myflr.org
SUMMARY:A Rockin' Royal Christmas
DESCRIPTION:Join us for a refreshing look at the Christmas story through the eyes of Sherlock Watson\, a young detective assigned by King Herod to find the wise men who never returned. Will he find them? Will he learn why they never returned? This is a free event for everyone!
URL:https://myflr.org/event/a-rockin-royal-christmas/2025-12-14/2/
LOCATION:Shield of Faith Ministries (Saginaw\, MI)\, 10322 Swan Creek Rd\, Saginaw\, MI\, 48609\, United States
CATEGORIES:Michigan
ORGANIZER;CN="Jenny Deweese":MAILTO:sof@sofsaginaw.org
END:VEVENT
BEGIN:VEVENT
DTSTART;TZID=America/Phoenix:20241215T190000
DTEND;TZID=America/Phoenix:20241215T200000
DTSTAMP:20260421T141837
CREATED:20241213T164450Z
LAST-MODIFIED:20241213T164450Z
UID:10037573-1734289200-1734292800@myflr.org
SUMMARY:An Out-of-the-Box Christmas
DESCRIPTION:What do cowboys\, super heroes\, cheerleaders\, and pirates have to do with Christmas? Join us to be blessed by this unconventional presentation of the Christmas message–you won’t soon forget it!
URL:https://myflr.org/event/an-out-of-the-box-christmas/2024-12-15/2/
LOCATION:Shield of Faith Ministries (Saginaw\, MI)\, 10322 Swan Creek Rd\, Saginaw\, MI\, 48609\, United States
CATEGORIES:Michigan
ATTACH;FMTTYPE=image/jpeg:https://eadn-wc05-15902914.nxedge.io/wp-content/uploads/2024/12/out-of-box-Christmas-scaled.jpg
END:VEVENT
BEGIN:VEVENT
DTSTART;TZID=America/Phoenix:20231224T180000
DTEND;TZID=America/Phoenix:20231224T190000
DTSTAMP:20260421T141837
CREATED:20231221T035313Z
LAST-MODIFIED:20231221T035313Z
UID:10018725-1703440800-1703444400@myflr.org
SUMMARY:Shield Of Faith Ministries Christmes Eve Service
DESCRIPTION:It’s the most wonderful night of the year! Come on out to our candlelight Christmas Eve service! it will be a time of worship\, word\, and reflecting on all Jesus has done for us.
URL:https://myflr.org/event/shield-of-faith-ministries-christmes-eve-service/
LOCATION:Shield of Faith Ministries (Saginaw\, MI)\, 10322 Swan Creek Rd\, Saginaw\, MI\, 48609\, United States
CATEGORIES:Michigan
ORGANIZER;CN="Shield of Faith Ministries (Saginaw%2C MI)":MAILTO:sof@sofsaginaw.com
END:VEVENT
END:VCALENDAR