
BEGIN:VCALENDAR
VERSION:2.0
PRODID:-//Family Life Radio - ECPv6.15.20//NONSGML v1.0//EN
CALSCALE:GREGORIAN
METHOD:PUBLISH
X-ORIGINAL-URL:https://myflr.org
X-WR-CALDESC:Events for Family Life Radio
REFRESH-INTERVAL;VALUE=DURATION:PT1H
X-Robots-Tag:noindex
X-PUBLISHED-TTL:PT1H
BEGIN:VTIMEZONE
TZID:America/Detroit
BEGIN:DAYLIGHT
TZOFFSETFROM:-0500
TZOFFSETTO:-0400
TZNAME:EDT
DTSTART:20240310T070000
END:DAYLIGHT
BEGIN:STANDARD
TZOFFSETFROM:-0400
TZOFFSETTO:-0500
TZNAME:EST
DTSTART:20241103T060000
END:STANDARD
BEGIN:DAYLIGHT
TZOFFSETFROM:-0500
TZOFFSETTO:-0400
TZNAME:EDT
DTSTART:20250309T070000
END:DAYLIGHT
BEGIN:STANDARD
TZOFFSETFROM:-0400
TZOFFSETTO:-0500
TZNAME:EST
DTSTART:20251102T060000
END:STANDARD
BEGIN:DAYLIGHT
TZOFFSETFROM:-0500
TZOFFSETTO:-0400
TZNAME:EDT
DTSTART:20260308T070000
END:DAYLIGHT
BEGIN:STANDARD
TZOFFSETFROM:-0400
TZOFFSETTO:-0500
TZNAME:EST
DTSTART:20261101T060000
END:STANDARD
END:VTIMEZONE
BEGIN:VEVENT
DTSTART;TZID=America/Detroit:20250802T090000
DTEND;TZID=America/Detroit:20250802T120000
DTSTAMP:20260421T093030
CREATED:20250630T134203Z
LAST-MODIFIED:20250630T134203Z
UID:10047638-1754125200-1754136000@myflr.org
SUMMARY:Outback VBS
DESCRIPTION:The Somerset Congregational Church will be hosting “Outback” Vacation Bible School\nFri\, Aug 1 from 6:00 to 8:00 pm &\nSat\, Aug 2 from 9:00 am to 12:00 pm \nVBS will include songs\, games\, crafts\, snacks and teaching times.\nVBS is open to ages 3 to 11 yrs old. \nThe church is located at 10449 N. Somerset Rd\, Somerset\, MI.\nParents can register their children at https://www.somersetchurch.com/vbs-registration/ or calling 517-547-7732.
URL:https://myflr.org/event/outback-vbs/2025-08-02/
LOCATION:Somerset Congregational Church (Somerset\, MI)\, 10449 N. Somerset Rd\, Somerset\, MI\, 49281\, United States
CATEGORIES:Michigan
ATTACH;FMTTYPE=image/png:https://eadn-wc05-15902914.nxedge.io/wp-content/uploads/2025/06/OutbackRockLogo_LR-1.png
END:VEVENT
END:VCALENDAR