
BEGIN:VCALENDAR
VERSION:2.0
PRODID:-//Family Life Radio - ECPv6.15.20//NONSGML v1.0//EN
CALSCALE:GREGORIAN
METHOD:PUBLISH
X-ORIGINAL-URL:https://myflr.org
X-WR-CALDESC:Events for Family Life Radio
REFRESH-INTERVAL;VALUE=DURATION:PT1H
X-Robots-Tag:noindex
X-PUBLISHED-TTL:PT1H
BEGIN:VTIMEZONE
TZID:America/Phoenix
BEGIN:STANDARD
TZOFFSETFROM:-0700
TZOFFSETTO:-0700
TZNAME:MST
DTSTART:20220101T000000
END:STANDARD
END:VTIMEZONE
BEGIN:VEVENT
DTSTART;TZID=America/Phoenix:20240420T190000
DTEND;TZID=America/Phoenix:20240420T210000
DTSTAMP:20260420T152112
CREATED:20231117T214501Z
LAST-MODIFIED:20240108T220445Z
UID:10018517-1713639600-1713646800@myflr.org
SUMMARY:Tim Hawkins-Live In Concert 2024-SOLD OUT!
DESCRIPTION:SOLD OUT!\nTim Hawkins-Live in Concert \nSouthcrest Baptist Church-Lubbock\, TX \nSaturday\, April 20th\, 2024 \nTickets  are available HERE
URL:https://myflr.org/event/tim-hawkins-live-in-concert-2024/
LOCATION:Southcrest Baptist Church (Lubbock\, TX)\, 3801 S Loop 289\, Lubbock\, TX\, 79423\, United States
CATEGORIES:Featured,Texas
ATTACH;FMTTYPE=image/jpeg:https://eadn-wc05-15902914.nxedge.io/wp-content/uploads/2023/11/TimHawkins_SP24_1080x1080_042024_generic.jpg
END:VEVENT
BEGIN:VEVENT
DTSTART;TZID=America/Phoenix:20231114T180000
DTEND;TZID=America/Phoenix:20240207T200000
DTSTAMP:20260420T152112
CREATED:20230809T214454Z
LAST-MODIFIED:20230809T214454Z
UID:10013532-1699984800-1707336000@myflr.org
SUMMARY:REBOOT
DESCRIPTION:REBOOT is a 12-week\, faith-based trauma healing course designed to help those who deal with trauma/PTSD\, including Combat\, EMS\, Police\, Nurses\, Doctors\, and First Responders. We meet every Tuesday for 12 weeks from 6–8 pm\, Aug 22–Nov 15. In-person or via Zoom\, this class is for the whole family and is led by people with similar experiences. This is not a support group\, but a course from which you can graduate.
URL:https://myflr.org/event/reboot/2023-11-14/
LOCATION:Southcrest Baptist Church (Lubbock\, TX)\, 3801 S Loop 289\, Lubbock\, TX\, 79423\, United States
CATEGORIES:Texas
ATTACH;FMTTYPE=image/png:https://eadn-wc05-15902914.nxedge.io/wp-content/uploads/2023/08/Reboot-Launch-2023.png
END:VEVENT
END:VCALENDAR