
BEGIN:VCALENDAR
VERSION:2.0
PRODID:-//Family Life Radio - ECPv6.15.20//NONSGML v1.0//EN
CALSCALE:GREGORIAN
METHOD:PUBLISH
X-WR-CALNAME:Family Life Radio
X-ORIGINAL-URL:https://myflr.org
X-WR-CALDESC:Events for Family Life Radio
REFRESH-INTERVAL;VALUE=DURATION:PT1H
X-Robots-Tag:noindex
X-PUBLISHED-TTL:PT1H
BEGIN:VTIMEZONE
TZID:America/Phoenix
BEGIN:STANDARD
TZOFFSETFROM:-0700
TZOFFSETTO:-0700
TZNAME:MST
DTSTART:20240101T000000
END:STANDARD
END:VTIMEZONE
BEGIN:VEVENT
DTSTART;TZID=America/Phoenix:20250406T193000
DTEND;TZID=America/Phoenix:20250406T203000
DTSTAMP:20260421T150621
CREATED:20250303T174541Z
LAST-MODIFIED:20250303T174541Z
UID:10040250-1743967800-1743971400@myflr.org
SUMMARY:“All Aboard” Choral Concert at Southern Adventist University
DESCRIPTION:The School of Music at Southern Adventist University invites the community to climb aboard for a journey through diverse musical landscapes featuring the Bel Canto\, Die Meistersinger\, and I Cantori choirs. The concert\, titled “All Aboard\,” will take place on Sunday\, April 6\, at 7:30 p.m. in Mabel Wood Hall’s Ackerman Auditorium on campus. This free event will also be livestreamed. For additional details\, visit southern.edu/musicevents or call 423.236.2880.
URL:https://myflr.org/event/all-aboard-choral-concert-at-southern-adventist-university/
LOCATION:Southern Adventist University\, 4829 College Drive E\, Collegedale\, TN\, 37315\, United States
CATEGORIES:Tennesee
ATTACH;FMTTYPE=image/png:https://eadn-wc05-15902914.nxedge.io/wp-content/uploads/2025/02/SAU_Choirs-2.png
ORGANIZER;CN="Southern Adventist University":MAILTO:tina@southern.edu
END:VEVENT
END:VCALENDAR