
BEGIN:VCALENDAR
VERSION:2.0
PRODID:-//Family Life Radio - ECPv6.15.20//NONSGML v1.0//EN
CALSCALE:GREGORIAN
METHOD:PUBLISH
X-ORIGINAL-URL:https://myflr.org
X-WR-CALDESC:Events for Family Life Radio
REFRESH-INTERVAL;VALUE=DURATION:PT1H
X-Robots-Tag:noindex
X-PUBLISHED-TTL:PT1H
BEGIN:VTIMEZONE
TZID:America/Detroit
BEGIN:DAYLIGHT
TZOFFSETFROM:-0500
TZOFFSETTO:-0400
TZNAME:EDT
DTSTART:20240310T070000
END:DAYLIGHT
BEGIN:STANDARD
TZOFFSETFROM:-0400
TZOFFSETTO:-0500
TZNAME:EST
DTSTART:20241103T060000
END:STANDARD
BEGIN:DAYLIGHT
TZOFFSETFROM:-0500
TZOFFSETTO:-0400
TZNAME:EDT
DTSTART:20250309T070000
END:DAYLIGHT
BEGIN:STANDARD
TZOFFSETFROM:-0400
TZOFFSETTO:-0500
TZNAME:EST
DTSTART:20251102T060000
END:STANDARD
BEGIN:DAYLIGHT
TZOFFSETFROM:-0500
TZOFFSETTO:-0400
TZNAME:EDT
DTSTART:20260308T070000
END:DAYLIGHT
BEGIN:STANDARD
TZOFFSETFROM:-0400
TZOFFSETTO:-0500
TZNAME:EST
DTSTART:20261101T060000
END:STANDARD
BEGIN:DAYLIGHT
TZOFFSETFROM:-0500
TZOFFSETTO:-0400
TZNAME:EDT
DTSTART:20270314T070000
END:DAYLIGHT
BEGIN:STANDARD
TZOFFSETFROM:-0400
TZOFFSETTO:-0500
TZNAME:EST
DTSTART:20271107T060000
END:STANDARD
END:VTIMEZONE
BEGIN:VTIMEZONE
TZID:America/Phoenix
BEGIN:STANDARD
TZOFFSETFROM:-0700
TZOFFSETTO:-0700
TZNAME:MST
DTSTART:20240101T000000
END:STANDARD
END:VTIMEZONE
BEGIN:VEVENT
DTSTART;TZID=America/Detroit:20260411T090000
DTEND;TZID=America/Detroit:20260411T140000
DTSTAMP:20260421T103742
CREATED:20260330T150318Z
LAST-MODIFIED:20260330T150318Z
UID:10060050-1775898000-1775916000@myflr.org
SUMMARY:Scrap Metal Drive
DESCRIPTION:Don’t Toss It—Toss It Our Way! \nIs your garage starting to look like a junk yard? Before you head to the dump\, let us take that metal off your hands for a great cause! \nJoin us for the S.A. Naz Youth Group Scrap Metal Drive and turn your “trash” into an investment for our students. \nWhen: Saturday\, April 11\, 2026 \nTime: 9:00 a.m. – 2:00 p.m. \nThe Best Part: You don’t even have to lift a finger! Our team of energetic assistants will meet you at your car and do all the heavy lifting for you. \nHelp us clear your clutter and fund our next big mission. See you there! \nP.S. If you need metal picked up\, please reach out to us on the website or on Facebook by 5:00 p.m. the night before so we can plan our route.
URL:https://myflr.org/event/scrap-metal-drive/
LOCATION:Spring Arbor Church of the Nazarene (Spring Arbor\, MI)\, 8200 King Rd\, Spring Arbor\, MI\, 49283\, United States
CATEGORIES:Michigan
ATTACH;FMTTYPE=image/png:https://eadn-wc05-15902914.nxedge.io/wp-content/uploads/2026/03/Scrap-Metal-Drive-04-11-26.png
END:VEVENT
BEGIN:VEVENT
DTSTART;TZID=America/Detroit:20260411T090000
DTEND;TZID=America/Detroit:20260411T130000
DTSTAMP:20260421T103742
CREATED:20260330T150218Z
LAST-MODIFIED:20260330T150218Z
UID:10060051-1775898000-1775912400@myflr.org
SUMMARY:Mom to Mom Sale
DESCRIPTION:Come out to our Mom to Mom Sale\, where you can connect with other parents and purchase products that will be suitable for your children.
URL:https://myflr.org/event/mom-to-mom-sale-2/
LOCATION:Spring Arbor Church of the Nazarene (Spring Arbor\, MI)\, 8200 King Rd\, Spring Arbor\, MI\, 49283\, United States
CATEGORIES:Michigan
ATTACH;FMTTYPE=image/png:https://eadn-wc05-15902914.nxedge.io/wp-content/uploads/2026/03/mom-to-mom-Sale-04-11-26.png
END:VEVENT
BEGIN:VEVENT
DTSTART;TZID=America/Detroit:20251018T180000
DTEND;TZID=America/Detroit:20251018T200000
DTSTAMP:20260421T103742
CREATED:20251001T193048Z
LAST-MODIFIED:20251001T193048Z
UID:10056639-1760810400-1760817600@myflr.org
SUMMARY:Fall Glow Fest
DESCRIPTION:Spring Arbor Church of the Nazarene is hosting its third annual Fall Glow Fest. Come on out for a time under the lights\, where kids can play games\, get candy\, and hear the salvation message. This event will be bilingual\, as Spanish-English translation services will be provided.
URL:https://myflr.org/event/fall-glow-fest/
LOCATION:Spring Arbor Church of the Nazarene (Spring Arbor\, MI)\, 8200 King Rd\, Spring Arbor\, MI\, 49283\, United States
CATEGORIES:Michigan
ATTACH;FMTTYPE=image/png:https://eadn-wc05-15902914.nxedge.io/wp-content/uploads/2025/09/1.png
END:VEVENT
BEGIN:VEVENT
DTSTART;TZID=America/Detroit:20251011T090000
DTEND;TZID=America/Detroit:20251011T130000
DTSTAMP:20260421T103742
CREATED:20251001T193551Z
LAST-MODIFIED:20251001T193551Z
UID:10056637-1760173200-1760187600@myflr.org
SUMMARY:Mom to Mom Sale
DESCRIPTION:Spring Arbor Church of the Nazarene is hosting a Mom to Mom Sale. Come on out to find items catered to children that are being sold by moms to moms\, or dads.
URL:https://myflr.org/event/mom-to-mom-sale/
LOCATION:Spring Arbor Church of the Nazarene (Spring Arbor\, MI)\, 8200 King Rd\, Spring Arbor\, MI\, 49283\, United States
CATEGORIES:Michigan
ATTACH;FMTTYPE=image/png:https://eadn-wc05-15902914.nxedge.io/wp-content/uploads/2025/09/mom-to-mom-Sale-Presentation.png
END:VEVENT
BEGIN:VEVENT
DTSTART;TZID=America/Phoenix:20250927T180000
DTEND;TZID=America/Phoenix:20250927T210000
DTSTAMP:20260421T103742
CREATED:20250825T190052Z
LAST-MODIFIED:20250825T190052Z
UID:10051202-1758996000-1759006800@myflr.org
SUMMARY:Trivia Night with DJ Trivia
DESCRIPTION:Come out to Spring Arbor Church of the Nazarene to participate in a night full of fun\, fellowship\, and trivia. This is a family-friendly event and all of the proceeds go to support out Helping Hands Pantry and Food Distribution. The cost is $10 at the door and there will also be concessions available for purchase and a silent baked goods auction. Doors open at 6:00 p.m. with the trivia starting at 6:30 p.m.
URL:https://myflr.org/event/trivia-night-with-dj-trivia/
LOCATION:Spring Arbor Church of the Nazarene (Spring Arbor\, MI)\, 8200 King Rd\, Spring Arbor\, MI\, 49283\, United States
CATEGORIES:Michigan
ATTACH;FMTTYPE=image/png:https://eadn-wc05-15902914.nxedge.io/wp-content/uploads/2025/08/Trivia-Night-09-27-2025.png
END:VEVENT
BEGIN:VEVENT
DTSTART;TZID=America/Detroit:20250913T180000
DTEND;TZID=America/Detroit:20250913T190000
DTSTAMP:20260421T103742
CREATED:20250825T190154Z
LAST-MODIFIED:20250825T190154Z
UID:10051201-1757786400-1757790000@myflr.org
SUMMARY:Pies\, Popcorn and Praise
DESCRIPTION:Come join us at Spring Arbor Church of the Nazarene for an evening full of pies\, popcorn\, and praise in the parking lot (weather permitting). This is a free event for people of all ages. We are excited to worship with you. This event is on Saturday\, September 13 and it will start at 6:00 p.m.
URL:https://myflr.org/event/pies-popcorn-and-praise/
LOCATION:Spring Arbor Church of the Nazarene (Spring Arbor\, MI)\, 8200 King Rd\, Spring Arbor\, MI\, 49283\, United States
CATEGORIES:Michigan
ATTACH;FMTTYPE=image/png:https://eadn-wc05-15902914.nxedge.io/wp-content/uploads/2025/08/Pies-Popcorn-Praise-09-13-2025.png
END:VEVENT
BEGIN:VEVENT
DTSTART;TZID=America/Phoenix:20250419T100000
DTEND;TZID=America/Phoenix:20250419T120000
DTSTAMP:20260421T103742
CREATED:20250312T150236Z
LAST-MODIFIED:20250312T150236Z
UID:10040296-1745056800-1745064000@myflr.org
SUMMARY:Easter Jam/ Pancake Breakfast
DESCRIPTION:Spring Arbor Church of the Nazarene is hosting the Easter Jam and Pancake Breakfast. This event is designed for all ages\, but its primary target is children. This event will include a FREE Pancake Breakfast for the community. After the breakfast\, we will have a fun-filled time talking about Easter through multiple avenues such as games\, activities\, videos\, music\, and more. This event is FREE.
URL:https://myflr.org/event/easter-jam-pancake-breakfast/
LOCATION:Spring Arbor Church of the Nazarene (Spring Arbor\, MI)\, 8200 King Rd\, Spring Arbor\, MI\, 49283\, United States
CATEGORIES:Michigan
ATTACH;FMTTYPE=image/jpeg:https://eadn-wc05-15902914.nxedge.io/wp-content/uploads/2025/03/Pancake-Breakfast-Sat.-April-19th-10-am-Presentation.jpg
END:VEVENT
END:VCALENDAR