
BEGIN:VCALENDAR
VERSION:2.0
PRODID:-//Family Life Radio - ECPv6.15.20//NONSGML v1.0//EN
CALSCALE:GREGORIAN
METHOD:PUBLISH
X-WR-CALNAME:Family Life Radio
X-ORIGINAL-URL:https://myflr.org
X-WR-CALDESC:Events for Family Life Radio
REFRESH-INTERVAL;VALUE=DURATION:PT1H
X-Robots-Tag:noindex
X-PUBLISHED-TTL:PT1H
BEGIN:VTIMEZONE
TZID:America/Detroit
BEGIN:DAYLIGHT
TZOFFSETFROM:-0500
TZOFFSETTO:-0400
TZNAME:EDT
DTSTART:20240310T070000
END:DAYLIGHT
BEGIN:STANDARD
TZOFFSETFROM:-0400
TZOFFSETTO:-0500
TZNAME:EST
DTSTART:20241103T060000
END:STANDARD
BEGIN:DAYLIGHT
TZOFFSETFROM:-0500
TZOFFSETTO:-0400
TZNAME:EDT
DTSTART:20250309T070000
END:DAYLIGHT
BEGIN:STANDARD
TZOFFSETFROM:-0400
TZOFFSETTO:-0500
TZNAME:EST
DTSTART:20251102T060000
END:STANDARD
BEGIN:DAYLIGHT
TZOFFSETFROM:-0500
TZOFFSETTO:-0400
TZNAME:EDT
DTSTART:20260308T070000
END:DAYLIGHT
BEGIN:STANDARD
TZOFFSETFROM:-0400
TZOFFSETTO:-0500
TZNAME:EST
DTSTART:20261101T060000
END:STANDARD
END:VTIMEZONE
BEGIN:VTIMEZONE
TZID:America/Phoenix
BEGIN:STANDARD
TZOFFSETFROM:-0700
TZOFFSETTO:-0700
TZNAME:MST
DTSTART:20220101T000000
END:STANDARD
END:VTIMEZONE
BEGIN:VEVENT
DTSTART;TZID=America/Detroit:20250914T143000
DTEND;TZID=America/Detroit:20250914T160000
DTSTAMP:20260421T195642
CREATED:20250903T135007Z
LAST-MODIFIED:20250904T142240Z
UID:10051531-1757860200-1757865600@myflr.org
SUMMARY:Community Prayer Circles
DESCRIPTION:Community Prayer Circles is a Christian Praise and Prayer Group that meets monthly in the Saginaw Valley to: \n1. Publicly declare that Jesus Christ is Savior and Lord\, Father\, Son and Holy Spirit; \n2. Unite the Christian Church in praise and prayer worship. \nSeptember CPC is at St. Mark’s Lutheran Church; 2565 N. Miller Road; Saginaw\, MI 48603; \nFacebook Page is: Community Prayer Circles-Saginaw\, Michigan
URL:https://myflr.org/event/community-prayer-circles/
LOCATION:St. Mark Lutheran Church and Preschool (Saginaw\, MI)\, 2565 N. Miller Rd\, Saginaw\, MI\, 48609\, United States
CATEGORIES:Michigan
ATTACH;FMTTYPE=image/png:https://eadn-wc05-15902914.nxedge.io/wp-content/uploads/2025/09/Community-Prayer-Circles.png
END:VEVENT
BEGIN:VEVENT
DTSTART;TZID=America/Phoenix:20231104T083000
DTEND;TZID=America/Phoenix:20231104T143000
DTSTAMP:20260421T195642
CREATED:20231016T133442Z
LAST-MODIFIED:20231016T133442Z
UID:10017036-1699086600-1699108200@myflr.org
SUMMARY:St. Mark Lutheran Church and Preschool Annual Holiday Bazaar
DESCRIPTION:Annual Holiday Bazaar\nHugh Bake Sale\, Canned Goods\, Crafts\, Gently Used Christmas Items\, 25 Vendors and a la carte luncheon\, 10 am – 2 pm
URL:https://myflr.org/event/st-mark-lutheran-church-and-preschool-annual-holiday-bazaar/
LOCATION:St. Mark Lutheran Church and Preschool (Saginaw\, MI)\, 2565 N. Miller Rd\, Saginaw\, MI\, 48609\, United States
CATEGORIES:Michigan
ATTACH;FMTTYPE=image/jpeg:https://eadn-wc05-15902914.nxedge.io/wp-content/uploads/2023/10/bazaar.jpg
END:VEVENT
END:VCALENDAR