
BEGIN:VCALENDAR
VERSION:2.0
PRODID:-//Family Life Radio - ECPv6.15.20//NONSGML v1.0//EN
CALSCALE:GREGORIAN
METHOD:PUBLISH
X-WR-CALNAME:Family Life Radio
X-ORIGINAL-URL:https://myflr.org
X-WR-CALDESC:Events for Family Life Radio
REFRESH-INTERVAL;VALUE=DURATION:PT1H
X-Robots-Tag:noindex
X-PUBLISHED-TTL:PT1H
BEGIN:VTIMEZONE
TZID:America/Phoenix
BEGIN:STANDARD
TZOFFSETFROM:-0700
TZOFFSETTO:-0700
TZNAME:MST
DTSTART:20220101T000000
END:STANDARD
END:VTIMEZONE
BEGIN:VEVENT
DTSTART;TZID=America/Phoenix:20250719T100000
DTEND;TZID=America/Phoenix:20250719T130000
DTSTAMP:20260421T115655
CREATED:20250606T005453Z
LAST-MODIFIED:20250606T005453Z
UID:10045798-1752919200-1752930000@myflr.org
SUMMARY:Spirit of Hope Summer Community Event
DESCRIPTION:Join us for Stonepoint Community Church’s annual Back-to-School Event\, Resource Fair\, & Job Fair! Come get your FREE backpack & school supplies\, get a FREE haircut\, chat with community service providers\, speak with employers\, enter a chance to win raffle prizes\, and have fun with foam parties and bubble maniacs!
URL:https://myflr.org/event/spirit-of-hope-summer-community-event/
LOCATION:Stonepoint Community Church\, 4445 W Olive Ave Suite #151\,\, Glendale\, AZ\, 85302\, United States
CATEGORIES:Arizona,Featured
ATTACH;FMTTYPE=application/pdf:https://eadn-wc05-15902914.nxedge.io/wp-content/uploads/2025/06/Backpack-Drive-2025-.pdf
END:VEVENT
BEGIN:VEVENT
DTSTART;TZID=America/Phoenix:20241222T110000
DTEND;TZID=America/Phoenix:20241222T130000
DTSTAMP:20260421T115655
CREATED:20241217T200430Z
LAST-MODIFIED:20241217T200430Z
UID:10037579-1734865200-1734872400@myflr.org
SUMMARY:Gift of Hope 2024
DESCRIPTION:This Christmas season\, Stonepoint Community Church is excited to host “Gift of Hope 2024\,” a community initiative designed to bring joy and support to 400+ children who might not receive anything for Christmas. We are helping families with school-aged children\, children in foster care\, and children of incarcerated parent(s). This event aims to provide these children with meaningful gifts and remind them that they are seen and cared for during the holiday season. To meet this goal\, we need the community’s support in the form of donations and sponsorships.\nWe need donations in the form of gifts\, gift cards\, or monetary donations. \n• Event Date: Sunday\, December 22\, 2024\, 11:15 am\, 4445 W. Olive Ave.\, Suite 151\, Glendale\, AZ 85302\n• Contact Information: Trina Curry\, (623)692-3559\n• Donations: Give online at www.stonepointcc.org\, or mail at 4445 W. Olive Ave.\, Ste 151\, Glendale AZ 85302. Be sure to state the donation is for Gift of Hope.\nWe would be thrilled to provide additional information\, including personal stories from past events or interviews with organizers. Please let us know if this is something your team would be interested in featuring.\nThank you for considering helping us spread hope and joy this Christmas season. I look forward to hearing from you.
URL:https://myflr.org/event/gift-of-hope-2024/
LOCATION:Stonepoint Community Church\, 4445 W Olive Ave Suite #151\,\, Glendale\, AZ\, 85302\, United States
CATEGORIES:Arizona
ATTACH;FMTTYPE=image/jpeg:https://eadn-wc05-15902914.nxedge.io/wp-content/uploads/2024/12/IMG_0006.jpeg
ORGANIZER;CN="Trina Curry":MAILTO:Jtrina1921@gmail.com
END:VEVENT
BEGIN:VEVENT
DTSTART;TZID=America/Phoenix:20231104T100000
DTEND;TZID=America/Phoenix:20231104T130000
DTSTAMP:20260421T115655
CREATED:20230929T173139Z
LAST-MODIFIED:20230929T173139Z
UID:10015908-1699092000-1699102800@myflr.org
SUMMARY:SCC Community Resource Fair
DESCRIPTION:Saturday\, November 4\, 2023\, from 10 a.m. – 1 p.m.. \nThis free event will be held at Stonepoint Community Church at 4445 W. Olive Ave in Glendale. At the event\, representatives will be present for education/training\, employment\, legal\, medical\, housing resources\, fun & games for kids\, food/drinks\, and so much more!
URL:https://myflr.org/event/scc-community-resource-fair/
LOCATION:Stonepoint Community Church\, 4445 W Olive Ave Suite #151\,\, Glendale\, AZ\, 85302\, United States
CATEGORIES:Arizona
ATTACH;FMTTYPE=image/jpeg:https://eadn-wc05-15902914.nxedge.io/wp-content/uploads/2023/09/Stoneypoint.jpg
END:VEVENT
END:VCALENDAR