
BEGIN:VCALENDAR
VERSION:2.0
PRODID:-//Family Life Radio - ECPv6.15.20//NONSGML v1.0//EN
CALSCALE:GREGORIAN
METHOD:PUBLISH
X-WR-CALNAME:Family Life Radio
X-ORIGINAL-URL:https://myflr.org
X-WR-CALDESC:Events for Family Life Radio
REFRESH-INTERVAL;VALUE=DURATION:PT1H
X-Robots-Tag:noindex
X-PUBLISHED-TTL:PT1H
BEGIN:VTIMEZONE
TZID:America/Phoenix
BEGIN:STANDARD
TZOFFSETFROM:-0700
TZOFFSETTO:-0700
TZNAME:MST
DTSTART:20240101T000000
END:STANDARD
END:VTIMEZONE
BEGIN:VEVENT
DTSTART;TZID=America/Phoenix:20251108T190000
DTEND;TZID=America/Phoenix:20251108T220000
DTSTAMP:20260421T104506
CREATED:20250506T224416Z
LAST-MODIFIED:20251016T181036Z
UID:10041071-1762628400-1762639200@myflr.org
SUMMARY:MercyMe Live 2025 with Natalie Grant & Sam Wesley (Topeka\, KS)
DESCRIPTION:MercyMe Live 2025 with Natalie Grant & Sam Wesley\n\nNov 8\, 2025 – 7:00 pm\n\n\nStormont Vail Events Center – 1 Expocentre Dr\, Topeka\, KS\n\n\n\n\nTickets\n\n\n\n\nTicket Prices (Additional taxes & fees may apply; ticket prices subject to change) \nReserved: $25.00 – $79.00 \nDoors open at 5:30PM. Event begins at 7:00PM. \n\n\n\nSCHEDULE (subject to change):\n5:30PM – Doors open\n7:00PM – Event begins \n\nGiving fans more of the phenomenal in-person experience 10x-Platinum band MercyMe is known for\, “MERCYME LIVE 2025” is slated to continue this fall with nine-time GRAMMY® nominee Natalie Grant and newcomer Sam Wesley. This tour kicks off Oct. 17th and will stop in 12 cities across the country. These nights will be filled with worship and your favorite songs from MercyMe\, Natalie Grant\, and Sam Wesley! \nInfo @ https://tprlive.co/products/mercyme-live-2025-with-natalie-grant-sam-wesley-topeka-ks-november-8-2025 \nTickets @ https://www.ticketmaster.com/event/060062A5DCA7504E
URL:https://myflr.org/event/mercyme-live-2025-with-natalie-grant-sam-wesley-topeka-ks/
LOCATION:Stormont Vail Events Center\, 1 Expocentre Dr\, Topeka\, KS\, 66612\, United States
CATEGORIES:Featured,Kansas,Missouri
ATTACH;FMTTYPE=image/png:https://eadn-wc05-15902914.nxedge.io/wp-content/uploads/2025/05/MM-Live25-Fall-Square.png
ORGANIZER;CN="TPR Live":MAILTO:info@tprlive.co
END:VEVENT
END:VCALENDAR