
BEGIN:VCALENDAR
VERSION:2.0
PRODID:-//Family Life Radio - ECPv6.15.20//NONSGML v1.0//EN
CALSCALE:GREGORIAN
METHOD:PUBLISH
X-ORIGINAL-URL:https://myflr.org
X-WR-CALDESC:Events for Family Life Radio
REFRESH-INTERVAL;VALUE=DURATION:PT1H
X-Robots-Tag:noindex
X-PUBLISHED-TTL:PT1H
BEGIN:VTIMEZONE
TZID:America/Phoenix
BEGIN:STANDARD
TZOFFSETFROM:-0700
TZOFFSETTO:-0700
TZNAME:MST
DTSTART:20230101T000000
END:STANDARD
END:VTIMEZONE
BEGIN:VEVENT
DTSTART;TZID=America/Phoenix:20241123T110000
DTEND;TZID=America/Phoenix:20241123T130000
DTSTAMP:20260421T210210
CREATED:20241029T155208Z
LAST-MODIFIED:20241029T155208Z
UID:10037355-1732359600-1732366800@myflr.org
SUMMARY:Word Up with a Side of Praise Drive Through Prayer
DESCRIPTION:Word Up with a Side of Praise Drive Through Prayer. In these troubled times we want to pray with you and for you and also praise God for what he is doing in your family and community. Just drive up as directed\, stay in your car where prayer partners will meet you to pray with you.
URL:https://myflr.org/event/word-up-with-a-side-of-praise-drive-through-prayer/
LOCATION:Stuart Heights Baptist Church Chattanooga Campus Parking Lot\, 3208 Hixson Pike\, Chattanooga\, TN\, TN\, 37415\, United States
CATEGORIES:Tennesee
ATTACH;FMTTYPE=image/png:https://eadn-wc05-15902914.nxedge.io/wp-content/uploads/2024/10/Word-Up.Sm_.png
ORGANIZER;CN="Stuart Heights Baptist Church":MAILTO:soniaharris@stuartheights.org
END:VEVENT
END:VCALENDAR