
BEGIN:VCALENDAR
VERSION:2.0
PRODID:-//Family Life Radio - ECPv6.15.20//NONSGML v1.0//EN
CALSCALE:GREGORIAN
METHOD:PUBLISH
X-ORIGINAL-URL:https://myflr.org
X-WR-CALDESC:Events for Family Life Radio
REFRESH-INTERVAL;VALUE=DURATION:PT1H
X-Robots-Tag:noindex
X-PUBLISHED-TTL:PT1H
BEGIN:VTIMEZONE
TZID:America/Phoenix
BEGIN:STANDARD
TZOFFSETFROM:-0700
TZOFFSETTO:-0700
TZNAME:MST
DTSTART:20240101T000000
END:STANDARD
END:VTIMEZONE
BEGIN:VEVENT
DTSTART;TZID=America/Phoenix:20251208T190000
DTEND;TZID=America/Phoenix:20251208T210000
DTSTAMP:20260421T163916
CREATED:20251208T184236Z
LAST-MODIFIED:20251208T184316Z
UID:10057809-1765220400-1765227600@myflr.org
SUMMARY:Tina Tina and the Motown Blossoms
DESCRIPTION:Get ready to sing\, dance\, and relive the magic!\nTina Tina & The Motown Blossoms bring the legendary hits of Tina Turner and Motown’s greatest artists to the stage with powerhouse vocals\, dazzling energy\, and unforgettable performances that will have every generation on their feet all night long!
URL:https://myflr.org/event/tina-tina-and-the-motown-blossoms/
LOCATION:Sunland Village\, 4601 E. Dolphin\, Mesa\, AZ\, 85206\, United States
CATEGORIES:Arizona
ATTACH;FMTTYPE=image/png:https://eadn-wc05-15902914.nxedge.io/wp-content/uploads/2025/12/Screenshot-2025-12-05-202047.png
ORGANIZER;CN="Sunland Village Community Association":MAILTO:activitydirector@sunlandvillage.org
END:VEVENT
END:VCALENDAR