
BEGIN:VCALENDAR
VERSION:2.0
PRODID:-//Family Life Radio - ECPv6.15.20//NONSGML v1.0//EN
CALSCALE:GREGORIAN
METHOD:PUBLISH
X-WR-CALNAME:Family Life Radio
X-ORIGINAL-URL:https://myflr.org
X-WR-CALDESC:Events for Family Life Radio
REFRESH-INTERVAL;VALUE=DURATION:PT1H
X-Robots-Tag:noindex
X-PUBLISHED-TTL:PT1H
BEGIN:VTIMEZONE
TZID:America/Phoenix
BEGIN:STANDARD
TZOFFSETFROM:-0700
TZOFFSETTO:-0700
TZNAME:MST
DTSTART:20240101T000000
END:STANDARD
END:VTIMEZONE
BEGIN:VEVENT
DTSTART;TZID=America/Phoenix:20250412T090000
DTEND;TZID=America/Phoenix:20250412T160000
DTSTAMP:20260421T152338
CREATED:20250211T230242Z
LAST-MODIFIED:20250211T230456Z
UID:10039073-1744448400-1744473600@myflr.org
SUMMARY:Hero’s Market
DESCRIPTION:We will have local vendors selling goods and some of Tucson’s favorite food trucks available. There will be a raffle and “door” prizes will be given away throughout the event with no purchase needed. This event will support the Arizona Fallen Hero’s Memorial Riders as they reach out to help our injured hero’s and the families of fallen first responders.
URL:https://myflr.org/event/heros-market/
LOCATION:Sunnyvale Plaza 8740 N Thornydale Tucson AZ 85742\, 8740 N Thornydale\, Tucson\, AZ\, 85742\, United States
CATEGORIES:Arizona
ATTACH;FMTTYPE=image/png:https://eadn-wc05-15902914.nxedge.io/wp-content/uploads/2025/02/Heroes-Market-1.png
ORGANIZER;CN="AZFHMR":MAILTO:terry2479@gmail.com
END:VEVENT
END:VCALENDAR