
BEGIN:VCALENDAR
VERSION:2.0
PRODID:-//Family Life Radio - ECPv6.15.20//NONSGML v1.0//EN
CALSCALE:GREGORIAN
METHOD:PUBLISH
X-WR-CALNAME:Family Life Radio
X-ORIGINAL-URL:https://myflr.org
X-WR-CALDESC:Events for Family Life Radio
REFRESH-INTERVAL;VALUE=DURATION:PT1H
X-Robots-Tag:noindex
X-PUBLISHED-TTL:PT1H
BEGIN:VTIMEZONE
TZID:America/Phoenix
BEGIN:STANDARD
TZOFFSETFROM:-0700
TZOFFSETTO:-0700
TZNAME:MST
DTSTART:20240101T000000
END:STANDARD
END:VTIMEZONE
BEGIN:VEVENT
DTSTART;TZID=America/Phoenix:20251213T130000
DTEND;TZID=America/Phoenix:20251213T150000
DTSTAMP:20260421T175831
CREATED:20251208T180708Z
LAST-MODIFIED:20251208T180708Z
UID:10057697-1765630800-1765638000@myflr.org
SUMMARY:Blue Christmas
DESCRIPTION:Tanque Verde Lutheran Church Grief Ministry invites you to join us for a Blue Christmas service on December 13 at 1 PM. This service is a time of contemplative meditation that recognizes the reality of loss and grief around the holidays. All are welcome to join for this time of comfort and reflection. To learn more about this service and ministry\, contact grief@tvlc.org.
URL:https://myflr.org/event/blue-christmas-4/
LOCATION:Tanque Verde Lutheran Church\, 8625 E. Tanque Verde Rd.\, Tucson\, AZ\, 85749\, United States
CATEGORIES:Arizona
ATTACH;FMTTYPE=image/png:https://eadn-wc05-15902914.nxedge.io/wp-content/uploads/2025/11/TVLC-CIG.png
ORGANIZER;CN="Tanque Verde Lutheran Church Grief Ministry":MAILTO:grief@tvlc.org
END:VEVENT
END:VCALENDAR