
BEGIN:VCALENDAR
VERSION:2.0
PRODID:-//Family Life Radio - ECPv6.15.20//NONSGML v1.0//EN
CALSCALE:GREGORIAN
METHOD:PUBLISH
X-WR-CALNAME:Family Life Radio
X-ORIGINAL-URL:https://myflr.org
X-WR-CALDESC:Events for Family Life Radio
REFRESH-INTERVAL;VALUE=DURATION:PT1H
X-Robots-Tag:noindex
X-PUBLISHED-TTL:PT1H
BEGIN:VTIMEZONE
TZID:America/Phoenix
BEGIN:STANDARD
TZOFFSETFROM:-0700
TZOFFSETTO:-0700
TZNAME:MST
DTSTART:20240101T000000
END:STANDARD
END:VTIMEZONE
BEGIN:VTIMEZONE
TZID:America/Chicago
BEGIN:DAYLIGHT
TZOFFSETFROM:-0600
TZOFFSETTO:-0500
TZNAME:CDT
DTSTART:20220313T080000
END:DAYLIGHT
BEGIN:STANDARD
TZOFFSETFROM:-0500
TZOFFSETTO:-0600
TZNAME:CST
DTSTART:20221106T070000
END:STANDARD
BEGIN:DAYLIGHT
TZOFFSETFROM:-0600
TZOFFSETTO:-0500
TZNAME:CDT
DTSTART:20230312T080000
END:DAYLIGHT
BEGIN:STANDARD
TZOFFSETFROM:-0500
TZOFFSETTO:-0600
TZNAME:CST
DTSTART:20231105T070000
END:STANDARD
BEGIN:DAYLIGHT
TZOFFSETFROM:-0600
TZOFFSETTO:-0500
TZNAME:CDT
DTSTART:20240310T080000
END:DAYLIGHT
BEGIN:STANDARD
TZOFFSETFROM:-0500
TZOFFSETTO:-0600
TZNAME:CST
DTSTART:20241103T070000
END:STANDARD
END:VTIMEZONE
BEGIN:VEVENT
DTSTART;TZID=America/Phoenix:20250602T083000
DTEND;TZID=America/Phoenix:20250602T123000
DTSTAMP:20260421T154507
CREATED:20250417T193922Z
LAST-MODIFIED:20250417T193922Z
UID:10040986-1748853000-1748867400@myflr.org
SUMMARY:VBS 2025
DESCRIPTION:Magnified!™ – Discovering the BIGNESS of God in the Smallest of things. Vacation Bible School 2025 at The Church at the Beach\, Panama City Beach\, FL
URL:https://myflr.org/event/vbs-2025/
LOCATION:The Church At The Beach (Panama City\, FL)\, 10620 Hutchinson Blvd\, Panama City Beach\, FL\, 32407\, United States
CATEGORIES:Florida
ATTACH;FMTTYPE=image/png:https://eadn-wc05-15902914.nxedge.io/wp-content/uploads/2025/04/Vacation-Bible-School-2025.png
END:VEVENT
BEGIN:VEVENT
DTSTART;TZID=America/Chicago:20231113T183000
DTEND;TZID=America/Chicago:20231113T200000
DTSTAMP:20260421T154507
CREATED:20230919T130809Z
LAST-MODIFIED:20231109T213449Z
UID:10015424-1699900200-1699905600@myflr.org
SUMMARY:FAMILY LIFE RADIO FREE ESTATE PLANNING SEMINAR
DESCRIPTION:Family Life Radio’s no-obligation Estate Planning Seminar will help you take the right next step for your family as a trusted attorney answers your questions. \n\nSkip the intimidation factor and have a safe place to address important issues.\nEliminate confusion with a guide that prepares you to meet with a professional.\nEnsure that family is provided for through a clear plan that meets your needs.\n\nEvents are 60 – 90 minutes and include time for questions with a local Christian estate planning attorney. They are complimentary with no obligation. A free Estate Planning Guide will be provided to participants. \nDate: Monday\, November 13th at 6:30pm\nVenue: The Church at the Beach\n10620 Hutchinson Blvd\nPanama City Beach\, FL 32407\nPhone: 850-234-8892\n\nSpeaker/attorney: Charles Wynn\nBurg & Wynn Law Firm\n4436 Clinton Street\nMarianna\, FL 32446\nPhone: 850-851-0621
URL:https://myflr.org/event/family-life-radio-free-estate-planning-seminar/
LOCATION:The Church At The Beach (Panama City\, FL)\, 10620 Hutchinson Blvd\, Panama City Beach\, FL\, 32407\, United States
CATEGORIES:Featured,Florida
ATTACH;FMTTYPE=image/jpeg:https://eadn-wc05-15902914.nxedge.io/wp-content/uploads/2023/09/EP-Nov-Seminar-Social-1x1-Panama-City-v2.jpg
END:VEVENT
END:VCALENDAR