
BEGIN:VCALENDAR
VERSION:2.0
PRODID:-//Family Life Radio - ECPv6.15.20//NONSGML v1.0//EN
CALSCALE:GREGORIAN
METHOD:PUBLISH
X-WR-CALNAME:Family Life Radio
X-ORIGINAL-URL:https://myflr.org
X-WR-CALDESC:Events for Family Life Radio
REFRESH-INTERVAL;VALUE=DURATION:PT1H
X-Robots-Tag:noindex
X-PUBLISHED-TTL:PT1H
BEGIN:VTIMEZONE
TZID:America/Phoenix
BEGIN:STANDARD
TZOFFSETFROM:-0700
TZOFFSETTO:-0700
TZNAME:MST
DTSTART:20240101T000000
END:STANDARD
END:VTIMEZONE
BEGIN:VEVENT
DTSTART;TZID=America/Phoenix:20250201T170000
DTEND;TZID=America/Phoenix:20250201T210000
DTSTAMP:20260421T103650
CREATED:20250106T170502Z
LAST-MODIFIED:20250106T170502Z
UID:10038393-1738429200-1738443600@myflr.org
SUMMARY:Join Sun Health Foundation for ‘Food for Thought\,’ A Culinary Event Raising Awareness for Memory and Mind
DESCRIPTION:What: Join Sun Health Foundation for an elevated wine pairing dinner where guests will enjoy dishes created by professional chefs using ingredients that support brain health while raising funds for Sun Health Memory Care Navigator. \nWho: Open to local businesses\, organizations and individuals who are passionate about raising awareness for brain health and memory. \nWhen: Saturday\, February 1\, 2025\, 5:00 – 9:00 p.m. \nWhere: The Colonnade\, La Vita Ballroom \n19116 N. Colonnade Way \nSurprise\, AZ 85374 \nWhy: Sun Health Foundation invites you to wine and dine for memory and mind at The Colonnade to support Sun Health Memory Care Navigator and free-of-charge resources for individuals and families who have been impacted by Alzheimer’s disease and dementia. \nDuring this event\, guests will be treated to six courses crafted by professional chefs with ingredients that support brain health\, with each course paired with the perfect varietal to create an evening of exceptional culinary artistry. \nBlack tie optional. RSVP by January 17\, 2025\, to secure your spot. Individual tickets are available for $250 and tables of 10 guests are available for $2\,500. \nFor more information about this event or becoming a sponsor\, please contact Cheryl Pineda Hunter at (623) 471-8503 or Cheryl.PinedaHunter@SunHealth.org. \nTo register for this event or donate to Sun Health Foundation\, visit sunhealthfoundation.org/upcoming-event/food. \nAbout Sun Health Foundation: \nSun Health Foundation champions superior health and wellbeing through philanthropy\, inspired living and wellness programs. For more than 50 years\, the community – through Sun Health Foundation – has invested in the infrastructure\, programs\, skilled professionals\, and innovations that make the West Valley the premier place for active\, independent living. Sun Health Foundation is the exclusive philanthropic partner to Banner Boswell and Banner Del E. Webb medical centers. Learn more at sunhealthfoundation.org.
URL:https://myflr.org/event/join-sun-health-foundation-for-food-for-thought-a-culinary-event-raising-awareness-for-memory-and-mind/
LOCATION:The Colonnade\, 19116 N. Colonnade Way\, Surprise\, AZ\, 85374\, United States
CATEGORIES:Arizona
ATTACH;FMTTYPE=image/jpeg:https://eadn-wc05-15902914.nxedge.io/wp-content/uploads/2024/12/SH-Food-for-Thought-Web-Graphic_1200x300-1024x256-1.jpg
END:VEVENT
END:VCALENDAR