
BEGIN:VCALENDAR
VERSION:2.0
PRODID:-//Family Life Radio - ECPv6.15.20//NONSGML v1.0//EN
CALSCALE:GREGORIAN
METHOD:PUBLISH
X-ORIGINAL-URL:https://myflr.org
X-WR-CALDESC:Events for Family Life Radio
REFRESH-INTERVAL;VALUE=DURATION:PT1H
X-Robots-Tag:noindex
X-PUBLISHED-TTL:PT1H
BEGIN:VTIMEZONE
TZID:America/Phoenix
BEGIN:STANDARD
TZOFFSETFROM:-0700
TZOFFSETTO:-0700
TZNAME:MST
DTSTART:20230101T000000
END:STANDARD
END:VTIMEZONE
BEGIN:VTIMEZONE
TZID:America/Detroit
BEGIN:DAYLIGHT
TZOFFSETFROM:-0500
TZOFFSETTO:-0400
TZNAME:EDT
DTSTART:20230312T070000
END:DAYLIGHT
BEGIN:STANDARD
TZOFFSETFROM:-0400
TZOFFSETTO:-0500
TZNAME:EST
DTSTART:20231105T060000
END:STANDARD
BEGIN:DAYLIGHT
TZOFFSETFROM:-0500
TZOFFSETTO:-0400
TZNAME:EDT
DTSTART:20240310T070000
END:DAYLIGHT
BEGIN:STANDARD
TZOFFSETFROM:-0400
TZOFFSETTO:-0500
TZNAME:EST
DTSTART:20241103T060000
END:STANDARD
BEGIN:DAYLIGHT
TZOFFSETFROM:-0500
TZOFFSETTO:-0400
TZNAME:EDT
DTSTART:20250309T070000
END:DAYLIGHT
BEGIN:STANDARD
TZOFFSETFROM:-0400
TZOFFSETTO:-0500
TZNAME:EST
DTSTART:20251102T060000
END:STANDARD
BEGIN:DAYLIGHT
TZOFFSETFROM:-0500
TZOFFSETTO:-0400
TZNAME:EDT
DTSTART:20260308T070000
END:DAYLIGHT
BEGIN:STANDARD
TZOFFSETFROM:-0400
TZOFFSETTO:-0500
TZNAME:EST
DTSTART:20261101T060000
END:STANDARD
END:VTIMEZONE
BEGIN:VEVENT
DTSTART;TZID=America/Phoenix:20250320T170000
DTEND;TZID=America/Phoenix:20250320T183000
DTSTAMP:20260421T162544
CREATED:20250311T182010Z
LAST-MODIFIED:20250311T182010Z
UID:10040289-1742490000-1742495400@myflr.org
SUMMARY:Nation Outside Chapter Meeting
DESCRIPTION:Nation Outside is a statewide grassroots and advocacy organization entirely led by the justice impacted and the formerly incarcerated. Our mission is to drive policy and practice innovation that builds transformative systems of support for justice impacted families and communities. \nDuring this conversation\, we will delve into various barriers that members of our community face and explore potential solutions together. Whether it’s challenges related to access\, resources\, or systemic issues\, your perspective and input are invaluable as we work towards creating a more inclusive and supportive environment for all. \nAdditionally\, we will be discussing upcoming events and initiatives within the community. This is a great opportunity to learn more about how you can get involved and support these efforts.\nWe believe that collective action is key to driving positive change\, and your participation is crucial in shaping the future of our community. Your voice matters\, and we would be honored to have you join us for this important discussion. \nIf you have any questions or require further information\, feel free to reach out to me at trishaw@nationoutside.org.
URL:https://myflr.org/event/nation-outside-chapter-meeting-10/
LOCATION:The Fledge (Lansing\, MI)\, 1300 Eureka Street\, Lansing\, MI\, 48912\, United States
CATEGORIES:Michigan
ATTACH;FMTTYPE=image/png:https://eadn-wc05-15902914.nxedge.io/wp-content/uploads/2025/03/March-Chapter-Meeting-Flyer-Formal.png
ORGANIZER;CN="Nation Outside":MAILTO:trishaw@nationoutside.org
END:VEVENT
BEGIN:VEVENT
DTSTART;TZID=America/Phoenix:20250220T170000
DTEND;TZID=America/Phoenix:20250220T183000
DTSTAMP:20260421T162544
CREATED:20250220T211757Z
LAST-MODIFIED:20250220T211757Z
UID:10039884-1740070800-1740076200@myflr.org
SUMMARY:Nation Outside Chapter Meeting
DESCRIPTION:Nation Outside Chapter Meeting\nThursday\, February 20th\, 2025 from 5 to 6:30pm\nThe Fledge 1300 Eureka Street Lansing\, MI 48912 \nDuring this conversation\, we will delve into various barriers that formerly incarcerated members of our community face and explore potential solutions together. Whether its challenges related to access\, resources\, or systemic issues\, your perspective and input are invaluable as we work towards creating a more inclusive and supportive environment for our returning citizens. Free food available!
URL:https://myflr.org/event/nation-outside-chapter-meeting-8/
LOCATION:The Fledge (Lansing\, MI)\, 1300 Eureka Street\, Lansing\, MI\, 48912\, United States
CATEGORIES:Michigan
ORGANIZER;CN="Nation Outside":MAILTO:trishaw@nationoutside.org
END:VEVENT
BEGIN:VEVENT
DTSTART;TZID=America/Detroit:20250116T170000
DTEND;TZID=America/Detroit:20250116T183000
DTSTAMP:20260421T162544
CREATED:20250113T212105Z
LAST-MODIFIED:20250113T212105Z
UID:10038761-1737046800-1737052200@myflr.org
SUMMARY:Nation Outside Chapter Meeting
DESCRIPTION:Nation Outside is a statewide grassroots and advocacy organization entirely led by the justice impacted and the formerly incarcerated. Our mission is to drive policy and practice innovation that builds transformative systems of support for justice impacted families and communities. \nDuring this conversation\, we will delve into various barriers that members of our community face and explore potential solutions together. Whether it’s challenges related to access\, resources\, or systemic issues\, your perspective and input are invaluable as we work towards creating a more inclusive and supportive environment for all. \nAdditionally\, we will be discussing upcoming events and initiatives within the community. This is a great opportunity to learn more about how you can get involved and support these efforts.\nWe believe that collective action is key to driving positive change\, and your participation is crucial in shaping the future of our community. Your voice matters\, and we would be honored to have you join us for this important discussion. \nIf you have any questions or require further information\, feel free to reach out to me at trishaw@nationoutside.org.
URL:https://myflr.org/event/nation-outside-chapter-meeting-7/
LOCATION:The Fledge (Lansing\, MI)\, 1300 Eureka Street\, Lansing\, MI\, 48912\, United States
CATEGORIES:Michigan
ATTACH;FMTTYPE=image/jpeg:https://eadn-wc05-15902914.nxedge.io/wp-content/uploads/2025/01/Lansing-1.16.25-Ch-Mtg-Flyer.jpg
ORGANIZER;CN="Nation Outside":MAILTO:trishaw@nationoutside.org
END:VEVENT
BEGIN:VEVENT
DTSTART;TZID=America/Phoenix:20241230T120000
DTEND;TZID=America/Phoenix:20241230T140000
DTSTAMP:20260421T162544
CREATED:20241220T152402Z
LAST-MODIFIED:20241220T152402Z
UID:10038355-1735560000-1735567200@myflr.org
SUMMARY:Holiday Welcome Home Circle
DESCRIPTION:Join us December 30 from Noon-3 at the Fledge for our Holiday Welcome Home Circle! We are gathering to celebrate new beginnings and share some holiday cheer with our community. Whether you are a recent returning citizen or have been home awhile\, whether you are friend\, family\, service provider\, or community ally–please join us! We are so excited to welcome Maranda Houston from Holism Haus who will join our Circle and share her wisdom and knowledge around practices we can do for ourselves to heal and release trauma we keep in our own bodies and lavish us with a unique Sound Bath to ring in the New Year! \nLearn more about Maranda\, Sound Baths\, and Holism Haus Here: http://www.holismhaus.com \nYou can RSVP at https://mailchi.mp/7887df635e1e/taproot \nLight refreshments will be served. \nIf you have any questions or concerns please reach out to taprootcircle@gmail.com
URL:https://myflr.org/event/holiday-welcome-home-circle/
LOCATION:The Fledge (Lansing\, MI)\, 1300 Eureka Street\, Lansing\, MI\, 48912\, United States
CATEGORIES:Michigan
ATTACH;FMTTYPE=image/png:https://eadn-wc05-15902914.nxedge.io/wp-content/uploads/2024/12/Holiday-Healing-Circle-Flyer-1-2.png
ORGANIZER;CN="Tap Root":MAILTO:taprootcircle@gmail.com
END:VEVENT
BEGIN:VEVENT
DTSTART;TZID=America/Phoenix:20241230T120000
DTEND;TZID=America/Phoenix:20241230T140000
DTSTAMP:20260421T162544
CREATED:20241213T162945Z
LAST-MODIFIED:20241213T162945Z
UID:10037571-1735560000-1735567200@myflr.org
SUMMARY:Holiday Reentry Healing Circle
DESCRIPTION:Nation Outside\, Tap Roots\, Humanity for Prisoners\, and Friends of Returning Citizens are putting on a Holiday Reentry Healing Circle on Monday\, December 30th from 12-2pm at the Fledge 1300 Eureka Street Lansing. \nThis is to recognize and celebrate the transition from prison life to civilian life and the beginning of the reentry process. We will be celebrating second chances\, self improvement\, the possibilities of the new year\, forgiveness of mistakes\, and letting go of the past. \nThe holidays are meant to be a happy time with friends and family\, but it can be a very depressing time for people that don’t have any friends and family. Get established with the reentry community and find warmth\, understanding\, forgiveness\, acceptance\, and develop a positive outlook on your future and the new year. \nYou can RSVP at https://mailchi.mp/7887df635e1e/taproot or just come! Free food will be provided. Free to attend!\nFor any questions\, please contact me at trishaw@nationoutside.org.
URL:https://myflr.org/event/holiday-reentry-healing-circle/
LOCATION:The Fledge (Lansing\, MI)\, 1300 Eureka Street\, Lansing\, MI\, 48912\, United States
CATEGORIES:Michigan
ATTACH;FMTTYPE=image/png:https://eadn-wc05-15902914.nxedge.io/wp-content/uploads/2024/12/Holiday-Healing-Circle-Flyer-.png
ORGANIZER;CN="Nation Outside":MAILTO:trishaw@nationoutside.org
END:VEVENT
BEGIN:VEVENT
DTSTART;TZID=America/Phoenix:20241219T170000
DTEND;TZID=America/Phoenix:20241219T183000
DTSTAMP:20260421T162544
CREATED:20241218T151758Z
LAST-MODIFIED:20241218T151758Z
UID:10037589-1734627600-1734633000@myflr.org
SUMMARY:Nation Outside Chapter Meeting
DESCRIPTION:Nation Outside is a statewide grassroots and advocacy organization entirely led by the justice impacted and the formerly incarcerated. Our mission is to drive policy and practice innovation that builds transformative systems of support for justice impacted families and communities. \nDuring this conversation\, we will delve into various barriers that members of our community face and explore potential solutions together. Whether it’s challenges related to access\, resources\, or systemic issues\, your perspective and input are invaluable as we work towards creating a more inclusive and supportive environment for all. \nAdditionally\, we will be discussing upcoming events and initiatives within the community. This is a great opportunity to learn more about how you can get involved and support these efforts.\nWe believe that collective action is key to driving positive change\, and your participation is crucial in shaping the future of our community. Your voice matters\, and we would be honored to have you join us for this important discussion. \nIf you have any questions or require further information\, feel free to reach out to me at trishaw@nationoutside.org. \nThank you for your continued support\, and we look forward to seeing you at this event!\nTrisha Washburn\, Lansing Engagement Specialist\, Nation Outside
URL:https://myflr.org/event/nation-outside-chapter-meeting-6/
LOCATION:The Fledge (Lansing\, MI)\, 1300 Eureka Street\, Lansing\, MI\, 48912\, United States
CATEGORIES:Michigan
ORGANIZER;CN="Nation Outside":MAILTO:trishaw@nationoutside.org
END:VEVENT
BEGIN:VEVENT
DTSTART;TZID=America/Phoenix:20241219T170000
DTEND;TZID=America/Phoenix:20241219T183000
DTSTAMP:20260421T162544
CREATED:20241202T160147Z
LAST-MODIFIED:20241202T160147Z
UID:10037540-1734627600-1734633000@myflr.org
SUMMARY:Nation Outside Chapter Meeting
DESCRIPTION:Nation Outside is a statewide grassroots and advocacy organization entirely led by the justice impacted and the formerly incarcerated. Our mission is to drive policy and practice innovation that builds transformative systems of support for justice impacted families and communities. \nDuring this conversation\, we will delve into various barriers that members of our community face and explore potential solutions together. Whether it’s challenges related to access\, resources\, or systemic issues\, your perspective and input are invaluable as we work towards creating a more inclusive and supportive environment for all. \nAdditionally\, we will be discussing upcoming events and initiatives within the community. This is a great opportunity to learn more about how you can get involved and support these efforts.\nWe believe that collective action is key to driving positive change\, and your participation is crucial in shaping the future of our community. Your voice matters\, and we would be honored to have you join us for this important discussion. \nIf you have any questions or require further information\, feel free to reach out to me at trishaw@nationoutside.org. \nThank you for your continued support\, and we look forward to seeing you at this event!\nTrisha Washburn\, Lansing Engagement Specialist\, Nation Outside
URL:https://myflr.org/event/nation-outside-chapter-meeting-5/
LOCATION:The Fledge (Lansing\, MI)\, 1300 Eureka Street\, Lansing\, MI\, 48912\, United States
CATEGORIES:Michigan
ATTACH;FMTTYPE=image/jpeg:https://eadn-wc05-15902914.nxedge.io/wp-content/uploads/2024/12/Lansing-12.19.24-Ch-Mtg-1.jpg
ORGANIZER;CN="Nation Outside":MAILTO:trishaw@nationoutside.org
END:VEVENT
BEGIN:VEVENT
DTSTART;TZID=America/Phoenix:20241219T170000
DTEND;TZID=America/Phoenix:20241219T183000
DTSTAMP:20260421T162544
CREATED:20241130T144256Z
LAST-MODIFIED:20241130T144256Z
UID:10037506-1734627600-1734633000@myflr.org
SUMMARY:Nation Outside Chapter Meeting
DESCRIPTION:Nation Outside is a statewide grassroots and advocacy organization entirely led by the justice impacted and the formerly incarcerated. Our mission is to drive policy and practice innovation that builds transformative systems of support for justice impacted families and communities.\nDuring this conversation\, we will delve into various barriers that members of our community face and explore potential solutions together. \nWhether it’s challenges related to access\, resources\, or systemic issues\, your perspective and input are invaluable as we work towards creating a more inclusive and supportive environment for all. \nAdditionally\, we will be discussing upcoming events and initiatives within the community. This is a great opportunity to learn more about how you can get involved and support these efforts. \nWe believe that collective action is key to driving positive change\, and your participation is crucial in shaping the future of our community. Your voice matters\, and we would be honored to have you join us for this important discussion. \nIf you have any questions or require further information\, feel free to reach out to me at trishaw@nationoutside.org. \nThank you for your continued support\, and we look forward to seeing you at this event! \nTrisha Washburn\, Lansing Engagement Specialist\, Nation Outside
URL:https://myflr.org/event/nation-outside-chapter-meeting-4/
LOCATION:The Fledge (Lansing\, MI)\, 1300 Eureka Street\, Lansing\, MI\, 48912\, United States
CATEGORIES:Michigan
ATTACH;FMTTYPE=image/jpeg:https://eadn-wc05-15902914.nxedge.io/wp-content/uploads/2024/11/Lansing-12.19.24-Ch-Mtg-1.jpg
ORGANIZER;CN="Nation Outside":MAILTO:trishaw@nationoutside.org
END:VEVENT
BEGIN:VEVENT
DTSTART;TZID=America/Phoenix:20241212T180000
DTEND;TZID=America/Phoenix:20241212T193000
DTSTAMP:20260421T162544
CREATED:20241211T141524Z
LAST-MODIFIED:20241211T141524Z
UID:10037568-1734026400-1734031800@myflr.org
SUMMARY:Landlord Tenant Screening Tools Informational and Listening Session
DESCRIPTION:IF YOU ARE GETTING DENIED HOUSING BECAUSE OF YOUR BACKGROUND CHECK\, IT COULD BE BECAUSE OF WIDELY USED INACCURATE TENANT SCREENING TOOLS THAT SAY FALSE INFORMATION ABOUT YOU. LEARN MORE AT OUR\nLandlord Tenant Screening Tools Informational and Listening Session \nWhen: Thursday\, December 12th 6-7:30pm\nWhere: The Fledge 1300 Eureka Street Lansing\nWhat: We are educating residents on the usage of online tenant screening tools to deny or approve housing applicants\, how information about you on these screening tools can be false\, and how there is no way to dispute this false information about your background. We will teach you how to dispute it and how to promote the usage of more accurate background screenings by supporting the Michigan Access to Fair Chance Housing Act.\nCost: $0\nFree dinner from PF Chang’s will be provided!\nEveryone is welcome! Please pass this onto landlords and anyone you know who is struggling with background checks in the housing process.\nIf you have any questions\, please call me at 517-329-2525 or 517-893-2018. You can also email me at trishaw@nationoutside.org.
URL:https://myflr.org/event/landlord-tenant-screening-tools-informational-and-listening-session-2/
LOCATION:The Fledge (Lansing\, MI)\, 1300 Eureka Street\, Lansing\, MI\, 48912\, United States
CATEGORIES:Michigan
ORGANIZER;CN="Nation Outside":MAILTO:trishaw@nationoutside.org
END:VEVENT
BEGIN:VEVENT
DTSTART;TZID=America/Phoenix:20241121T170000
DTEND;TZID=America/Phoenix:20241121T183000
DTSTAMP:20260421T162544
CREATED:20241104T214800Z
LAST-MODIFIED:20241104T214800Z
UID:10037390-1732208400-1732213800@myflr.org
SUMMARY:Nation Outside Chapter Meeting
DESCRIPTION:Nation Outside is a statewide grassroots and advocacy organization entirely led by the justice impacted and the formerly incarcerated. Our mission is to drive policy and practice innovation that builds transformative systems of support for justice impacted families and communities. \nDuring this conversation\, we will delve into various barriers that members of our community face and explore potential solutions together. Whether it’s challenges related to access\, resources\, or systemic issues\, your perspective and input are invaluable as we work towards creating a more inclusive and supportive environment for all. \nAdditionally\, we will be discussing upcoming events and initiatives within the community. This is a great opportunity to learn more about how you can get involved and support these efforts. \nWe believe that collective action is key to driving positive change\, and your participation is crucial in shaping the future of our community. Your voice matters\, and we would be honored to have you join us for this important discussion. \nIf you have any questions or require further information\, feel free to reach out to me at trishaw@nationoutside.org. \nThank you for your continued support\, and we look forward to seeing you at this event! \nTrisha Washburn\, Lansing Engagement Specialist\, Nation Outside
URL:https://myflr.org/event/nation-outside-chapter-meeting-3/
LOCATION:The Fledge (Lansing\, MI)\, 1300 Eureka Street\, Lansing\, MI\, 48912\, United States
CATEGORIES:Michigan
ATTACH;FMTTYPE=image/jpeg:https://eadn-wc05-15902914.nxedge.io/wp-content/uploads/2024/11/Lansing-11.21.24-Ch-Mtg-Flier.jpg
ORGANIZER;CN="Nation Outside":MAILTO:trishaw@nationoutside.org
END:VEVENT
BEGIN:VEVENT
DTSTART;TZID=America/Phoenix:20241017T170000
DTEND;TZID=America/Phoenix:20241017T183000
DTSTAMP:20260421T162544
CREATED:20241008T191042Z
LAST-MODIFIED:20241008T191042Z
UID:10036675-1729184400-1729189800@myflr.org
SUMMARY:Nation Outside Chapter Meeting
DESCRIPTION:Nation Outside is a statewide grassroots and advocacy organization entirely led by the justice impacted and the formerly incarcerated. Our mission is to drive policy and practice innovation that builds transformative systems of support for justice impacted families and communities. \nDuring this conversation\, we will delve into various barriers that members of our community face and explore potential solutions together. Whether it’s challenges related to access\, resources\, or systemic issues\, your perspective and input are invaluable as we work towards creating a more inclusive and supportive environment for all. \nAdditionally\, we will be discussing upcoming events and initiatives within the community. This is a great opportunity to learn more about how you can get involved and support these efforts. \nWe believe that collective action is key to driving positive change\, and your participation is crucial in shaping the future of our community. Your voice matters\, and we would be honored to have you join us for this important discussion. \nIf you have any questions or require further information\, feel free to reach out to me at trishaw@nationoutside.org. \nThank you for your continued support\, and we look forward to seeing you at this event! \nTrisha Washburn\, Lansing Engagement Specialist\, Nation Outside
URL:https://myflr.org/event/nation-outside-chapter-meeting-2/
LOCATION:The Fledge (Lansing\, MI)\, 1300 Eureka Street\, Lansing\, MI\, 48912\, United States
CATEGORIES:Michigan
ATTACH;FMTTYPE=image/jpeg:https://eadn-wc05-15902914.nxedge.io/wp-content/uploads/2024/10/October-2024-Chapter-Meeting-Flyer-.jpg
ORGANIZER;CN="Nation Outside":MAILTO:trishaw@nationoutside.org
END:VEVENT
BEGIN:VEVENT
DTSTART;TZID=America/Detroit:20240919T170000
DTEND;TZID=America/Detroit:20240919T183000
DTSTAMP:20260421T162544
CREATED:20240904T134144Z
LAST-MODIFIED:20240904T134827Z
UID:10033826-1726765200-1726770600@myflr.org
SUMMARY:Nation Outside Chapter Meeting
DESCRIPTION:Nation Outside is a statewide grassroots and advocacy organization entirely led by the justice impacted and the formerly incarcerated. Our mission is to drive policy and practice innovation that builds transformative systems of support for justice impacted families and communities. \nDuring this conversation\, we will delve into various barriers that members of our community face and explore potential solutions together. Whether it’s challenges related to access\, resources\, or systemic issues\, your perspective and input are invaluable as we work towards creating a more inclusive and supportive environment for all. \nAdditionally\, we will be discussing upcoming events and initiatives within the community. This is a great opportunity to learn more about how you can get involved and support these efforts. \nWe believe that collective action is key to driving positive change\, and your participation is crucial in shaping the future of our community. Your voice matters\, and we would be honored to have you join us for this important discussion. \nIf you have any questions or require further information\, feel free to reach out to me at Trisha@nationoutside.org \nThank you for your continued support\, and we look forward to seeing you at the event! \nTrisha Washburn\, Lansing Engagement Specialist\, Nation Outside
URL:https://myflr.org/event/nation-outside-chapter-meeting/
LOCATION:The Fledge (Lansing\, MI)\, 1300 Eureka Street\, Lansing\, MI\, 48912\, United States
CATEGORIES:Michigan
ATTACH;FMTTYPE=image/jpeg:https://eadn-wc05-15902914.nxedge.io/wp-content/uploads/2024/09/September-2024-Chapter-Meeting-Flyer.jpg
ORGANIZER;CN="Nation Outside":MAILTO:trishaw@nationoutside.org
END:VEVENT
END:VCALENDAR