
BEGIN:VCALENDAR
VERSION:2.0
PRODID:-//Family Life Radio - ECPv6.15.20//NONSGML v1.0//EN
CALSCALE:GREGORIAN
METHOD:PUBLISH
X-WR-CALNAME:Family Life Radio
X-ORIGINAL-URL:https://myflr.org
X-WR-CALDESC:Events for Family Life Radio
REFRESH-INTERVAL;VALUE=DURATION:PT1H
X-Robots-Tag:noindex
X-PUBLISHED-TTL:PT1H
BEGIN:VTIMEZONE
TZID:America/Phoenix
BEGIN:STANDARD
TZOFFSETFROM:-0700
TZOFFSETTO:-0700
TZNAME:MST
DTSTART:20240101T000000
END:STANDARD
END:VTIMEZONE
BEGIN:VEVENT
DTSTART;TZID=America/Phoenix:20260321T170000
DTEND;TZID=America/Phoenix:20260321T220000
DTSTAMP:20260421T175834
CREATED:20260311T172303Z
LAST-MODIFIED:20260311T172303Z
UID:10059089-1774112400-1774130400@myflr.org
SUMMARY:Kid in the Corner Hosts Annual Shatter the Stigma Gala
DESCRIPTION:Kid in the Corner’s Fifth Annual Shatter the Stigma Gala brings our community together for an evening rooted in purpose and hope. \nWith live entertainment\, inspiring speakers\, and opportunities to connect with others who care deeply about supporting youth mental health\, this is an evening filled with hope\, compassion\, and action. \nEvery ticket purchased and every sponsorship secured helps us continue our mission to provide students with the tools\, language\, and compassion they need to navigate mental health challenges and look out for one another. \nTogether\, we are creating spaces where young people feel seen\, heard\, and supported. \nWhen: Saturday\, March 21\, 2026\, from 5:00 – 10:00 p.m. \nWhere: Legacy Ballroom \n4530 E. Gold Dust Ave. \nPhoenix\, AZ 85028 \nLearn more and purchase tickets at https://www.kidinthecorner.org/shatterthestigmagala.
URL:https://myflr.org/event/kid-in-the-corner-hosts-annual-shatter-the-stigma-gala/
LOCATION:The Legacy Ballroom\, 4530 E. Gold Dust Ave.\, Phoenix\, AZ\, 85028\, United States
CATEGORIES:Arizona
ATTACH;FMTTYPE=image/png:https://eadn-wc05-15902914.nxedge.io/wp-content/uploads/2026/02/Screenshot-2026-02-24-154706.png
END:VEVENT
BEGIN:VEVENT
DTSTART;TZID=America/Phoenix:20250329T170000
DTEND;TZID=America/Phoenix:20250329T220000
DTSTAMP:20260421T175834
CREATED:20250220T035022Z
LAST-MODIFIED:20250220T035022Z
UID:10039887-1743267600-1743285600@myflr.org
SUMMARY:Save the Date for Kid in the Corner’s 4th Annual Shatter the Stigma Gala
DESCRIPTION:WHAT: Join Kid in the Corner for an evening of fine dining and entertainment while shattering the stigma about mental health awareness for today’s youth. \nWHO: Kid in the Corner welcomes supporters\, local leaders\, businesses and mental health professionals to join the evening’s activities. \nWHEN: Saturday\, March 29\, 2025\, from 5:00 – 10:00 p.m. \nWHERE: Legacy Ballroom\, 4530 E. Gold Dust Ave.\, Phoenix\, AZ 85028 \nWHY: Join Kid in the Corner for an impactful evening where guests will hear inspiring stories\, learn more about the organization’s mission\, and raise awareness for mental health support. \nStart the evening with a cocktail reception and live entertainment\, followed by a delectable dinner in the ballroom. After the program\, take part in a live auction supporting the Kid in the Corner mission. Guests will end the evening on the patio\, where they can enjoy coffee and dessert\, followed by music and dancing. \nTo learn more\, visit kidinthecorner.org/shatterthestigmagala. Sponsorship opportunities are available.
URL:https://myflr.org/event/save-the-date-for-kid-in-the-corners-4th-annual-shatter-the-stigma-gala/
LOCATION:The Legacy Ballroom\, 4530 E. Gold Dust Ave.\, Phoenix\, AZ\, 85028\, United States
CATEGORIES:Arizona
ATTACH;FMTTYPE=image/png:https://eadn-wc05-15902914.nxedge.io/wp-content/uploads/2025/02/Screenshot-2025-02-17-074451.png
END:VEVENT
END:VCALENDAR