
BEGIN:VCALENDAR
VERSION:2.0
PRODID:-//Family Life Radio - ECPv6.15.20//NONSGML v1.0//EN
CALSCALE:GREGORIAN
METHOD:PUBLISH
X-WR-CALNAME:Family Life Radio
X-ORIGINAL-URL:https://myflr.org
X-WR-CALDESC:Events for Family Life Radio
REFRESH-INTERVAL;VALUE=DURATION:PT1H
X-Robots-Tag:noindex
X-PUBLISHED-TTL:PT1H
BEGIN:VTIMEZONE
TZID:America/Phoenix
BEGIN:STANDARD
TZOFFSETFROM:-0700
TZOFFSETTO:-0700
TZNAME:MST
DTSTART:20240101T000000
END:STANDARD
END:VTIMEZONE
BEGIN:VEVENT
DTSTART;TZID=America/Phoenix:20251012T140000
DTEND;TZID=America/Phoenix:20251012T180000
DTSTAMP:20260421T121830
CREATED:20250915T195821Z
LAST-MODIFIED:20250915T195821Z
UID:10054060-1760277600-1760292000@myflr.org
SUMMARY:10th year church anniversary (Odessa)
DESCRIPTION:Celebrating 10 years of God’s faithfulness and his unwavering love. Mathew 16:18\, I tell you that you are Peter\, and on this rock I will build my church\, and the gates of Hades will not overcome it.\nMinistering Pastor Mila Omotoye\, Dr. Enakpene\, deacon Ope Sax\, and host Pastor Enitan & Gbemisola Falomo.
URL:https://myflr.org/event/10th-year-church-anniversary-odessa/
LOCATION:The Redeemed Christain Church of God \, Light House Parish\, 611 Vine Avenue\, Odessa\, TX\, 79763\, United States
CATEGORIES:Texas
ATTACH;FMTTYPE=image/jpeg:https://eadn-wc05-15902914.nxedge.io/wp-content/uploads/2025/09/a72fceb4-233a-401f-bbf2-c8b72fa02dab.jpeg
ORGANIZER;CN="RCCG%2C Light House Parish%2C Odessa Tx":MAILTO:rccglhp1@gmail .com
END:VEVENT
END:VCALENDAR