
BEGIN:VCALENDAR
VERSION:2.0
PRODID:-//Family Life Radio - ECPv6.15.20//NONSGML v1.0//EN
CALSCALE:GREGORIAN
METHOD:PUBLISH
X-WR-CALNAME:Family Life Radio
X-ORIGINAL-URL:https://myflr.org
X-WR-CALDESC:Events for Family Life Radio
REFRESH-INTERVAL;VALUE=DURATION:PT1H
X-Robots-Tag:noindex
X-PUBLISHED-TTL:PT1H
BEGIN:VTIMEZONE
TZID:America/Phoenix
BEGIN:STANDARD
TZOFFSETFROM:-0700
TZOFFSETTO:-0700
TZNAME:MST
DTSTART:20240101T000000
END:STANDARD
END:VTIMEZONE
BEGIN:VEVENT
DTSTART;TZID=America/Phoenix:20251214T180000
DTEND;TZID=America/Phoenix:20251215T200000
DTSTAMP:20260421T105042
CREATED:20251215T155124Z
LAST-MODIFIED:20251215T155124Z
UID:10057812-1765735200-1765828800@myflr.org
SUMMARY:Hayride Through Bethlehem - Perry
DESCRIPTION:Come take a hayride through a live nativity at The Way Baptist Church in Perry showcasing the real meaning of Christmas. Enjoy food trucks\, hot chocolate\, s’mores\, popcorn\, and a short movie under the stars.
URL:https://myflr.org/event/hayride-through-bethlehem-perry/
LOCATION:The Way Baptist Church\, 1964 Marshallville Road\, Perry\, GA\, 31036\, United States
CATEGORIES:Georgia
ATTACH;FMTTYPE=image/jpeg:https://eadn-wc05-15902914.nxedge.io/wp-content/uploads/2025/12/Hayride-Through-Bethlehem-Flyer.jpg
ORGANIZER;CN="The Way Baptist Church":MAILTO:thewaybaptistchurchperry@gmail.com
END:VEVENT
END:VCALENDAR