
BEGIN:VCALENDAR
VERSION:2.0
PRODID:-//Family Life Radio - ECPv6.15.20//NONSGML v1.0//EN
CALSCALE:GREGORIAN
METHOD:PUBLISH
X-ORIGINAL-URL:https://myflr.org
X-WR-CALDESC:Events for Family Life Radio
REFRESH-INTERVAL;VALUE=DURATION:PT1H
X-Robots-Tag:noindex
X-PUBLISHED-TTL:PT1H
BEGIN:VTIMEZONE
TZID:America/Phoenix
BEGIN:STANDARD
TZOFFSETFROM:-0700
TZOFFSETTO:-0700
TZNAME:MST
DTSTART:20240101T000000
END:STANDARD
END:VTIMEZONE
BEGIN:VEVENT
DTSTART;TZID=America/Phoenix:20250405T093000
DTEND;TZID=America/Phoenix:20250405T113000
DTSTAMP:20260421T145132
CREATED:20250122T135420Z
LAST-MODIFIED:20250122T135420Z
UID:10038811-1743845400-1743852600@myflr.org
SUMMARY:Choices Walk for Life
DESCRIPTION:Join us for the Choices Walk for Life on Saturday\, April 5\, 2025\, at the Tennessee Riverpark! This 1-mile walk is a fun and meaningful way to support life while enjoying time with your family\, friends\, and even your pets. Let’s walk together to celebrate hope and make an impact in our community.
URL:https://myflr.org/event/choices-walk-for-life/
LOCATION:Tennessee Riverpark (Chattanooga\, TN)\, 4301 Amnicola Hwy.\, Chattanooga\, TN\, 37402\, United States
CATEGORIES:Tennesee
ATTACH;FMTTYPE=image/png:https://eadn-wc05-15902914.nxedge.io/wp-content/uploads/2025/01/walk-for-life-tennessee.png
ORGANIZER;CN="Choices Pregnancy Resource Center":MAILTO:hwhitfield@choiceschattanooga.org
END:VEVENT
END:VCALENDAR