
BEGIN:VCALENDAR
VERSION:2.0
PRODID:-//Family Life Radio - ECPv6.15.20//NONSGML v1.0//EN
CALSCALE:GREGORIAN
METHOD:PUBLISH
X-WR-CALNAME:Family Life Radio
X-ORIGINAL-URL:https://myflr.org
X-WR-CALDESC:Events for Family Life Radio
REFRESH-INTERVAL;VALUE=DURATION:PT1H
X-Robots-Tag:noindex
X-PUBLISHED-TTL:PT1H
BEGIN:VTIMEZONE
TZID:America/Phoenix
BEGIN:STANDARD
TZOFFSETFROM:-0700
TZOFFSETTO:-0700
TZNAME:MST
DTSTART:20250101T000000
END:STANDARD
END:VTIMEZONE
BEGIN:VEVENT
DTSTART;TZID=America/Phoenix:20260426T093000
DTEND;TZID=America/Phoenix:20260426T130000
DTSTAMP:20260419T232120
CREATED:20260414T000425Z
LAST-MODIFIED:20260414T000425Z
UID:10060249-1777195800-1777208400@myflr.org
SUMMARY:3rd Annual A Better Way of Living TopGolf Tournament
DESCRIPTION:Our Annual TopGolf Fundraiser is dedicated to raising essential funds to support adults with developmental disabilities. Proceeds from this event help provide vital services\, resources\, and opportunities that promote independence\, community inclusion\, and overall quality of life. Through the generosity of participants and supporters\, this fundraiser plays a meaningful role in enhancing programs that empower individuals to reach their full potential while fostering a more inclusive and supportive community.\nWe Are also Actively searching for Sponsors for the event\,please contact us if you can help and for more details!
URL:https://myflr.org/event/3rd-annual-a-better-way-of-living-topgolf-tournament/
LOCATION:TopGolf Albuquerque\, 1600 Desert Surf Cir NE\, Albuquerque\, NM 87107\, Albuquerque\, NM\, 87107\, United States
CATEGORIES:New Mexico
ATTACH;FMTTYPE=image/jpeg:https://eadn-wc05-15902914.nxedge.io/wp-content/uploads/2026/04/1000002741.jpg
ORGANIZER;CN="A Better Way of Living Inc.":MAILTO:abwlfundraising@abetterwaynm.org
END:VEVENT
END:VCALENDAR