
BEGIN:VCALENDAR
VERSION:2.0
PRODID:-//Family Life Radio - ECPv6.15.20//NONSGML v1.0//EN
CALSCALE:GREGORIAN
METHOD:PUBLISH
X-ORIGINAL-URL:https://myflr.org
X-WR-CALDESC:Events for Family Life Radio
REFRESH-INTERVAL;VALUE=DURATION:PT1H
X-Robots-Tag:noindex
X-PUBLISHED-TTL:PT1H
BEGIN:VTIMEZONE
TZID:America/Detroit
BEGIN:DAYLIGHT
TZOFFSETFROM:-0500
TZOFFSETTO:-0400
TZNAME:EDT
DTSTART:20220313T070000
END:DAYLIGHT
BEGIN:STANDARD
TZOFFSETFROM:-0400
TZOFFSETTO:-0500
TZNAME:EST
DTSTART:20221106T060000
END:STANDARD
BEGIN:DAYLIGHT
TZOFFSETFROM:-0500
TZOFFSETTO:-0400
TZNAME:EDT
DTSTART:20230312T070000
END:DAYLIGHT
BEGIN:STANDARD
TZOFFSETFROM:-0400
TZOFFSETTO:-0500
TZNAME:EST
DTSTART:20231105T060000
END:STANDARD
BEGIN:DAYLIGHT
TZOFFSETFROM:-0500
TZOFFSETTO:-0400
TZNAME:EDT
DTSTART:20240310T070000
END:DAYLIGHT
BEGIN:STANDARD
TZOFFSETFROM:-0400
TZOFFSETTO:-0500
TZNAME:EST
DTSTART:20241103T060000
END:STANDARD
BEGIN:DAYLIGHT
TZOFFSETFROM:-0500
TZOFFSETTO:-0400
TZNAME:EDT
DTSTART:20250309T070000
END:DAYLIGHT
BEGIN:STANDARD
TZOFFSETFROM:-0400
TZOFFSETTO:-0500
TZNAME:EST
DTSTART:20251102T060000
END:STANDARD
BEGIN:DAYLIGHT
TZOFFSETFROM:-0500
TZOFFSETTO:-0400
TZNAME:EDT
DTSTART:20260308T070000
END:DAYLIGHT
BEGIN:STANDARD
TZOFFSETFROM:-0400
TZOFFSETTO:-0500
TZNAME:EST
DTSTART:20261101T060000
END:STANDARD
END:VTIMEZONE
BEGIN:VTIMEZONE
TZID:America/Phoenix
BEGIN:STANDARD
TZOFFSETFROM:-0700
TZOFFSETTO:-0700
TZNAME:MST
DTSTART:20230101T000000
END:STANDARD
END:VTIMEZONE
BEGIN:VEVENT
DTSTART;TZID=America/Detroit:20250811T173000
DTEND;TZID=America/Detroit:20250814T203000
DTSTAMP:20260421T191858
CREATED:20250717T201250Z
LAST-MODIFIED:20250717T201250Z
UID:10049193-1754933400-1755203400@myflr.org
SUMMARY:VBS
DESCRIPTION:Live It Out!\nDiscover How To Love Like Jesus
URL:https://myflr.org/event/vbs-4/2025-08-11/
LOCATION:Trinity Assembly of God (Mt. Morris\, MI)\, 4363 Mt. Morris Rd\, Mt. Morris\, MI\, 48458\, United States
CATEGORIES:Michigan
ATTACH;FMTTYPE=image/jpeg:https://eadn-wc05-15902914.nxedge.io/wp-content/uploads/2025/07/vbs-logo.jpg
ORGANIZER;CN="Trinity Assembly of God":MAILTO:office@trinitymm.org
END:VEVENT
BEGIN:VEVENT
DTSTART;TZID=America/Detroit:20250420T100000
DTEND;TZID=America/Detroit:20250420T113000
DTSTAMP:20260421T191858
CREATED:20250327T140513Z
LAST-MODIFIED:20250327T140513Z
UID:10040494-1745143200-1745148600@myflr.org
SUMMARY:Good Friday & Easter Service
DESCRIPTION:Join us for our Good Friday Service at Noon or 6pm\, April 18th\, and celebrate with us on Easter Sunday at 10am! We Look forward to seeing you there!
URL:https://myflr.org/event/good-friday-easter-service/
LOCATION:Trinity Assembly of God (Mt. Morris\, MI)\, 4363 Mt. Morris Rd\, Mt. Morris\, MI\, 48458\, United States
CATEGORIES:Michigan
ATTACH;FMTTYPE=image/png:https://eadn-wc05-15902914.nxedge.io/wp-content/uploads/2025/03/Social-Good-Friday-and-Easter-V2-4-18-25.png
ORGANIZER;CN="4363 W Mount Morris Rd%2C Mt Morris":MAILTO:office@trinitymm.rog
END:VEVENT
BEGIN:VEVENT
DTSTART;TZID=America/Phoenix:20250419T100000
DTEND;TZID=America/Phoenix:20250419T120000
DTSTAMP:20260421T191858
CREATED:20250328T141314Z
LAST-MODIFIED:20250328T141314Z
UID:10040493-1745056800-1745064000@myflr.org
SUMMARY:Trinity Easter Egg Hunt
DESCRIPTION:Join us for an EGG-citing Easter Egg Hunt! \nThousands of eggs to find for ages birth to 6th grade\, exciting games and prizes to win\, special appearances by therapy dogs\, fire trucks\, police cars\, and ambulances! \nBring your family and friends for a day of fun\, laughter and community spirit! Don’t forget your baskets!!!
URL:https://myflr.org/event/trinity-easter-egg-hunt/
LOCATION:Trinity Assembly of God (Mt. Morris\, MI)\, 4363 Mt. Morris Rd\, Mt. Morris\, MI\, 48458\, United States
CATEGORIES:Michigan
ATTACH;FMTTYPE=image/png:https://eadn-wc05-15902914.nxedge.io/wp-content/uploads/2025/03/SOCIAL-Easter-Egg-Hunt-4-19-25.png
END:VEVENT
BEGIN:VEVENT
DTSTART;TZID=America/Phoenix:20240302T180000
DTEND;TZID=America/Phoenix:20240302T210000
DTSTAMP:20260421T191858
CREATED:20240116T191503Z
LAST-MODIFIED:20240116T191503Z
UID:10019535-1709402400-1709413200@myflr.org
SUMMARY:“LIFT YOUR VOICE” TOUR with DAVID PHELPS & JASON CRABB – MT MORRIS
DESCRIPTION:The “Lift Your Voice” Tour 2024 \nDavid Phelps & Jason Crabb w/ Point of Grace & Mickey Bell \nSaturday\, March 2nd\, 2024 \nDoors open at 5:00 pm\nConcert starts at 6:00 pm \nVIP\, Artist Circle\, General Admission and Group Rates available. \nTicket and event info at: https://nextbiglive.ticketspice.com/the-lift-your-voice-tour-2024-flint-mi
URL:https://myflr.org/event/lift-your-voice-tour-with-david-phelps-jason-crabb-mt-morris/
LOCATION:Trinity Assembly of God (Mt. Morris\, MI)\, 4363 Mt. Morris Rd\, Mt. Morris\, MI\, 48458\, United States
CATEGORIES:Featured,Michigan
ATTACH;FMTTYPE=image/jpeg:https://eadn-wc05-15902914.nxedge.io/wp-content/uploads/2024/01/Lift-Your-Voice-Tour-SQ-v2.jpg
END:VEVENT
BEGIN:VEVENT
DTSTART;TZID=America/Detroit:20230729T100000
DTEND;TZID=America/Detroit:20230729T150000
DTSTAMP:20260421T191858
CREATED:20230627T201733Z
LAST-MODIFIED:20230629T173700Z
UID:10011323-1690624800-1690642800@myflr.org
SUMMARY:22:6 CAR SHOW AND SWAP MEET
DESCRIPTION:Trinity Assembly of God’s student ministries are hosting a car show and swap meet. If you have a car or motorcycle to show off\, please come on out. We are asking for $15 per car entry. There will be awards in 3 categories: People’s choice\, kid’s choice and oldest ride.\nThere will also be: Food trucks\, music\, bounce houses and door prizes. \nProceeds to benefit Trinity Student Ministries
URL:https://myflr.org/event/226-car-show-and-swap-meet/
LOCATION:Trinity Assembly of God (Mt. Morris\, MI)\, 4363 Mt. Morris Rd\, Mt. Morris\, MI\, 48458\, United States
CATEGORIES:Michigan
ATTACH;FMTTYPE=image/jpeg:https://eadn-wc05-15902914.nxedge.io/wp-content/uploads/2023/06/IMG_7493.jpg
END:VEVENT
END:VCALENDAR