
BEGIN:VCALENDAR
VERSION:2.0
PRODID:-//Family Life Radio - ECPv6.15.20//NONSGML v1.0//EN
CALSCALE:GREGORIAN
METHOD:PUBLISH
X-WR-CALNAME:Family Life Radio
X-ORIGINAL-URL:https://myflr.org
X-WR-CALDESC:Events for Family Life Radio
REFRESH-INTERVAL;VALUE=DURATION:PT1H
X-Robots-Tag:noindex
X-PUBLISHED-TTL:PT1H
BEGIN:VTIMEZONE
TZID:America/Phoenix
BEGIN:STANDARD
TZOFFSETFROM:-0700
TZOFFSETTO:-0700
TZNAME:MST
DTSTART:20220101T000000
END:STANDARD
END:VTIMEZONE
BEGIN:VEVENT
DTSTART;TZID=America/Phoenix:20260417T190000
DTEND;TZID=America/Phoenix:20260417T220000
DTSTAMP:20260421T174130
CREATED:20260128T165046Z
LAST-MODIFIED:20260128T165046Z
UID:10058163-1776452400-1776463200@myflr.org
SUMMARY:The Hope Nights Tour | Danny Gokey + We Are Messengers + Jon Reddick
DESCRIPTION:The Hope Nights Tour brings Danny Gokey\, We Are Messengers\, and Jon Reddick together for an evening built around light\, joy\, and the kind of hope that feels like a breath of fresh air. You’ll hear favorite songs like when Danny Gokey launches into “Haven’t Seen It Yet\,” or when the room fills from We Are Messengers’ “Wholehearted.” And of course\, the powerful shift in the room when Jon Reddick leads “God\, Turn It Around.” Gather your friends\, and come experience a worship night that feels a little like coming home. Hope is here – don’t miss it! \nTickets are officially ON SALE! We’re excited for you to step into an atmosphere filled with joy\, community\, and hope on Friday\, April 17 at Trinity Life Church. You’ll remember this night long after it’s over. Join Danny Gokey\, We Are Messengers\, and Jon Reddick for The Hope Nights Tour— a night of light\, joy\, and music that strengthens the heart. #HopeNightsTour \nSecure your seats now! – https://bit.ly/45g0mtW
URL:https://myflr.org/event/the-hope-nights-tour-danny-gokey-we-are-messengers-jon-reddick/2026-04-17/2/
LOCATION:Trinity Life Church\, 1930 S Wilmot Rd\, Tucson\, AZ\, 85711\, United States
CATEGORIES:Arizona
ATTACH;FMTTYPE=image/jpeg:https://eadn-wc05-15902914.nxedge.io/wp-content/uploads/2026/01/HopeNights_SP26_1920x1080_041726.jpg
ORGANIZER;CN="Awakening Events":MAILTO:https://www.awakeningevents.com/email
END:VEVENT
BEGIN:VEVENT
DTSTART;TZID=America/Phoenix:20260405T103000
DTEND;TZID=America/Phoenix:20260405T120000
DTSTAMP:20260421T174130
CREATED:20260313T212834Z
LAST-MODIFIED:20260313T212834Z
UID:10059960-1775385000-1775390400@myflr.org
SUMMARY:EASTER 2026 | TRINITY LIFE CHURCH
DESCRIPTION:Join us at Trinity Life Church this Easter Sunday\, April 5 at 10:30AM\, as we celebrate the Risen Savior! Be uplifted by the inspiring music of the Trinity Life Choir and a powerful resurrection message from Pastor Peter Kraft. Come and experience the hope and joy of Easter! \nTrinity Life Church\n1930 S. Wilmot Rd.\nTucson\, AZ 85750
URL:https://myflr.org/event/easter-2026-trinity-life-church/
LOCATION:Trinity Life Church\, 1930 S Wilmot Rd\, Tucson\, AZ\, 85711\, United States
CATEGORIES:Arizona
ATTACH;FMTTYPE=image/jpeg:https://eadn-wc05-15902914.nxedge.io/wp-content/uploads/2026/03/EASTER-FINAL-JPG-2.jpeg
ORGANIZER;CN="Trinity Life Church":MAILTO:office@trinitylifechurch.org
END:VEVENT
BEGIN:VEVENT
DTSTART;TZID=America/Phoenix:20260322T103000
DTEND;TZID=America/Phoenix:20260322T120000
DTSTAMP:20260421T174130
CREATED:20260311T172812Z
LAST-MODIFIED:20260311T172812Z
UID:10059001-1774175400-1774180800@myflr.org
SUMMARY:GORDON MOTE | IN CONCERT
DESCRIPTION:You are invited to Trinity Life Church on Sunday morning\, March 22\, at 10:30am for a special concert with blind pianist phenomenon GORDON MOTE! Gordon is a mult Dove Award-winning artist and Academy of Country Music Keyboard Player of the Year. He is a member of the Grand Ole Opry family and the former pianist for the Gaither Vocal Band. You won’t want to miss this free worship concert. Invite your friends and plan to join us!
URL:https://myflr.org/event/gordon-mote-in-concert/
LOCATION:Trinity Life Church\, 1930 S Wilmot Rd\, Tucson\, AZ\, 85711\, United States
CATEGORIES:Arizona
ATTACH;FMTTYPE=image/png:https://eadn-wc05-15902914.nxedge.io/wp-content/uploads/2026/02/Gordon-Mote-3.png
ORGANIZER;CN="Trinity Life Church":MAILTO:office@trinitylifechurch.org
END:VEVENT
BEGIN:VEVENT
DTSTART;TZID=America/Phoenix:20260111T160000
DTEND;TZID=America/Phoenix:20260111T173000
DTSTAMP:20260421T174130
CREATED:20260106T160327Z
LAST-MODIFIED:20260106T160327Z
UID:10057905-1768147200-1768152600@myflr.org
SUMMARY:JOIN OUR CHOIR! | TRINITY LIFE CHOIR
DESCRIPTION:🎶 Calling All Worshipers! 🎶 \nDo you love to sing and worship the Lord? THIS is your moment! We have a place for you in the TRINITY LIFE CHOIR. This dynamic\, multigenerational group of worshipers invites you to join us THIS SUNDAY\, JANUARY 11 at 4:00pm as we kickoff a brand-new and exciting season. There’s no audition required! \nWe hope to see you at 4:00PM in the SOUTH LEARNING CENTER at TRINITY LIFE CHURCH as we launch a new year of worship and praise. Come and be a part of something larger than yourself in the Trinity Life Choir! \nTrinity Life Church\n1930 S. Wilmot Rd\nTucson\, AZ 85711
URL:https://myflr.org/event/join-our-choir-trinity-life-choir/
LOCATION:Trinity Life Church\, 1930 S Wilmot Rd\, Tucson\, AZ\, 85711\, United States
CATEGORIES:Arizona
ATTACH;FMTTYPE=image/jpeg:https://eadn-wc05-15902914.nxedge.io/wp-content/uploads/2026/01/TLCHOIR.jpeg
ORGANIZER;CN="Trinity Life Church":MAILTO:office@trinitylifechurch.org
END:VEVENT
BEGIN:VEVENT
DTSTART;TZID=America/Phoenix:20251219T190000
DTEND;TZID=America/Phoenix:20251219T203000
DTSTAMP:20260421T174130
CREATED:20251112T203325Z
LAST-MODIFIED:20251120T175813Z
UID:10057280-1766170800-1766176200@myflr.org
SUMMARY:TUCSON CHRISTMAS SPECTACULAR
DESCRIPTION:Celebrate the Savior this season like never before as Trinity Life Church presents the Tucson Christmas Spectacular! Featuring the dynamic Trinity Life Choir\, the TLC Children’s Choir\, and a most worshipful LIVE NATIVITY depicting that glorious night when Christ was born. This 90-minute Christmas Celebration will surely put you and your family in the ultimate Christmas spirit. \nThere are two opportunities to attend this free event for our entire community and beyond. Make plans now to join us on Friday\, December 19 at 7:00pm and Sunday\, December 21 at 10:30am in the Main Sanctuary of Trinity Life Church as we celebrate the birth of King Jesus. Don’t miss the event of the season: Tucson Christmas Spectacular!
URL:https://myflr.org/event/tucson-christmas-spectacular/
LOCATION:Trinity Life Church\, 1930 S Wilmot Rd\, Tucson\, AZ\, 85711\, United States
CATEGORIES:Arizona,Featured
ATTACH;FMTTYPE=image/jpeg:https://eadn-wc05-15902914.nxedge.io/wp-content/uploads/2025/11/Christmas-Spectacular-revised.jpeg
ORGANIZER;CN="Trinity Life Church":MAILTO:office@trinitylifechurch.org
END:VEVENT
BEGIN:VEVENT
DTSTART;TZID=America/Phoenix:20250810T160000
DTEND;TZID=America/Phoenix:20250810T173000
DTSTAMP:20260421T174130
CREATED:20250731T005546Z
LAST-MODIFIED:20250731T005546Z
UID:10049799-1754841600-1754847000@myflr.org
SUMMARY:TRINITY LIFE CHOIR KICKOFF!
DESCRIPTION:???? Calling All Worshipers Across Tucson! \nIf you love to sing and have a heart for worship\, we invite you to be part of something powerful and life-giving! The Trinity Life Choir is kicking off a brand new season\, and you’re invited to be a part of our incredible choir family! \nNo audition required.\nAges 17 to 90 🙂\nWhether you’re a seasoned vocalist or just love gospel music\, come add your voice to a vibrant\, passionate community as part of the choir at Trinity Life Church. \n???? First rehearsal: Sunday\, August 10 at 4 PM\n???? Trinity Life Church\n1930 S Wilmot Rd\nTucson\, AZ 85750 \nCome be part of a choir that’s more than music — it’s ministry\, it’s family\, and it’s for YOU! \nContact the director – Dr. Tyler Brinson – for more information!\ntbrinson@trinitylifechurch.org
URL:https://myflr.org/event/trinity-life-choir-kickoff/
LOCATION:Trinity Life Church\, 1930 S Wilmot Rd\, Tucson\, AZ\, 85711\, United States
CATEGORIES:Arizona
ATTACH;FMTTYPE=image/jpeg:https://eadn-wc05-15902914.nxedge.io/wp-content/uploads/2025/07/Trinity-Life-Choir-New-Graphic.jpg
ORGANIZER;CN="Trinity Life Church":MAILTO:office@trinitylifechurch.org
END:VEVENT
BEGIN:VEVENT
DTSTART;TZID=America/Phoenix:20250629T103000
DTEND;TZID=America/Phoenix:20250629T120000
DTSTAMP:20260421T174130
CREATED:20250527T224413Z
LAST-MODIFIED:20250610T215525Z
UID:10044997-1751193000-1751198400@myflr.org
SUMMARY:FREEDOM 2025 with DOYLE DYKES
DESCRIPTION:Trinity Life Church invites you to join us for this year’s FREEDOM 2025 on SUNDAY\, JUNE 29 at 10:30AM in our Main Sanctuary. This worship celebration will feature special guest artist DOYLE DYKES (www.doyledykes.com)\, a world-renowned fingerstyle guitartist known for his faith-filled music and incomparable talent. Dykes has performed globally\, from the Grand Ole Opry to international stages around the world. His collaborations span icons like Les Paul\, Peter Frampton\, and Vince Gill\, solidifying his legacy in the music world. The service will also include a special tribute to those serving in our United States Armed Forces. Music will also be led by the incredible Trinity Life Choir as well as a special message from Senior Pastor Peter Kraft. Don’t miss this year’s FREEDOM 2025 at TRINITY LIFE CHURCH in Tucson\, AZ. Invite a Friend! \nDOYLE DYKES BIOGRAPHY\nDoyle Dykes is an American fingerstyle guitarist known for his amazing technique and wide range of styles\, including country\, gospel\, blues\, and folk. Born in 1954 in Jacksonville\, Florida\, he started playing guitar at a young age and was deeply influenced by players like Chet Atkins and Merle Travis. \nHe began his career playing with gospel groups and later performed with artists like Grandpa Jones of the Grand Ole Opry. Over the years\, Doyle has played around the world and released numerous albums\, including Fingerstyle Guitar\, Chameleon\, and Return of the Falcon. His performances often feature original compositions and creative takes on classics like “Amazing Grace.” \nDoyle is a devout Christian and often weaves his faith into his music and speaking. He wrote a book called The Lights of Marfa about his spiritual journey. Despite facing health challenges—including surgery that left him deaf in one ear—he continues to inspire audiences with his music and message. \nHe lives with his wife\, Rita\, and they have four children. One of his sons\, Caleb\, is also a guitarist.
URL:https://myflr.org/event/freedom-2025-with-doyle-dykes/
LOCATION:Trinity Life Church\, 1930 S Wilmot Rd\, Tucson\, AZ\, 85711\, United States
CATEGORIES:Arizona
ATTACH;FMTTYPE=image/jpeg:https://eadn-wc05-15902914.nxedge.io/wp-content/uploads/2025/05/Freedom2025_Tucson.jpg
ORGANIZER;CN="Trinity Life Church":MAILTO:office@trinitylifechurch.org
END:VEVENT
BEGIN:VEVENT
DTSTART;TZID=America/Phoenix:20241208T103000
DTEND;TZID=America/Phoenix:20241208T120000
DTSTAMP:20260421T174130
CREATED:20241125T204052Z
LAST-MODIFIED:20241125T204052Z
UID:10037458-1733653800-1733659200@myflr.org
SUMMARY:Gordon Mote is Coming to Trinity Life Church in Tucson!
DESCRIPTION:Gospel music singer/songwriter\, Gordon Mote\, will be ministering at Trinity Life Church in Tucson on Sunday\, December 8 @ 10:30am. This concert is free and open to everyone. With 15 solo recordings\, 21 Academy of Country Music Award nominations\, two Grammy nominations\, a Gospel Music Association Dove Award\, and 30 years of touring\, including 20 years as a solo artist\, Gordon Mote shows no signs of slowing down\, as he continues to blaze new trails and enjoy the faithfulness and goodness of God. Trinity Life Church is located at 1930 S. Wilmot Rd in Tucson.
URL:https://myflr.org/event/gordon-mote-is-coming-to-trinity-life-church-in-tucson/
LOCATION:Trinity Life Church\, 1930 S Wilmot Rd\, Tucson\, AZ\, 85711\, United States
CATEGORIES:Arizona
ATTACH;FMTTYPE=image/jpeg:https://eadn-wc05-15902914.nxedge.io/wp-content/uploads/2024/11/gordonmote.jpeg
END:VEVENT
BEGIN:VEVENT
DTSTART;TZID=America/Phoenix:20241004T190000
DTEND;TZID=America/Phoenix:20241004T210000
DTSTAMP:20260421T174130
CREATED:20240924T234547Z
LAST-MODIFIED:20240924T234547Z
UID:10036336-1728068400-1728075600@myflr.org
SUMMARY:Mark Lowry and Friends are Coming to Tucson!
DESCRIPTION:Singer\, songwriter\, author\, and humorist Mark Lowry is best known for penning the lyrics to the Christmas classic “Mary Did You Know?” and singing baritone for the GRAMMY© Award-winning Gaither Vocal Band for many years. Lowry\, who’s entertained audiences since he was 11 years old\, has a unique gift of communicating profound Biblical truths through music and storytelling. His life’s work features a large catalog of diverse projects including many videos\, books\, and CDs. \nJoining him are Endless Highway; a family comprised of Jason & Vanessa Griggs and their two children\, Jay & Allison. Endless Highway continually has singles on the Top 40 Gospel Music Charts.
URL:https://myflr.org/event/mark-lowry-and-friends-are-coming-to-tucson/
LOCATION:Trinity Life Church\, 1930 S Wilmot Rd\, Tucson\, AZ\, 85711\, United States
CATEGORIES:Arizona
ATTACH;FMTTYPE=image/jpeg:https://eadn-wc05-15902914.nxedge.io/wp-content/uploads/2024/09/MarkLowryFriendsHeader-1920x1037-1.jpg
ORGANIZER;CN="www.imcconcerts.com":MAILTO:office@trinitylifechurch.org
END:VEVENT
BEGIN:VEVENT
DTSTART;TZID=America/Phoenix:20240229T190000
DTEND;TZID=America/Phoenix:20240229T210000
DTSTAMP:20260421T174130
CREATED:20240118T230507Z
LAST-MODIFIED:20240118T230507Z
UID:10019557-1709233200-1709240400@myflr.org
SUMMARY:The Collingsworth Family @ Trinity Life Church / Tucson
DESCRIPTION:Excitement\, spiritual anointing\, family-emphasis\, and musical excellence are what you can expect to find when you step across the threshold of the auditorium for an Evening of Family Worship and Praise with The Collingsworth Family. Plan to bring the whole family for an incredible evening of ministry and music.
URL:https://myflr.org/event/the-collingsworth-family-trinity-life-church-tucson/
LOCATION:Trinity Life Church\, 1930 S Wilmot Rd\, Tucson\, AZ\, 85711\, United States
CATEGORIES:Arizona
ATTACH;FMTTYPE=image/jpeg:https://eadn-wc05-15902914.nxedge.io/wp-content/uploads/2024/01/collingsworth-3-scaled.jpg
END:VEVENT
BEGIN:VEVENT
DTSTART;TZID=America/Phoenix:20230827T103000
DTEND;TZID=America/Phoenix:20230827T200000
DTSTAMP:20260421T174130
CREATED:20230720T234109Z
LAST-MODIFIED:20230720T234109Z
UID:10012700-1693132200-1693166400@myflr.org
SUMMARY:Dr. Gary Thomas – When to Walk Away
DESCRIPTION:Gary Thomas draws from Jesus’ example to show that sometimes the best course of action in dealing with ‘toxic’ people is to just walk away. In the Gospels\, you will find that sometimes Jesus walked away from unreasonable people and at other times\, people walked away from him. He never ran after them trying to change their minds. \nMost of us have toxic individuals in our lives who drain us of our joy and peace. In these messages\, you’ll learn that you don’t have to spend your energy on these people. Instead\, you can walk toward healthy relationships that will encourage you and focus on the purpose that God has established for your life.
URL:https://myflr.org/event/dr-gary-thomas-when-to-walk-away/
LOCATION:Trinity Life Church\, 1930 S Wilmot Rd\, Tucson\, AZ\, 85711\, United States
CATEGORIES:Arizona
ATTACH;FMTTYPE=image/png:https://eadn-wc05-15902914.nxedge.io/wp-content/uploads/2023/07/gthomas.png
END:VEVENT
BEGIN:VEVENT
DTSTART;TZID=America/Phoenix:20230507T103000
DTEND;TZID=America/Phoenix:20230507T180000
DTSTAMP:20260421T174130
CREATED:20230411T195813Z
LAST-MODIFIED:20230411T195813Z
UID:10008726-1683455400-1683482400@myflr.org
SUMMARY:Gordon Mote in Concert @ Trinity Life Church/Tucson
DESCRIPTION:Gordon Mote will be in Concert @ Trinity Life Church in Tucson on Sunday\, May 7 @ both 10:30am AND 6pm! Blind from birth\, with 15 solo recordings\, 21 Academy of Country Music Award nominations\, two Grammy nominations\, a Gospel Music Association Dove Award\, and 30 years of touring\, including 20 years as a solo artist\, Gordon Mote has far surpassed any expectations he ever imagined while growing up in rural Alabama. The singer/songwriter/musician and three-time Academy of Country Music Keyboard/Piano Player of the Year has graced stages internationally with dozens of popular recording artists. Additionally\, he has shared the recording studio with even more singers\, serving as one of Nashville’s most sought-after producers and musicians. His progressive keyboard artistry and smooth\, rich vocal ability have made him a favorite among peers and music fans worldwide. Find out more about Gordon at https://www.gordonmote.com/
URL:https://myflr.org/event/gordon-mote-in-concert-trinity-life-church-tucson/
LOCATION:Trinity Life Church\, 1930 S Wilmot Rd\, Tucson\, AZ\, 85711\, United States
CATEGORIES:Arizona
ATTACH;FMTTYPE=image/jpeg:https://eadn-wc05-15902914.nxedge.io/wp-content/uploads/2023/04/CG2AE7022.jpeg
END:VEVENT
END:VCALENDAR