
BEGIN:VCALENDAR
VERSION:2.0
PRODID:-//Family Life Radio - ECPv6.15.20//NONSGML v1.0//EN
CALSCALE:GREGORIAN
METHOD:PUBLISH
X-WR-CALNAME:Family Life Radio
X-ORIGINAL-URL:https://myflr.org
X-WR-CALDESC:Events for Family Life Radio
REFRESH-INTERVAL;VALUE=DURATION:PT1H
X-Robots-Tag:noindex
X-PUBLISHED-TTL:PT1H
BEGIN:VTIMEZONE
TZID:America/Phoenix
BEGIN:STANDARD
TZOFFSETFROM:-0700
TZOFFSETTO:-0700
TZNAME:MST
DTSTART:20240101T000000
END:STANDARD
END:VTIMEZONE
BEGIN:VEVENT
DTSTART;TZID=America/Phoenix:20251114T190000
DTEND;TZID=America/Phoenix:20251114T220000
DTSTAMP:20260421T175829
CREATED:20250721T182603Z
LAST-MODIFIED:20250723T172743Z
UID:10049242-1763146800-1763157600@myflr.org
SUMMARY:Leanna Crawford live in concert for the 'Still Waters Tour' w/ special guest Cade Thompson
DESCRIPTION:Intentional Life Events and Compassion International present Leanna Crawford live in concert for the ‘Still Waters Tour’ with special guest Cade Thompson on November 14th at Trinity Life Church\, Tucson! \nFor the past two and half years\, the singer-songwriter from northwestern Washington\, Leanna Crawford\, has been writing\, touring and singing with some of the biggest names in the Christian music industry. She’s gained more experience than many artists do in a decade\, and while her music certainly displays the vocal and songwriting talent of a rising star in CCM\, her grounded and honest lyrics make her feel more friend than star and more approachable than untouchable. \n“I hope listeners feel that I care about them even if I don’t know them\,” says Crawford\, “that they would feel loved and encouraged.” With songs that speak honestly about doubt and insecurity as well as the hope Christ offers in our darkest moments\, Crawford’s listeners will find solace in her kind and wise words\, while tapping their feet along to contagious\, pop-inspired beats. \nAfter non-stop touring and racking up 25M streams for his sophomore album Empty Room\, Red Street Records artist Cade Thompson is poised to deliver his next phase of music to his growing fanbase. His CCM roots showcase his authentic voice and energetic spirit. After honing his craft sharing the stage with artists like Chris Tomlin\, TobyMac\, Newsboys\, and Michael W. Smith\, and leading worship weekly for young adults at his local church\, Thompson’s passion for sharing his faith remains at the forefront\, his songs an overflow of his genuine heart for the Lord. With 91M lifetime streams\, Thompson’s anticipated new music is set to release in 2025. \nCome see Leanna perform live at November 14th at Trinity Life Church\, Tucson with special guest Cade Thompson!!! \nhttps://www.universe.com/events/the-still-waters-tour-leanna-crawford-with-special-guest-cade-thompson-tickets-KMN0ZG?ref=Radio \nTickets on sale now!!!!
URL:https://myflr.org/event/leanna-crawford-live-in-concert-for-the-still-waters-tour-w-special-guest-cade-thompson/
LOCATION:Trinty Life Church\, 1930 S. Wilmot Road\, Tucson\, AZ\, 85711\, United States
CATEGORIES:Arizona,Featured
ATTACH;FMTTYPE=image/jpeg:https://eadn-wc05-15902914.nxedge.io/wp-content/uploads/2025/07/86C18158-0175-453A-A660-2939240129A3.jpg
END:VEVENT
END:VCALENDAR