
BEGIN:VCALENDAR
VERSION:2.0
PRODID:-//Family Life Radio - ECPv6.15.20//NONSGML v1.0//EN
CALSCALE:GREGORIAN
METHOD:PUBLISH
X-ORIGINAL-URL:https://myflr.org
X-WR-CALDESC:Events for Family Life Radio
REFRESH-INTERVAL;VALUE=DURATION:PT1H
X-Robots-Tag:noindex
X-PUBLISHED-TTL:PT1H
BEGIN:VTIMEZONE
TZID:America/Phoenix
BEGIN:STANDARD
TZOFFSETFROM:-0700
TZOFFSETTO:-0700
TZNAME:MST
DTSTART:20220101T000000
END:STANDARD
END:VTIMEZONE
BEGIN:VEVENT
DTSTART;TZID=America/Phoenix:20231111T190000
DTEND;TZID=America/Phoenix:20231111T220000
DTSTAMP:20260421T193241
CREATED:20230619T200909Z
LAST-MODIFIED:20230619T201003Z
UID:10011293-1699729200-1699740000@myflr.org
SUMMARY:MAC POWELL & FRIENDS
DESCRIPTION:Don’t miss the incredible opportunity to join Mac Powell & Friends for an unforgettable acoustic night of hits\, stories\, and faith! Prepare to be moved as Mac Powell\, along with Brandon Heath\, Jordan St. Cyr\, and Rhett Walker\, come together to deliver a musical experience like no other. \nIn this intimate concert setting\, you’ll feel the magic of a Nashville songwriters round\, where the artists will bare their souls and share the heartfelt stories behind the songs that have touched millions of lives. Get ready to be immersed in the beauty of their melodies and lyrics\, as these incredible performers weave a tapestry of faith\, inspiration\, and personal journeys.
URL:https://myflr.org/event/mac-powell-friends/
LOCATION:Turning Point Community Church (Macon\, GA)\, 1415 Bass Rd\, Macon\, GA\, 31210\, United States
CATEGORIES:Featured,Georgia
ATTACH;FMTTYPE=image/jpeg:https://eadn-wc05-15902914.nxedge.io/wp-content/uploads/2023/06/MPF_23_1080x1080_111123_generic.jpg
END:VEVENT
BEGIN:VEVENT
DTSTART;TZID=America/Phoenix:20231108T190000
DTEND;TZID=America/Phoenix:20231108T220000
DTSTAMP:20260421T193242
CREATED:20230911T133401Z
LAST-MODIFIED:20230911T133401Z
UID:10015308-1699470000-1699480800@myflr.org
SUMMARY:LYSA TERKEURST – YOU’RE GOING TO MAKE IT TOUR
DESCRIPTION:You’re invited to the You’re Going to Make It Tour with Lysa TerKeurst\, Dr. Joel Muddamalle\, and special guest Hope Darst. We’re all facing something. Whether it’s everyday stresses and tensions or the realities of navigating a hard season\, if we’re honest\, sometimes we just feel disconnected from the Lord. Lysa TerKeurst understands this struggle. That’s why she’s creating special nights during the month of November 2023 to provide a sacred space\, for women like you\, to simply show up\, soak in Truth and be reminded that there is hope beyond what you’re facing right now. These are going to be incredible one night events full of Biblical wisdom\, practical teaching and powerful worship that will be the balm your weary heart needs. Grab a friend and join us in a city near you! \nTicket Prices (Additional taxes & fees may apply; ticket prices subject to change) \nVIP: $75.00\nEarly Entry: $55.00\nGeneral Admission: $35.00 \nSCHEDULE (subject to change): \n5:00 PM – VIP doors open\n5:15 PM – Q&A begins\n5:45 PM – Early Entry doors\n6:00PM – General Admission doors open\n7:00PM – Concert begins \nEvent info: https://transparentproductions.com/events/lysa-terkeurst-youre-going-to-make-it-tour-macon-ga-november-8-2023/?t_id=MjAw \nTicket info: https://www.ticketweb.com/event/youre-going-to-make-it-turning-point-community-church-tickets/13368368?pl=transparentprod
URL:https://myflr.org/event/lysa-terkeurst-youre-going-to-make-it-tour/
LOCATION:Turning Point Community Church (Macon\, GA)\, 1415 Bass Rd\, Macon\, GA\, 31210\, United States
CATEGORIES:Featured,Georgia
ATTACH;FMTTYPE=image/jpeg:https://eadn-wc05-15902914.nxedge.io/wp-content/uploads/2023/09/LT_YGTMI_General_1080x1080.jpg
ORGANIZER;CN="Transparent Productions":MAILTO:info@transparentproductions.com
END:VEVENT
END:VCALENDAR