
BEGIN:VCALENDAR
VERSION:2.0
PRODID:-//Family Life Radio - ECPv6.15.20//NONSGML v1.0//EN
CALSCALE:GREGORIAN
METHOD:PUBLISH
X-ORIGINAL-URL:https://myflr.org
X-WR-CALDESC:Events for Family Life Radio
REFRESH-INTERVAL;VALUE=DURATION:PT1H
X-Robots-Tag:noindex
X-PUBLISHED-TTL:PT1H
BEGIN:VTIMEZONE
TZID:America/Phoenix
BEGIN:STANDARD
TZOFFSETFROM:-0700
TZOFFSETTO:-0700
TZNAME:MST
DTSTART:20240101T000000
END:STANDARD
END:VTIMEZONE
BEGIN:VEVENT
DTSTART;TZID=America/Phoenix:20250426T083000
DTEND;TZID=America/Phoenix:20250426T120000
DTSTAMP:20260421T195636
CREATED:20250313T223054Z
LAST-MODIFIED:20250313T223054Z
UID:10040284-1745656200-1745668800@myflr.org
SUMMARY:Flesh vs Spirit Testimonial Experience
DESCRIPTION:Come hear three amazing testimonies from three women who have learned HOW to put God’s Word into practice and were victorious! These ladies will share with you practical application of God’s Word. These are the stories you won’t hear in church. \nJennifer Lee Smith – Into the Light: The Way Out of Addiction – Jennifer will share her journey through addiction and discuss HOW the Lord set her free. This event is beneficial for individuals struggling with addiction and for the parents of those who are. \nBeth Trujillo – A Season of Anger That Resulted in Depression – Holding onto anger and bitterness can ultimately\nlead to depression. Beth will candidly share her journey through this difficult season and reveal HOW the Lord brought her freedom. \nMacrina Rethmel – it really that simple? Macrina will reveal how the Lord granted her insight into the Truth that her struggles were a direct result of her disobedience. Discover how embracing this realization can lead to profound repentance (change) in your own life!
URL:https://myflr.org/event/flesh-vs-spirit-testimonial-experience/
LOCATION:UNM Continuing Education Building Room D (Albuquerque\, NM)\, 1634 University Blvd. NE\, Albuquerque\, NM\, 87131\, United States
CATEGORIES:New Mexico
ATTACH;FMTTYPE=image/jpeg:https://eadn-wc05-15902914.nxedge.io/wp-content/uploads/2025/03/h-Instagram-Post.jpg
END:VEVENT
END:VCALENDAR