
BEGIN:VCALENDAR
VERSION:2.0
PRODID:-//Family Life Radio - ECPv6.15.20//NONSGML v1.0//EN
CALSCALE:GREGORIAN
METHOD:PUBLISH
X-ORIGINAL-URL:https://myflr.org
X-WR-CALDESC:Events for Family Life Radio
REFRESH-INTERVAL;VALUE=DURATION:PT1H
X-Robots-Tag:noindex
X-PUBLISHED-TTL:PT1H
BEGIN:VTIMEZONE
TZID:America/Phoenix
BEGIN:STANDARD
TZOFFSETFROM:-0700
TZOFFSETTO:-0700
TZNAME:MST
DTSTART:20230101T000000
END:STANDARD
END:VTIMEZONE
BEGIN:VEVENT
DTSTART;TZID=America/Phoenix:20250419T103000
DTEND;TZID=America/Phoenix:20250419T120000
DTSTAMP:20260421T141726
CREATED:20250408T130751Z
LAST-MODIFIED:20250408T130751Z
UID:10040933-1745058600-1745064000@myflr.org
SUMMARY:Easter Egg-stravaganza
DESCRIPTION:Join us for an exciting adventure that promises fun for the whole family! Mark your calendars for this year’s special event at our West Campus\, which will take place on Saturday\, April 19\, from 10:30 a.m. to noon. \nPrepare for a morning filled with engaging activities\, delightful surprises\, and plenty of egg-themed festivities. Whether you’re hunting for hidden treasures or enjoying festive treats\, there’s something for everyone to enjoy. Kids are welcome from ages 2-10\, we can’t wait to celebrate with you!
URL:https://myflr.org/event/easter-egg-stravaganza/
LOCATION:Grace Church – West Campus (Bay City\, MI)\, 4267 S. Two Mile Rd\, Bay City\, MI\, 48706\, United States
CATEGORIES:Michigan
ATTACH;FMTTYPE=image/jpeg:https://eadn-wc05-15902914.nxedge.io/wp-content/uploads/2025/04/Copy-of-ee-2025.jpg
END:VEVENT
BEGIN:VEVENT
DTSTART;TZID=America/Phoenix:20240330T103000
DTEND;TZID=America/Phoenix:20240330T120000
DTSTAMP:20260421T141726
CREATED:20240318T162337Z
LAST-MODIFIED:20240318T162337Z
UID:10020995-1711794600-1711800000@myflr.org
SUMMARY:Community Easter Egg Hunt
DESCRIPTION:Join us in a celebration of Easter with a Community Easter Egg Hunt\, Easter Egg Coloring Contest\, Easter ‘Tea Bag’ Object Lesson\, Egg and Spoon Race and Bunny Hop Race! We will have candy and fun from 10:30-12:00 on March 30th at Bay City’s Uptown area. Entry is FREE!
URL:https://myflr.org/event/community-easter-egg-hunt/
LOCATION:Grace Church – West Campus (Bay City\, MI)\, 4267 S. Two Mile Rd\, Bay City\, MI\, 48706\, United States
CATEGORIES:Michigan
ATTACH;FMTTYPE=image/png:https://eadn-wc05-15902914.nxedge.io/wp-content/uploads/2024/03/EEHunt-fb.png
ORGANIZER;CN="Grace Church (Bay City%2C MI)":MAILTO:info@gracechurchabq.org
END:VEVENT
END:VCALENDAR