
BEGIN:VCALENDAR
VERSION:2.0
PRODID:-//Family Life Radio - ECPv6.15.20//NONSGML v1.0//EN
CALSCALE:GREGORIAN
METHOD:PUBLISH
X-ORIGINAL-URL:https://myflr.org
X-WR-CALDESC:Events for Family Life Radio
REFRESH-INTERVAL;VALUE=DURATION:PT1H
X-Robots-Tag:noindex
X-PUBLISHED-TTL:PT1H
BEGIN:VTIMEZONE
TZID:America/Phoenix
BEGIN:STANDARD
TZOFFSETFROM:-0700
TZOFFSETTO:-0700
TZNAME:MST
DTSTART:20240101T000000
END:STANDARD
END:VTIMEZONE
BEGIN:VEVENT
DTSTART;TZID=America/Phoenix:20250405T080000
DTEND;TZID=America/Phoenix:20250405T103000
DTSTAMP:20260421T175728
CREATED:20250127T202334Z
LAST-MODIFIED:20250127T202334Z
UID:10038917-1743840000-1743849000@myflr.org
SUMMARY:Pregnancy Care Center-Walk for Life
DESCRIPTION:YOUR SUPPORT WILL HELP SAVE LIVES! \nLace up your shoes and bring the entire family for a fun filled morning as we walk for the pre-born and women and men who are facing an unplanned pregnancy. Join us as we celebrate all the Miracles that God is doing through the Pregnancy Care Center. Check in and registration begins at 8:15am and the walk will start at 8:45am. Come early and enjoy doughnuts\, vendor tables and fellowship. \nYour support will make a life-saving impact on families in our community and will help provide compassionate assistance to women and men who are facing an unplanned pregnancy. Our professional\, confidant\, and FREE services include: \nPregnancy testing and Options Counseling\nLimited OB Ultrasounds\nLearn and Earn Program and Parenting classes\nFatherhood program\nCommunity Referrals\nPost-Abortive Healing for men and women\nAdoption information\nEducation on sexual integrity and risk avoidance
URL:https://myflr.org/event/pregnancy-care-center-walk-for-life/
LOCATION:Valley Christian Schools\, 6900 W Galveston St\, Chandler\, AZ\, 85226\, United States
CATEGORIES:Arizona
ATTACH;FMTTYPE=image/jpeg:https://eadn-wc05-15902914.nxedge.io/wp-content/uploads/2025/01/Walk-for-Life-Banner-940px-x-492px.jpg
ORGANIZER;CN="Pregnancy Care Center":MAILTO:erin@pccchandler.com
END:VEVENT
END:VCALENDAR