
BEGIN:VCALENDAR
VERSION:2.0
PRODID:-//Family Life Radio - ECPv6.15.20//NONSGML v1.0//EN
CALSCALE:GREGORIAN
METHOD:PUBLISH
X-WR-CALNAME:Family Life Radio
X-ORIGINAL-URL:https://myflr.org
X-WR-CALDESC:Events for Family Life Radio
REFRESH-INTERVAL;VALUE=DURATION:PT1H
X-Robots-Tag:noindex
X-PUBLISHED-TTL:PT1H
BEGIN:VTIMEZONE
TZID:America/Detroit
BEGIN:DAYLIGHT
TZOFFSETFROM:-0500
TZOFFSETTO:-0400
TZNAME:EDT
DTSTART:20230312T070000
END:DAYLIGHT
BEGIN:STANDARD
TZOFFSETFROM:-0400
TZOFFSETTO:-0500
TZNAME:EST
DTSTART:20231105T060000
END:STANDARD
BEGIN:DAYLIGHT
TZOFFSETFROM:-0500
TZOFFSETTO:-0400
TZNAME:EDT
DTSTART:20240310T070000
END:DAYLIGHT
BEGIN:STANDARD
TZOFFSETFROM:-0400
TZOFFSETTO:-0500
TZNAME:EST
DTSTART:20241103T060000
END:STANDARD
BEGIN:DAYLIGHT
TZOFFSETFROM:-0500
TZOFFSETTO:-0400
TZNAME:EDT
DTSTART:20250309T070000
END:DAYLIGHT
BEGIN:STANDARD
TZOFFSETFROM:-0400
TZOFFSETTO:-0500
TZNAME:EST
DTSTART:20251102T060000
END:STANDARD
BEGIN:DAYLIGHT
TZOFFSETFROM:-0500
TZOFFSETTO:-0400
TZNAME:EDT
DTSTART:20260308T070000
END:DAYLIGHT
BEGIN:STANDARD
TZOFFSETFROM:-0400
TZOFFSETTO:-0500
TZNAME:EST
DTSTART:20261101T060000
END:STANDARD
BEGIN:DAYLIGHT
TZOFFSETFROM:-0500
TZOFFSETTO:-0400
TZNAME:EDT
DTSTART:20270314T070000
END:DAYLIGHT
BEGIN:STANDARD
TZOFFSETFROM:-0400
TZOFFSETTO:-0500
TZNAME:EST
DTSTART:20271107T060000
END:STANDARD
END:VTIMEZONE
BEGIN:VTIMEZONE
TZID:America/Phoenix
BEGIN:STANDARD
TZOFFSETFROM:-0700
TZOFFSETTO:-0700
TZNAME:MST
DTSTART:20220101T000000
END:STANDARD
END:VTIMEZONE
BEGIN:VEVENT
DTSTART;TZID=America/Detroit:20260404T190000
DTEND;TZID=America/Detroit:20260404T220000
DTSTAMP:20260421T032816
CREATED:20250618T171038Z
LAST-MODIFIED:20250626T195300Z
UID:10046222-1775329200-1775340000@myflr.org
SUMMARY:THIRD DAY 30TH ANNIVERSARY TOUR w/ ZACH WILLIAMS - GRAND RAPIDS
DESCRIPTION:SUN APR 4\, 2026   7:00pm @ Van Andel Arena in Grand Rapids \nOne Band. One Tour. One Last Time. \n\nFor the first time in years\, Third Day is reuniting to celebrate 30 years of music\, memories\, and moments that shaped Christian music. Whether you saw them live or wore out their CDs\, this is the show you’ve been waiting for! A one-time-only tour to experience it all again\, one unforgettable night! Don’t miss your moment — grab your seat today! \nTickets and info @ https://bit.ly/3HHgdc2
URL:https://myflr.org/event/third-day-30th-anniversary-tour-w-zach-williams-grand-rapids/
LOCATION:Van Andel Arena (Grand Rapids\, MI)\, 130 West Fulton\, Grand Rapids\, MI\, 49503\, United States
CATEGORIES:Featured,Michigan
ATTACH;FMTTYPE=image/jpeg:https://eadn-wc05-15902914.nxedge.io/wp-content/uploads/2025/06/Grand-Rapids-ThirdDay_SP26_1080x1080_040426_generic.jpg
ORGANIZER;CN="Awakening Events":MAILTO:https://www.awakeningevents.com/email
END:VEVENT
BEGIN:VEVENT
DTSTART;TZID=America/Detroit:20260308T170000
DTEND;TZID=America/Detroit:20260308T203000
DTSTAMP:20260421T032816
CREATED:20260107T183541Z
LAST-MODIFIED:20260107T183541Z
UID:10057917-1772989200-1773001800@myflr.org
SUMMARY:WINTER JAM – GRAND RAPIDS
DESCRIPTION:Winter Jam ’26 is coming to Grand Rapids!\nVan Andel Arena\nMarch 6\, 2025 5:00PM\nArtist line up: \nAnne Wilson\, Matthew West\, Katy Nichole\, Newsong\, Hulvey\, Disciple\, and Emerson Day \nPre-Jam: Jeremy Rosado\, Heath Brothers\, Cliff Preston \nSpeaker: Zane Black \nSCHEDULE \n3:00 PM – Jam Nation Entry\n4:00 PM – General Admission Entry\n4:00 PM – Pre-Show\n5:00 PM – Event begins \nReserve your spot at: www.JamTour.com \n$15 Donation at the door- NO TICKETS REQUIRED!! \n 
URL:https://myflr.org/event/winter-jam-grand-rapids-2/
LOCATION:Van Andel Arena (Grand Rapids\, MI)\, 130 West Fulton\, Grand Rapids\, MI\, 49503\, United States
CATEGORIES:Featured,Michigan
ATTACH;FMTTYPE=image/jpeg:https://eadn-wc05-15902914.nxedge.io/wp-content/uploads/2026/01/WinterJam26_1080x1080_Grand-Rapids_AnneWilson_3.8.jpg
END:VEVENT
BEGIN:VEVENT
DTSTART;TZID=America/Phoenix:20250119T170000
DTEND;TZID=America/Phoenix:20250119T203000
DTSTAMP:20260421T032816
CREATED:20241023T141736Z
LAST-MODIFIED:20241122T185401Z
UID:10037350-1737306000-1737318600@myflr.org
SUMMARY:WINTER JAM – GRAND RAPIDS
DESCRIPTION:Winter Jam ’25 is coming to Grand Rapids!\nVan Andel Arena\nJanuary 19\, 2025 5:00PM\nArtist line up: \nSkillet\, Anne Wilson\, Trip Lee\, Colton Dixon\, Newsong\, Micah Tyler \nPre-Jam: SEU Worship\, The Band Table\, We are Vessel \nSpeaker: Zane Black \n  \nJoin THE NATION for FREE & EARLY ADMISSION\, Exclusive T-Shirt\, Artist Q & A and more! \nReserve your spot at: www.JamTour.com \n$15 Donation at the door- NO TICKETS REQUIRED!! \n 
URL:https://myflr.org/event/winter-jam-grand-rapids/
LOCATION:Van Andel Arena (Grand Rapids\, MI)\, 130 West Fulton\, Grand Rapids\, MI\, 49503\, United States
CATEGORIES:Featured,Michigan
ATTACH;FMTTYPE=image/jpeg:https://eadn-wc05-15902914.nxedge.io/wp-content/uploads/2024/10/GR-Square.jpg
END:VEVENT
BEGIN:VEVENT
DTSTART;TZID=America/Detroit:20240310T170000
DTEND;TZID=America/Detroit:20240310T210000
DTSTAMP:20260421T032816
CREATED:20231221T150341Z
LAST-MODIFIED:20231227T163715Z
UID:10018727-1710090000-1710104400@myflr.org
SUMMARY:WINTER JAM ’24 GRAND RAPIDS
DESCRIPTION:Winter Jam Tour\, hosted by Newsong\, Christian music’s biggest tour\, is back for 2024 with headliners Crowder and Lecrae and a solid lineup of acts including CAIN\, Katy Nichole & Seventh Day Slumber. Featuring speaker Zane Black and special guest Joseph O’Brien. Join Jam Nation for early admission\, exclusive t-shirt\, artists Q&A & more. \nPre-Jam artists are SEU Worship\, John Wesley\, and Lin D. Zane Black is included as speaker and Joseph O’Brien as a special guest. \nTickets are not required. A donation of $15 at the door requested. \n\n\n\n\nJam Nation Entry: 3:00 PM \n\n\n\n\n\n\n\nGeneral Admission Entry: 4:00 PM \n\n\n\n\n\n\nPre-Show: 4:00 PM \n\n\n\n\n\n\n\nShow Starts: 5:00 PM
URL:https://myflr.org/event/winter-jam-24-grand-rapids/
LOCATION:Van Andel Arena (Grand Rapids\, MI)\, 130 West Fulton\, Grand Rapids\, MI\, 49503\, United States
CATEGORIES:Featured,Michigan
ATTACH;FMTTYPE=image/png:https://eadn-wc05-15902914.nxedge.io/wp-content/uploads/2023/12/WJ24-1080x1080-Square-Poster-with-City-Specifics_GRAND-RAPIDS_MI.png
END:VEVENT
BEGIN:VEVENT
DTSTART;TZID=America/Phoenix:20231107T080000
DTEND;TZID=America/Phoenix:20231107T170000
DTSTAMP:20260421T032816
CREATED:20231013T141207Z
LAST-MODIFIED:20231013T141207Z
UID:10016761-1699344000-1699376400@myflr.org
SUMMARY:NEEDTOBREATHE – THE CAVES WORLD TOUR – GRAND RAPIDS
DESCRIPTION:NEEDTOBREATHE: THE CAVES WORLD TOUR\nTue • Nov 07 • 7:00 PM\nVan Andel Arena\, Grand Rapids\, MI \nTicket info at: https://www.ticketmaster.com/event/08005EB7A7F019A3
URL:https://myflr.org/event/needtobreathe-the-caves-world-tour-grand-rapids/
LOCATION:Van Andel Arena (Grand Rapids\, MI)\, 130 West Fulton\, Grand Rapids\, MI\, 49503\, United States
CATEGORIES:Featured,Michigan
ATTACH;FMTTYPE=image/jpeg:https://eadn-wc05-15902914.nxedge.io/wp-content/uploads/2023/10/needtobreathe-caves-world-tour-1x1-GR.jpg
END:VEVENT
END:VCALENDAR