
BEGIN:VCALENDAR
VERSION:2.0
PRODID:-//Family Life Radio - ECPv6.15.20//NONSGML v1.0//EN
CALSCALE:GREGORIAN
METHOD:PUBLISH
X-WR-CALNAME:Family Life Radio
X-ORIGINAL-URL:https://myflr.org
X-WR-CALDESC:Events for Family Life Radio
REFRESH-INTERVAL;VALUE=DURATION:PT1H
X-Robots-Tag:noindex
X-PUBLISHED-TTL:PT1H
BEGIN:VTIMEZONE
TZID:America/Phoenix
BEGIN:STANDARD
TZOFFSETFROM:-0700
TZOFFSETTO:-0700
TZNAME:MST
DTSTART:20240101T000000
END:STANDARD
END:VTIMEZONE
BEGIN:VEVENT
DTSTART;TZID=America/Phoenix:20250302T180000
DTEND;TZID=America/Phoenix:20250302T193000
DTSTAMP:20260421T164643
CREATED:20250211T231055Z
LAST-MODIFIED:20250211T231055Z
UID:10039358-1740938400-1740943800@myflr.org
SUMMARY:2025 Joint Spring Concert
DESCRIPTION:80 member East Valley Chorale singing familiar sacred music accompanied by full orchestra. No charge; free will offering. Come be uplifted!
URL:https://myflr.org/event/2025-joint-spring-concert/
LOCATION:Velda Rose United Methodist Church\, 5540 E. Main St\, Mesa\, AZ\, United States
CATEGORIES:Arizona
ATTACH;FMTTYPE=image/jpeg:https://eadn-wc05-15902914.nxedge.io/wp-content/uploads/2025/02/IMG_6479-scaled.jpeg
ORGANIZER;CN="East Valley Chorale":MAILTO:eastvalleychorale@cox.net
END:VEVENT
END:VCALENDAR