
BEGIN:VCALENDAR
VERSION:2.0
PRODID:-//Family Life Radio - ECPv6.15.19//NONSGML v1.0//EN
CALSCALE:GREGORIAN
METHOD:PUBLISH
X-ORIGINAL-URL:https://myflr.org
X-WR-CALDESC:Events for Family Life Radio
REFRESH-INTERVAL;VALUE=DURATION:PT1H
X-Robots-Tag:noindex
X-PUBLISHED-TTL:PT1H
BEGIN:VTIMEZONE
TZID:America/Chicago
BEGIN:DAYLIGHT
TZOFFSETFROM:-0600
TZOFFSETTO:-0500
TZNAME:CDT
DTSTART:20250309T080000
END:DAYLIGHT
BEGIN:STANDARD
TZOFFSETFROM:-0500
TZOFFSETTO:-0600
TZNAME:CST
DTSTART:20251102T070000
END:STANDARD
BEGIN:DAYLIGHT
TZOFFSETFROM:-0600
TZOFFSETTO:-0500
TZNAME:CDT
DTSTART:20260308T080000
END:DAYLIGHT
BEGIN:STANDARD
TZOFFSETFROM:-0500
TZOFFSETTO:-0600
TZNAME:CST
DTSTART:20261101T070000
END:STANDARD
BEGIN:DAYLIGHT
TZOFFSETFROM:-0600
TZOFFSETTO:-0500
TZNAME:CDT
DTSTART:20270314T080000
END:DAYLIGHT
BEGIN:STANDARD
TZOFFSETFROM:-0500
TZOFFSETTO:-0600
TZNAME:CST
DTSTART:20271107T070000
END:STANDARD
END:VTIMEZONE
BEGIN:VEVENT
DTSTART;TZID=America/Chicago:20260530T090000
DTEND;TZID=America/Chicago:20260530T153000
DTSTAMP:20260419T112514
CREATED:20260326T154309Z
LAST-MODIFIED:20260326T154309Z
UID:10060022-1780131600-1780155000@myflr.org
SUMMARY:Women Veterans Engage Conference - Kansas
DESCRIPTION:Women Veterans Engage at VFW Post 56 \nIf you’re a woman veteran or currently serving\, this event was created with you in mind.\nWomen Veterans Engage is a one-day personal and professional development conference designed to bring women who have served together for meaningful connection\, practical growth\, and renewed purpose. Throughout the day\, you’ll hear from speakers\, engage in conversations that matter\, and explore ways to strengthen both your personal life and your professional path. \nThis isn’t just about networking\, it’s about community. It’s about being seen\, heard\, and supported by women who understand your journey. Together\, we’ll also look at how we can continue serving; not just in uniform\, but in our families\, workplaces\, and communities. \nJoin us at VFW Post 56 as we build something intentional\, empowering\, and lasting!
URL:https://myflr.org/event/women-veterans-engage-conference-kansas/2026-05-30/2/
LOCATION:vfw post 56\, 519 Cherokee St.\, Leavenworth\, KS\, 66048\, United States
CATEGORIES:Kansas
ATTACH;FMTTYPE=image/png:https://eadn-wc05-15902914.nxedge.io/wp-content/uploads/2026/03/IMG_4520.png
ORGANIZER;CN="women Veterans Committee%2C KS VFW":MAILTO:Kswomenvets@gmail.com
END:VEVENT
END:VCALENDAR