
BEGIN:VCALENDAR
VERSION:2.0
PRODID:-//Family Life Radio - ECPv6.15.20//NONSGML v1.0//EN
CALSCALE:GREGORIAN
METHOD:PUBLISH
X-WR-CALNAME:Family Life Radio
X-ORIGINAL-URL:https://myflr.org
X-WR-CALDESC:Events for Family Life Radio
REFRESH-INTERVAL;VALUE=DURATION:PT1H
X-Robots-Tag:noindex
X-PUBLISHED-TTL:PT1H
BEGIN:VTIMEZONE
TZID:America/Phoenix
BEGIN:STANDARD
TZOFFSETFROM:-0700
TZOFFSETTO:-0700
TZNAME:MST
DTSTART:20240101T000000
END:STANDARD
END:VTIMEZONE
BEGIN:VEVENT
DTSTART;TZID=America/Phoenix:20251219T180000
DTEND;TZID=America/Phoenix:20251219T200000
DTSTAMP:20260419T190024
CREATED:20251216T222418Z
LAST-MODIFIED:20251216T222418Z
UID:10057831-1766167200-1766174400@myflr.org
SUMMARY:Living Nativity
DESCRIPTION:Step into the Christmas story in a way you can see\, hear\, and feel. Our Living Nativity brings the night of Jesus’ birth to life with actors\, live animals\, and a walk-through story that points to the hope God sent into the world. Along the way\, enjoy popcorn\, hot chocolate\, a fire pit for making s’mores\, crafts for the kids\, and a festive spot for family Christmas photos. Everything is designed to give families a simple\, meaningful way to remember why Christ came. Invite a friend\, bring your family\, and make this part of your Christmas season. Join us December 18th and 19th from 6pm–8pm.
URL:https://myflr.org/event/living-nativity-5/2025-12-19/
LOCATION:Vista Church\, 5230 N Scottsdale Road\, Scottsdale\, AZ\, 85253\, United States
CATEGORIES:Arizona
ATTACH;FMTTYPE=image/png:https://eadn-wc05-15902914.nxedge.io/wp-content/uploads/2025/12/Living-Nativity-2025.png
END:VEVENT
BEGIN:VEVENT
DTSTART;TZID=America/Phoenix:20251213T190000
DTEND;TZID=America/Phoenix:20251213T203000
DTSTAMP:20260419T190024
CREATED:20251216T222653Z
LAST-MODIFIED:20251216T222653Z
UID:10057829-1765652400-1765657800@myflr.org
SUMMARY:“Unto Us” A Christmas Concert
DESCRIPTION:Vista Worship Ministry presents “Unto Us”\, a Christmas concert. We hope you will join us for this free family friendly event as we celebrate the true meaning of Christmas!\n*Delicious dessert reception to follow.
URL:https://myflr.org/event/unto-us-a-christmas-concert/2025-12-13/
LOCATION:Vista Church\, 5230 N Scottsdale Road\, Scottsdale\, AZ\, 85253\, United States
CATEGORIES:Arizona
ATTACH;FMTTYPE=image/jpeg:https://eadn-wc05-15902914.nxedge.io/wp-content/uploads/2025/12/Christmas-Concert-2025.jpeg
END:VEVENT
END:VCALENDAR