
BEGIN:VCALENDAR
VERSION:2.0
PRODID:-//Family Life Radio - ECPv6.15.20//NONSGML v1.0//EN
CALSCALE:GREGORIAN
METHOD:PUBLISH
X-ORIGINAL-URL:https://myflr.org
X-WR-CALDESC:Events for Family Life Radio
REFRESH-INTERVAL;VALUE=DURATION:PT1H
X-Robots-Tag:noindex
X-PUBLISHED-TTL:PT1H
BEGIN:VTIMEZONE
TZID:America/Phoenix
BEGIN:STANDARD
TZOFFSETFROM:-0700
TZOFFSETTO:-0700
TZNAME:MST
DTSTART:20250101T000000
END:STANDARD
END:VTIMEZONE
BEGIN:VEVENT
DTSTART;TZID=America/Phoenix:20260425T100000
DTEND;TZID=America/Phoenix:20260425T130000
DTSTAMP:20260419T172825
CREATED:20260414T175644Z
LAST-MODIFIED:20260414T181114Z
UID:10060266-1777111200-1777122000@myflr.org
SUMMARY:Hope on Fire
DESCRIPTION:HOPE ON FIRE!\nHope on Fire is a high-energy\, family-friendly community celebration bringing people together for fun\, connection\, and impact. Enjoy food\, vendors\, kids’ activities\, bounce houses\, firetruck and more—all while supporting homeless single mothers through The Bridge to Hope.
URL:https://myflr.org/event/hope-on-fire/
LOCATION:Vista Church\, 5230 N Scottsdale Road\, Scottsdale\, AZ\, 85253\, United States
CATEGORIES:Arizona
ATTACH;FMTTYPE=image/png:https://eadn-wc05-15902914.nxedge.io/wp-content/uploads/2026/04/designPreview.png
ORGANIZER;CN="The Bridge to Hope":MAILTO:amysue@b2hope.org
END:VEVENT
END:VCALENDAR